BEGIN:VCALENDAR
VERSION:2.0
PRODID:-//Brush Hill Cumberland Presbyterian Church - ECPv6.15.20//NONSGML v1.0//EN
CALSCALE:GREGORIAN
METHOD:PUBLISH
X-ORIGINAL-URL:https://brushhillchurch.org
X-WR-CALDESC:Events for Brush Hill Cumberland Presbyterian Church
REFRESH-INTERVAL;VALUE=DURATION:PT1H
X-Robots-Tag:noindex
X-PUBLISHED-TTL:PT1H
BEGIN:VTIMEZONE
TZID:America/Chicago
BEGIN:DAYLIGHT
TZOFFSETFROM:-0600
TZOFFSETTO:-0500
TZNAME:CDT
DTSTART:20260308T080000
END:DAYLIGHT
BEGIN:STANDARD
TZOFFSETFROM:-0500
TZOFFSETTO:-0600
TZNAME:CST
DTSTART:20261101T070000
END:STANDARD
BEGIN:DAYLIGHT
TZOFFSETFROM:-0600
TZOFFSETTO:-0500
TZNAME:CDT
DTSTART:20270314T080000
END:DAYLIGHT
BEGIN:STANDARD
TZOFFSETFROM:-0500
TZOFFSETTO:-0600
TZNAME:CST
DTSTART:20271107T070000
END:STANDARD
BEGIN:DAYLIGHT
TZOFFSETFROM:-0600
TZOFFSETTO:-0500
TZNAME:CDT
DTSTART:20280312T080000
END:DAYLIGHT
BEGIN:STANDARD
TZOFFSETFROM:-0500
TZOFFSETTO:-0600
TZNAME:CST
DTSTART:20281105T070000
END:STANDARD
END:VTIMEZONE
BEGIN:VEVENT
DTSTART;TZID=America/Chicago:20271003T090000
DTEND;TZID=America/Chicago:20271003T100000
DTSTAMP:20260419T225847
CREATED:20250930T163730Z
LAST-MODIFIED:20260310T232420Z
UID:10005001-1822554000-1822557600@brushhillchurch.org
SUMMARY:Community Hour
DESCRIPTION:Starting Sunday\, October 5\, 2025\, Brush Hill will be beginning a Community Hour at 9:00 am each Sunday for all those interested in learning more about one another and deepening our friendships as sisters and brothers in Christ. This time together will not be a Bible study\, though there will certainly be elements of our faith throughout it. It will be more focused on sharing our lives with one another. If you are curious about learning more\, please reach out to Megan Sanderson via email at sanderson.megan13@gmail.com.
URL:https://brushhillchurch.org/event/community-hour/2027-10-03/
LOCATION:Brush Hill Cumberland Presbyterian Church\, 3705 Brush Hill Road\, Nashville\, TN\, 37216\, United States
CATEGORIES:Church Groups,Worship
END:VEVENT
BEGIN:VEVENT
DTSTART;TZID=America/Chicago:20271005T180000
DTEND;TZID=America/Chicago:20271005T190000
DTSTAMP:20260419T225847
CREATED:20260409T173356Z
LAST-MODIFIED:20260409T173356Z
UID:10005342-1822759200-1822762800@brushhillchurch.org
SUMMARY:Men's Bible Study
DESCRIPTION:Men are welcome to join us for bible study on Tuesday evenings in the fellowship hall.
URL:https://brushhillchurch.org/event/mens-bible-study-3/2027-10-05/
LOCATION:Brush Hill Cumberland Presbyterian Church\, 3705 Brush Hill Road\, Nashville\, TN\, 37216\, United States
CATEGORIES:Church Groups
END:VEVENT
BEGIN:VEVENT
DTSTART;TZID=America/Chicago:20271010T090000
DTEND;TZID=America/Chicago:20271010T100000
DTSTAMP:20260419T225847
CREATED:20250930T163730Z
LAST-MODIFIED:20260310T232420Z
UID:10005002-1823158800-1823162400@brushhillchurch.org
SUMMARY:Community Hour
DESCRIPTION:Starting Sunday\, October 5\, 2025\, Brush Hill will be beginning a Community Hour at 9:00 am each Sunday for all those interested in learning more about one another and deepening our friendships as sisters and brothers in Christ. This time together will not be a Bible study\, though there will certainly be elements of our faith throughout it. It will be more focused on sharing our lives with one another. If you are curious about learning more\, please reach out to Megan Sanderson via email at sanderson.megan13@gmail.com.
URL:https://brushhillchurch.org/event/community-hour/2027-10-10/
LOCATION:Brush Hill Cumberland Presbyterian Church\, 3705 Brush Hill Road\, Nashville\, TN\, 37216\, United States
CATEGORIES:Church Groups,Worship
END:VEVENT
BEGIN:VEVENT
DTSTART;TZID=America/Chicago:20271012T180000
DTEND;TZID=America/Chicago:20271012T190000
DTSTAMP:20260419T225847
CREATED:20260409T173356Z
LAST-MODIFIED:20260409T173356Z
UID:10005343-1823364000-1823367600@brushhillchurch.org
SUMMARY:Men's Bible Study
DESCRIPTION:Men are welcome to join us for bible study on Tuesday evenings in the fellowship hall.
URL:https://brushhillchurch.org/event/mens-bible-study-3/2027-10-12/
LOCATION:Brush Hill Cumberland Presbyterian Church\, 3705 Brush Hill Road\, Nashville\, TN\, 37216\, United States
CATEGORIES:Church Groups
END:VEVENT
BEGIN:VEVENT
DTSTART;TZID=America/Chicago:20271017T090000
DTEND;TZID=America/Chicago:20271017T100000
DTSTAMP:20260419T225847
CREATED:20250930T163730Z
LAST-MODIFIED:20260310T232420Z
UID:10005003-1823763600-1823767200@brushhillchurch.org
SUMMARY:Community Hour
DESCRIPTION:Starting Sunday\, October 5\, 2025\, Brush Hill will be beginning a Community Hour at 9:00 am each Sunday for all those interested in learning more about one another and deepening our friendships as sisters and brothers in Christ. This time together will not be a Bible study\, though there will certainly be elements of our faith throughout it. It will be more focused on sharing our lives with one another. If you are curious about learning more\, please reach out to Megan Sanderson via email at sanderson.megan13@gmail.com.
URL:https://brushhillchurch.org/event/community-hour/2027-10-17/
LOCATION:Brush Hill Cumberland Presbyterian Church\, 3705 Brush Hill Road\, Nashville\, TN\, 37216\, United States
CATEGORIES:Church Groups,Worship
END:VEVENT
BEGIN:VEVENT
DTSTART;TZID=America/Chicago:20271019T180000
DTEND;TZID=America/Chicago:20271019T190000
DTSTAMP:20260419T225847
CREATED:20260409T173356Z
LAST-MODIFIED:20260409T173356Z
UID:10005344-1823968800-1823972400@brushhillchurch.org
SUMMARY:Men's Bible Study
DESCRIPTION:Men are welcome to join us for bible study on Tuesday evenings in the fellowship hall.
URL:https://brushhillchurch.org/event/mens-bible-study-3/2027-10-19/
LOCATION:Brush Hill Cumberland Presbyterian Church\, 3705 Brush Hill Road\, Nashville\, TN\, 37216\, United States
CATEGORIES:Church Groups
END:VEVENT
BEGIN:VEVENT
DTSTART;TZID=America/Chicago:20271024T090000
DTEND;TZID=America/Chicago:20271024T100000
DTSTAMP:20260419T225847
CREATED:20250930T163730Z
LAST-MODIFIED:20260310T232420Z
UID:10005004-1824368400-1824372000@brushhillchurch.org
SUMMARY:Community Hour
DESCRIPTION:Starting Sunday\, October 5\, 2025\, Brush Hill will be beginning a Community Hour at 9:00 am each Sunday for all those interested in learning more about one another and deepening our friendships as sisters and brothers in Christ. This time together will not be a Bible study\, though there will certainly be elements of our faith throughout it. It will be more focused on sharing our lives with one another. If you are curious about learning more\, please reach out to Megan Sanderson via email at sanderson.megan13@gmail.com.
URL:https://brushhillchurch.org/event/community-hour/2027-10-24/
LOCATION:Brush Hill Cumberland Presbyterian Church\, 3705 Brush Hill Road\, Nashville\, TN\, 37216\, United States
CATEGORIES:Church Groups,Worship
END:VEVENT
BEGIN:VEVENT
DTSTART;TZID=America/Chicago:20271026T180000
DTEND;TZID=America/Chicago:20271026T190000
DTSTAMP:20260419T225847
CREATED:20260409T173356Z
LAST-MODIFIED:20260409T173356Z
UID:10005345-1824573600-1824577200@brushhillchurch.org
SUMMARY:Men's Bible Study
DESCRIPTION:Men are welcome to join us for bible study on Tuesday evenings in the fellowship hall.
URL:https://brushhillchurch.org/event/mens-bible-study-3/2027-10-26/
LOCATION:Brush Hill Cumberland Presbyterian Church\, 3705 Brush Hill Road\, Nashville\, TN\, 37216\, United States
CATEGORIES:Church Groups
END:VEVENT
BEGIN:VEVENT
DTSTART;TZID=America/Chicago:20271031T090000
DTEND;TZID=America/Chicago:20271031T100000
DTSTAMP:20260419T225847
CREATED:20250930T163730Z
LAST-MODIFIED:20260310T232420Z
UID:10005005-1824973200-1824976800@brushhillchurch.org
SUMMARY:Community Hour
DESCRIPTION:Starting Sunday\, October 5\, 2025\, Brush Hill will be beginning a Community Hour at 9:00 am each Sunday for all those interested in learning more about one another and deepening our friendships as sisters and brothers in Christ. This time together will not be a Bible study\, though there will certainly be elements of our faith throughout it. It will be more focused on sharing our lives with one another. If you are curious about learning more\, please reach out to Megan Sanderson via email at sanderson.megan13@gmail.com.
URL:https://brushhillchurch.org/event/community-hour/2027-10-31/
LOCATION:Brush Hill Cumberland Presbyterian Church\, 3705 Brush Hill Road\, Nashville\, TN\, 37216\, United States
CATEGORIES:Church Groups,Worship
END:VEVENT
END:VCALENDAR