BEGIN:VCALENDAR
VERSION:2.0
PRODID:-//Brush Hill Cumberland Presbyterian Church - ECPv6.15.20//NONSGML v1.0//EN
CALSCALE:GREGORIAN
METHOD:PUBLISH
X-WR-CALNAME:Brush Hill Cumberland Presbyterian Church
X-ORIGINAL-URL:https://brushhillchurch.org
X-WR-CALDESC:Events for Brush Hill Cumberland Presbyterian Church
REFRESH-INTERVAL;VALUE=DURATION:PT1H
X-Robots-Tag:noindex
X-PUBLISHED-TTL:PT1H
BEGIN:VTIMEZONE
TZID:America/Chicago
BEGIN:DAYLIGHT
TZOFFSETFROM:-0600
TZOFFSETTO:-0500
TZNAME:CDT
DTSTART:20270314T080000
END:DAYLIGHT
BEGIN:STANDARD
TZOFFSETFROM:-0500
TZOFFSETTO:-0600
TZNAME:CST
DTSTART:20271107T070000
END:STANDARD
BEGIN:DAYLIGHT
TZOFFSETFROM:-0600
TZOFFSETTO:-0500
TZNAME:CDT
DTSTART:20280312T080000
END:DAYLIGHT
BEGIN:STANDARD
TZOFFSETFROM:-0500
TZOFFSETTO:-0600
TZNAME:CST
DTSTART:20281105T070000
END:STANDARD
BEGIN:DAYLIGHT
TZOFFSETFROM:-0600
TZOFFSETTO:-0500
TZNAME:CDT
DTSTART:20290311T080000
END:DAYLIGHT
BEGIN:STANDARD
TZOFFSETFROM:-0500
TZOFFSETTO:-0600
TZNAME:CST
DTSTART:20291104T070000
END:STANDARD
END:VTIMEZONE
BEGIN:VEVENT
DTSTART;TZID=America/Chicago:20280425T180000
DTEND;TZID=America/Chicago:20280425T190000
DTSTAMP:20260421T210241
CREATED:20260409T173356Z
LAST-MODIFIED:20260409T173356Z
UID:10005371-1840298400-1840302000@brushhillchurch.org
SUMMARY:Men's Bible Study
DESCRIPTION:Men are welcome to join us for bible study on Tuesday evenings in the fellowship hall.
URL:https://brushhillchurch.org/event/mens-bible-study-3/2028-04-25/
LOCATION:Brush Hill Cumberland Presbyterian Church\, 3705 Brush Hill Road\, Nashville\, TN\, 37216\, United States
CATEGORIES:Church Groups
END:VEVENT
BEGIN:VEVENT
DTSTART;TZID=America/Chicago:20280430T090000
DTEND;TZID=America/Chicago:20280430T100000
DTSTAMP:20260421T210241
CREATED:20250930T163730Z
LAST-MODIFIED:20260310T232420Z
UID:10005031-1840698000-1840701600@brushhillchurch.org
SUMMARY:Community Hour
DESCRIPTION:Starting Sunday\, October 5\, 2025\, Brush Hill will be beginning a Community Hour at 9:00 am each Sunday for all those interested in learning more about one another and deepening our friendships as sisters and brothers in Christ. This time together will not be a Bible study\, though there will certainly be elements of our faith throughout it. It will be more focused on sharing our lives with one another. If you are curious about learning more\, please reach out to Megan Sanderson via email at sanderson.megan13@gmail.com.
URL:https://brushhillchurch.org/event/community-hour/2028-04-30/
LOCATION:Brush Hill Cumberland Presbyterian Church\, 3705 Brush Hill Road\, Nashville\, TN\, 37216\, United States
CATEGORIES:Church Groups,Worship
END:VEVENT
BEGIN:VEVENT
DTSTART;TZID=America/Chicago:20280502T180000
DTEND;TZID=America/Chicago:20280502T190000
DTSTAMP:20260421T210241
CREATED:20260409T173356Z
LAST-MODIFIED:20260409T173356Z
UID:10005372-1840903200-1840906800@brushhillchurch.org
SUMMARY:Men's Bible Study
DESCRIPTION:Men are welcome to join us for bible study on Tuesday evenings in the fellowship hall.
URL:https://brushhillchurch.org/event/mens-bible-study-3/2028-05-02/
LOCATION:Brush Hill Cumberland Presbyterian Church\, 3705 Brush Hill Road\, Nashville\, TN\, 37216\, United States
CATEGORIES:Church Groups
END:VEVENT
BEGIN:VEVENT
DTSTART;TZID=America/Chicago:20280507T090000
DTEND;TZID=America/Chicago:20280507T100000
DTSTAMP:20260421T210241
CREATED:20250930T163730Z
LAST-MODIFIED:20260310T232420Z
UID:10005032-1841302800-1841306400@brushhillchurch.org
SUMMARY:Community Hour
DESCRIPTION:Starting Sunday\, October 5\, 2025\, Brush Hill will be beginning a Community Hour at 9:00 am each Sunday for all those interested in learning more about one another and deepening our friendships as sisters and brothers in Christ. This time together will not be a Bible study\, though there will certainly be elements of our faith throughout it. It will be more focused on sharing our lives with one another. If you are curious about learning more\, please reach out to Megan Sanderson via email at sanderson.megan13@gmail.com.
URL:https://brushhillchurch.org/event/community-hour/2028-05-07/
LOCATION:Brush Hill Cumberland Presbyterian Church\, 3705 Brush Hill Road\, Nashville\, TN\, 37216\, United States
CATEGORIES:Church Groups,Worship
END:VEVENT
BEGIN:VEVENT
DTSTART;TZID=America/Chicago:20280509T180000
DTEND;TZID=America/Chicago:20280509T190000
DTSTAMP:20260421T210241
CREATED:20260409T173356Z
LAST-MODIFIED:20260409T173356Z
UID:10005373-1841508000-1841511600@brushhillchurch.org
SUMMARY:Men's Bible Study
DESCRIPTION:Men are welcome to join us for bible study on Tuesday evenings in the fellowship hall.
URL:https://brushhillchurch.org/event/mens-bible-study-3/2028-05-09/
LOCATION:Brush Hill Cumberland Presbyterian Church\, 3705 Brush Hill Road\, Nashville\, TN\, 37216\, United States
CATEGORIES:Church Groups
END:VEVENT
BEGIN:VEVENT
DTSTART;TZID=America/Chicago:20280514T090000
DTEND;TZID=America/Chicago:20280514T100000
DTSTAMP:20260421T210241
CREATED:20250930T163730Z
LAST-MODIFIED:20260310T232420Z
UID:10005033-1841907600-1841911200@brushhillchurch.org
SUMMARY:Community Hour
DESCRIPTION:Starting Sunday\, October 5\, 2025\, Brush Hill will be beginning a Community Hour at 9:00 am each Sunday for all those interested in learning more about one another and deepening our friendships as sisters and brothers in Christ. This time together will not be a Bible study\, though there will certainly be elements of our faith throughout it. It will be more focused on sharing our lives with one another. If you are curious about learning more\, please reach out to Megan Sanderson via email at sanderson.megan13@gmail.com.
URL:https://brushhillchurch.org/event/community-hour/2028-05-14/
LOCATION:Brush Hill Cumberland Presbyterian Church\, 3705 Brush Hill Road\, Nashville\, TN\, 37216\, United States
CATEGORIES:Church Groups,Worship
END:VEVENT
BEGIN:VEVENT
DTSTART;TZID=America/Chicago:20280516T180000
DTEND;TZID=America/Chicago:20280516T190000
DTSTAMP:20260421T210241
CREATED:20260409T173356Z
LAST-MODIFIED:20260409T173356Z
UID:10005374-1842112800-1842116400@brushhillchurch.org
SUMMARY:Men's Bible Study
DESCRIPTION:Men are welcome to join us for bible study on Tuesday evenings in the fellowship hall.
URL:https://brushhillchurch.org/event/mens-bible-study-3/2028-05-16/
LOCATION:Brush Hill Cumberland Presbyterian Church\, 3705 Brush Hill Road\, Nashville\, TN\, 37216\, United States
CATEGORIES:Church Groups
END:VEVENT
BEGIN:VEVENT
DTSTART;TZID=America/Chicago:20280521T090000
DTEND;TZID=America/Chicago:20280521T100000
DTSTAMP:20260421T210241
CREATED:20250930T163730Z
LAST-MODIFIED:20260310T232420Z
UID:10005034-1842512400-1842516000@brushhillchurch.org
SUMMARY:Community Hour
DESCRIPTION:Starting Sunday\, October 5\, 2025\, Brush Hill will be beginning a Community Hour at 9:00 am each Sunday for all those interested in learning more about one another and deepening our friendships as sisters and brothers in Christ. This time together will not be a Bible study\, though there will certainly be elements of our faith throughout it. It will be more focused on sharing our lives with one another. If you are curious about learning more\, please reach out to Megan Sanderson via email at sanderson.megan13@gmail.com.
URL:https://brushhillchurch.org/event/community-hour/2028-05-21/
LOCATION:Brush Hill Cumberland Presbyterian Church\, 3705 Brush Hill Road\, Nashville\, TN\, 37216\, United States
CATEGORIES:Church Groups,Worship
END:VEVENT
BEGIN:VEVENT
DTSTART;TZID=America/Chicago:20280523T180000
DTEND;TZID=America/Chicago:20280523T190000
DTSTAMP:20260421T210241
CREATED:20260409T173356Z
LAST-MODIFIED:20260409T173356Z
UID:10005375-1842717600-1842721200@brushhillchurch.org
SUMMARY:Men's Bible Study
DESCRIPTION:Men are welcome to join us for bible study on Tuesday evenings in the fellowship hall.
URL:https://brushhillchurch.org/event/mens-bible-study-3/2028-05-23/
LOCATION:Brush Hill Cumberland Presbyterian Church\, 3705 Brush Hill Road\, Nashville\, TN\, 37216\, United States
CATEGORIES:Church Groups
END:VEVENT
BEGIN:VEVENT
DTSTART;TZID=America/Chicago:20280528T090000
DTEND;TZID=America/Chicago:20280528T100000
DTSTAMP:20260421T210241
CREATED:20250930T163730Z
LAST-MODIFIED:20260310T232420Z
UID:10005035-1843117200-1843120800@brushhillchurch.org
SUMMARY:Community Hour
DESCRIPTION:Starting Sunday\, October 5\, 2025\, Brush Hill will be beginning a Community Hour at 9:00 am each Sunday for all those interested in learning more about one another and deepening our friendships as sisters and brothers in Christ. This time together will not be a Bible study\, though there will certainly be elements of our faith throughout it. It will be more focused on sharing our lives with one another. If you are curious about learning more\, please reach out to Megan Sanderson via email at sanderson.megan13@gmail.com.
URL:https://brushhillchurch.org/event/community-hour/2028-05-28/
LOCATION:Brush Hill Cumberland Presbyterian Church\, 3705 Brush Hill Road\, Nashville\, TN\, 37216\, United States
CATEGORIES:Church Groups,Worship
END:VEVENT
BEGIN:VEVENT
DTSTART;TZID=America/Chicago:20280530T180000
DTEND;TZID=America/Chicago:20280530T190000
DTSTAMP:20260421T210241
CREATED:20260409T173356Z
LAST-MODIFIED:20260409T173356Z
UID:10005376-1843322400-1843326000@brushhillchurch.org
SUMMARY:Men's Bible Study
DESCRIPTION:Men are welcome to join us for bible study on Tuesday evenings in the fellowship hall.
URL:https://brushhillchurch.org/event/mens-bible-study-3/2028-05-30/
LOCATION:Brush Hill Cumberland Presbyterian Church\, 3705 Brush Hill Road\, Nashville\, TN\, 37216\, United States
CATEGORIES:Church Groups
END:VEVENT
BEGIN:VEVENT
DTSTART;TZID=America/Chicago:20280604T090000
DTEND;TZID=America/Chicago:20280604T100000
DTSTAMP:20260421T210241
CREATED:20250930T163730Z
LAST-MODIFIED:20260310T232420Z
UID:10005036-1843722000-1843725600@brushhillchurch.org
SUMMARY:Community Hour
DESCRIPTION:Starting Sunday\, October 5\, 2025\, Brush Hill will be beginning a Community Hour at 9:00 am each Sunday for all those interested in learning more about one another and deepening our friendships as sisters and brothers in Christ. This time together will not be a Bible study\, though there will certainly be elements of our faith throughout it. It will be more focused on sharing our lives with one another. If you are curious about learning more\, please reach out to Megan Sanderson via email at sanderson.megan13@gmail.com.
URL:https://brushhillchurch.org/event/community-hour/2028-06-04/
LOCATION:Brush Hill Cumberland Presbyterian Church\, 3705 Brush Hill Road\, Nashville\, TN\, 37216\, United States
CATEGORIES:Church Groups,Worship
END:VEVENT
BEGIN:VEVENT
DTSTART;TZID=America/Chicago:20280606T180000
DTEND;TZID=America/Chicago:20280606T190000
DTSTAMP:20260421T210241
CREATED:20260409T173356Z
LAST-MODIFIED:20260409T173356Z
UID:10005377-1843927200-1843930800@brushhillchurch.org
SUMMARY:Men's Bible Study
DESCRIPTION:Men are welcome to join us for bible study on Tuesday evenings in the fellowship hall.
URL:https://brushhillchurch.org/event/mens-bible-study-3/2028-06-06/
LOCATION:Brush Hill Cumberland Presbyterian Church\, 3705 Brush Hill Road\, Nashville\, TN\, 37216\, United States
CATEGORIES:Church Groups
END:VEVENT
BEGIN:VEVENT
DTSTART;TZID=America/Chicago:20280611T090000
DTEND;TZID=America/Chicago:20280611T100000
DTSTAMP:20260421T210241
CREATED:20250930T163730Z
LAST-MODIFIED:20260310T232420Z
UID:10005037-1844326800-1844330400@brushhillchurch.org
SUMMARY:Community Hour
DESCRIPTION:Starting Sunday\, October 5\, 2025\, Brush Hill will be beginning a Community Hour at 9:00 am each Sunday for all those interested in learning more about one another and deepening our friendships as sisters and brothers in Christ. This time together will not be a Bible study\, though there will certainly be elements of our faith throughout it. It will be more focused on sharing our lives with one another. If you are curious about learning more\, please reach out to Megan Sanderson via email at sanderson.megan13@gmail.com.
URL:https://brushhillchurch.org/event/community-hour/2028-06-11/
LOCATION:Brush Hill Cumberland Presbyterian Church\, 3705 Brush Hill Road\, Nashville\, TN\, 37216\, United States
CATEGORIES:Church Groups,Worship
END:VEVENT
BEGIN:VEVENT
DTSTART;TZID=America/Chicago:20280613T180000
DTEND;TZID=America/Chicago:20280613T190000
DTSTAMP:20260421T210241
CREATED:20260409T173356Z
LAST-MODIFIED:20260409T173356Z
UID:10005378-1844532000-1844535600@brushhillchurch.org
SUMMARY:Men's Bible Study
DESCRIPTION:Men are welcome to join us for bible study on Tuesday evenings in the fellowship hall.
URL:https://brushhillchurch.org/event/mens-bible-study-3/2028-06-13/
LOCATION:Brush Hill Cumberland Presbyterian Church\, 3705 Brush Hill Road\, Nashville\, TN\, 37216\, United States
CATEGORIES:Church Groups
END:VEVENT
BEGIN:VEVENT
DTSTART;TZID=America/Chicago:20280618T090000
DTEND;TZID=America/Chicago:20280618T100000
DTSTAMP:20260421T210241
CREATED:20250930T163730Z
LAST-MODIFIED:20260310T232420Z
UID:10005038-1844931600-1844935200@brushhillchurch.org
SUMMARY:Community Hour
DESCRIPTION:Starting Sunday\, October 5\, 2025\, Brush Hill will be beginning a Community Hour at 9:00 am each Sunday for all those interested in learning more about one another and deepening our friendships as sisters and brothers in Christ. This time together will not be a Bible study\, though there will certainly be elements of our faith throughout it. It will be more focused on sharing our lives with one another. If you are curious about learning more\, please reach out to Megan Sanderson via email at sanderson.megan13@gmail.com.
URL:https://brushhillchurch.org/event/community-hour/2028-06-18/
LOCATION:Brush Hill Cumberland Presbyterian Church\, 3705 Brush Hill Road\, Nashville\, TN\, 37216\, United States
CATEGORIES:Church Groups,Worship
END:VEVENT
BEGIN:VEVENT
DTSTART;TZID=America/Chicago:20280620T180000
DTEND;TZID=America/Chicago:20280620T190000
DTSTAMP:20260421T210241
CREATED:20260409T173356Z
LAST-MODIFIED:20260409T173356Z
UID:10005379-1845136800-1845140400@brushhillchurch.org
SUMMARY:Men's Bible Study
DESCRIPTION:Men are welcome to join us for bible study on Tuesday evenings in the fellowship hall.
URL:https://brushhillchurch.org/event/mens-bible-study-3/2028-06-20/
LOCATION:Brush Hill Cumberland Presbyterian Church\, 3705 Brush Hill Road\, Nashville\, TN\, 37216\, United States
CATEGORIES:Church Groups
END:VEVENT
BEGIN:VEVENT
DTSTART;TZID=America/Chicago:20280625T090000
DTEND;TZID=America/Chicago:20280625T100000
DTSTAMP:20260421T210241
CREATED:20250930T163730Z
LAST-MODIFIED:20260310T232420Z
UID:10005039-1845536400-1845540000@brushhillchurch.org
SUMMARY:Community Hour
DESCRIPTION:Starting Sunday\, October 5\, 2025\, Brush Hill will be beginning a Community Hour at 9:00 am each Sunday for all those interested in learning more about one another and deepening our friendships as sisters and brothers in Christ. This time together will not be a Bible study\, though there will certainly be elements of our faith throughout it. It will be more focused on sharing our lives with one another. If you are curious about learning more\, please reach out to Megan Sanderson via email at sanderson.megan13@gmail.com.
URL:https://brushhillchurch.org/event/community-hour/2028-06-25/
LOCATION:Brush Hill Cumberland Presbyterian Church\, 3705 Brush Hill Road\, Nashville\, TN\, 37216\, United States
CATEGORIES:Church Groups,Worship
END:VEVENT
BEGIN:VEVENT
DTSTART;TZID=America/Chicago:20280627T180000
DTEND;TZID=America/Chicago:20280627T190000
DTSTAMP:20260421T210241
CREATED:20260409T173356Z
LAST-MODIFIED:20260409T173356Z
UID:10005380-1845741600-1845745200@brushhillchurch.org
SUMMARY:Men's Bible Study
DESCRIPTION:Men are welcome to join us for bible study on Tuesday evenings in the fellowship hall.
URL:https://brushhillchurch.org/event/mens-bible-study-3/2028-06-27/
LOCATION:Brush Hill Cumberland Presbyterian Church\, 3705 Brush Hill Road\, Nashville\, TN\, 37216\, United States
CATEGORIES:Church Groups
END:VEVENT
BEGIN:VEVENT
DTSTART;TZID=America/Chicago:20280702T090000
DTEND;TZID=America/Chicago:20280702T100000
DTSTAMP:20260421T210241
CREATED:20250930T163730Z
LAST-MODIFIED:20260310T232420Z
UID:10005040-1846141200-1846144800@brushhillchurch.org
SUMMARY:Community Hour
DESCRIPTION:Starting Sunday\, October 5\, 2025\, Brush Hill will be beginning a Community Hour at 9:00 am each Sunday for all those interested in learning more about one another and deepening our friendships as sisters and brothers in Christ. This time together will not be a Bible study\, though there will certainly be elements of our faith throughout it. It will be more focused on sharing our lives with one another. If you are curious about learning more\, please reach out to Megan Sanderson via email at sanderson.megan13@gmail.com.
URL:https://brushhillchurch.org/event/community-hour/2028-07-02/
LOCATION:Brush Hill Cumberland Presbyterian Church\, 3705 Brush Hill Road\, Nashville\, TN\, 37216\, United States
CATEGORIES:Church Groups,Worship
END:VEVENT
BEGIN:VEVENT
DTSTART;TZID=America/Chicago:20280704T180000
DTEND;TZID=America/Chicago:20280704T190000
DTSTAMP:20260421T210241
CREATED:20260409T173356Z
LAST-MODIFIED:20260409T173356Z
UID:10005381-1846346400-1846350000@brushhillchurch.org
SUMMARY:Men's Bible Study
DESCRIPTION:Men are welcome to join us for bible study on Tuesday evenings in the fellowship hall.
URL:https://brushhillchurch.org/event/mens-bible-study-3/2028-07-04/
LOCATION:Brush Hill Cumberland Presbyterian Church\, 3705 Brush Hill Road\, Nashville\, TN\, 37216\, United States
CATEGORIES:Church Groups
END:VEVENT
BEGIN:VEVENT
DTSTART;TZID=America/Chicago:20280709T090000
DTEND;TZID=America/Chicago:20280709T100000
DTSTAMP:20260421T210241
CREATED:20250930T163730Z
LAST-MODIFIED:20260310T232420Z
UID:10005041-1846746000-1846749600@brushhillchurch.org
SUMMARY:Community Hour
DESCRIPTION:Starting Sunday\, October 5\, 2025\, Brush Hill will be beginning a Community Hour at 9:00 am each Sunday for all those interested in learning more about one another and deepening our friendships as sisters and brothers in Christ. This time together will not be a Bible study\, though there will certainly be elements of our faith throughout it. It will be more focused on sharing our lives with one another. If you are curious about learning more\, please reach out to Megan Sanderson via email at sanderson.megan13@gmail.com.
URL:https://brushhillchurch.org/event/community-hour/2028-07-09/
LOCATION:Brush Hill Cumberland Presbyterian Church\, 3705 Brush Hill Road\, Nashville\, TN\, 37216\, United States
CATEGORIES:Church Groups,Worship
END:VEVENT
BEGIN:VEVENT
DTSTART;TZID=America/Chicago:20280711T180000
DTEND;TZID=America/Chicago:20280711T190000
DTSTAMP:20260421T210241
CREATED:20260409T173356Z
LAST-MODIFIED:20260409T173356Z
UID:10005382-1846951200-1846954800@brushhillchurch.org
SUMMARY:Men's Bible Study
DESCRIPTION:Men are welcome to join us for bible study on Tuesday evenings in the fellowship hall.
URL:https://brushhillchurch.org/event/mens-bible-study-3/2028-07-11/
LOCATION:Brush Hill Cumberland Presbyterian Church\, 3705 Brush Hill Road\, Nashville\, TN\, 37216\, United States
CATEGORIES:Church Groups
END:VEVENT
BEGIN:VEVENT
DTSTART;TZID=America/Chicago:20280716T090000
DTEND;TZID=America/Chicago:20280716T100000
DTSTAMP:20260421T210241
CREATED:20250930T163730Z
LAST-MODIFIED:20260310T232420Z
UID:10005042-1847350800-1847354400@brushhillchurch.org
SUMMARY:Community Hour
DESCRIPTION:Starting Sunday\, October 5\, 2025\, Brush Hill will be beginning a Community Hour at 9:00 am each Sunday for all those interested in learning more about one another and deepening our friendships as sisters and brothers in Christ. This time together will not be a Bible study\, though there will certainly be elements of our faith throughout it. It will be more focused on sharing our lives with one another. If you are curious about learning more\, please reach out to Megan Sanderson via email at sanderson.megan13@gmail.com.
URL:https://brushhillchurch.org/event/community-hour/2028-07-16/
LOCATION:Brush Hill Cumberland Presbyterian Church\, 3705 Brush Hill Road\, Nashville\, TN\, 37216\, United States
CATEGORIES:Church Groups,Worship
END:VEVENT
BEGIN:VEVENT
DTSTART;TZID=America/Chicago:20280718T180000
DTEND;TZID=America/Chicago:20280718T190000
DTSTAMP:20260421T210241
CREATED:20260409T173356Z
LAST-MODIFIED:20260409T173356Z
UID:10005383-1847556000-1847559600@brushhillchurch.org
SUMMARY:Men's Bible Study
DESCRIPTION:Men are welcome to join us for bible study on Tuesday evenings in the fellowship hall.
URL:https://brushhillchurch.org/event/mens-bible-study-3/2028-07-18/
LOCATION:Brush Hill Cumberland Presbyterian Church\, 3705 Brush Hill Road\, Nashville\, TN\, 37216\, United States
CATEGORIES:Church Groups
END:VEVENT
BEGIN:VEVENT
DTSTART;TZID=America/Chicago:20280723T090000
DTEND;TZID=America/Chicago:20280723T100000
DTSTAMP:20260421T210241
CREATED:20250930T163730Z
LAST-MODIFIED:20260310T232420Z
UID:10005043-1847955600-1847959200@brushhillchurch.org
SUMMARY:Community Hour
DESCRIPTION:Starting Sunday\, October 5\, 2025\, Brush Hill will be beginning a Community Hour at 9:00 am each Sunday for all those interested in learning more about one another and deepening our friendships as sisters and brothers in Christ. This time together will not be a Bible study\, though there will certainly be elements of our faith throughout it. It will be more focused on sharing our lives with one another. If you are curious about learning more\, please reach out to Megan Sanderson via email at sanderson.megan13@gmail.com.
URL:https://brushhillchurch.org/event/community-hour/2028-07-23/
LOCATION:Brush Hill Cumberland Presbyterian Church\, 3705 Brush Hill Road\, Nashville\, TN\, 37216\, United States
CATEGORIES:Church Groups,Worship
END:VEVENT
BEGIN:VEVENT
DTSTART;TZID=America/Chicago:20280725T180000
DTEND;TZID=America/Chicago:20280725T190000
DTSTAMP:20260421T210241
CREATED:20260409T173356Z
LAST-MODIFIED:20260409T173356Z
UID:10005384-1848160800-1848164400@brushhillchurch.org
SUMMARY:Men's Bible Study
DESCRIPTION:Men are welcome to join us for bible study on Tuesday evenings in the fellowship hall.
URL:https://brushhillchurch.org/event/mens-bible-study-3/2028-07-25/
LOCATION:Brush Hill Cumberland Presbyterian Church\, 3705 Brush Hill Road\, Nashville\, TN\, 37216\, United States
CATEGORIES:Church Groups
END:VEVENT
BEGIN:VEVENT
DTSTART;TZID=America/Chicago:20280730T090000
DTEND;TZID=America/Chicago:20280730T100000
DTSTAMP:20260421T210241
CREATED:20250930T163730Z
LAST-MODIFIED:20260310T232420Z
UID:10005044-1848560400-1848564000@brushhillchurch.org
SUMMARY:Community Hour
DESCRIPTION:Starting Sunday\, October 5\, 2025\, Brush Hill will be beginning a Community Hour at 9:00 am each Sunday for all those interested in learning more about one another and deepening our friendships as sisters and brothers in Christ. This time together will not be a Bible study\, though there will certainly be elements of our faith throughout it. It will be more focused on sharing our lives with one another. If you are curious about learning more\, please reach out to Megan Sanderson via email at sanderson.megan13@gmail.com.
URL:https://brushhillchurch.org/event/community-hour/2028-07-30/
LOCATION:Brush Hill Cumberland Presbyterian Church\, 3705 Brush Hill Road\, Nashville\, TN\, 37216\, United States
CATEGORIES:Church Groups,Worship
END:VEVENT
BEGIN:VEVENT
DTSTART;TZID=America/Chicago:20280801T180000
DTEND;TZID=America/Chicago:20280801T190000
DTSTAMP:20260421T210241
CREATED:20260409T173356Z
LAST-MODIFIED:20260409T173356Z
UID:10005385-1848765600-1848769200@brushhillchurch.org
SUMMARY:Men's Bible Study
DESCRIPTION:Men are welcome to join us for bible study on Tuesday evenings in the fellowship hall.
URL:https://brushhillchurch.org/event/mens-bible-study-3/2028-08-01/
LOCATION:Brush Hill Cumberland Presbyterian Church\, 3705 Brush Hill Road\, Nashville\, TN\, 37216\, United States
CATEGORIES:Church Groups
END:VEVENT
BEGIN:VEVENT
DTSTART;TZID=America/Chicago:20280806T090000
DTEND;TZID=America/Chicago:20280806T100000
DTSTAMP:20260421T210241
CREATED:20250930T163730Z
LAST-MODIFIED:20260310T232420Z
UID:10005045-1849165200-1849168800@brushhillchurch.org
SUMMARY:Community Hour
DESCRIPTION:Starting Sunday\, October 5\, 2025\, Brush Hill will be beginning a Community Hour at 9:00 am each Sunday for all those interested in learning more about one another and deepening our friendships as sisters and brothers in Christ. This time together will not be a Bible study\, though there will certainly be elements of our faith throughout it. It will be more focused on sharing our lives with one another. If you are curious about learning more\, please reach out to Megan Sanderson via email at sanderson.megan13@gmail.com.
URL:https://brushhillchurch.org/event/community-hour/2028-08-06/
LOCATION:Brush Hill Cumberland Presbyterian Church\, 3705 Brush Hill Road\, Nashville\, TN\, 37216\, United States
CATEGORIES:Church Groups,Worship
END:VEVENT
END:VCALENDAR