BEGIN:VCALENDAR
VERSION:2.0
PRODID:-//Brush Hill Cumberland Presbyterian Church - ECPv6.15.20//NONSGML v1.0//EN
CALSCALE:GREGORIAN
METHOD:PUBLISH
X-WR-CALNAME:Brush Hill Cumberland Presbyterian Church
X-ORIGINAL-URL:https://brushhillchurch.org
X-WR-CALDESC:Events for Brush Hill Cumberland Presbyterian Church
REFRESH-INTERVAL;VALUE=DURATION:PT1H
X-Robots-Tag:noindex
X-PUBLISHED-TTL:PT1H
BEGIN:VTIMEZONE
TZID:America/Chicago
BEGIN:DAYLIGHT
TZOFFSETFROM:-0600
TZOFFSETTO:-0500
TZNAME:CDT
DTSTART:20280312T080000
END:DAYLIGHT
BEGIN:STANDARD
TZOFFSETFROM:-0500
TZOFFSETTO:-0600
TZNAME:CST
DTSTART:20281105T070000
END:STANDARD
BEGIN:DAYLIGHT
TZOFFSETFROM:-0600
TZOFFSETTO:-0500
TZNAME:CDT
DTSTART:20290311T080000
END:DAYLIGHT
BEGIN:STANDARD
TZOFFSETFROM:-0500
TZOFFSETTO:-0600
TZNAME:CST
DTSTART:20291104T070000
END:STANDARD
BEGIN:DAYLIGHT
TZOFFSETFROM:-0600
TZOFFSETTO:-0500
TZNAME:CDT
DTSTART:20300310T080000
END:DAYLIGHT
BEGIN:STANDARD
TZOFFSETFROM:-0500
TZOFFSETTO:-0600
TZNAME:CST
DTSTART:20301103T070000
END:STANDARD
END:VTIMEZONE
BEGIN:VEVENT
DTSTART;TZID=America/Chicago:20290130T180000
DTEND;TZID=America/Chicago:20290130T190000
DTSTAMP:20260422T120310
CREATED:20260409T173356Z
LAST-MODIFIED:20260409T173356Z
UID:10005411-1864490400-1864494000@brushhillchurch.org
SUMMARY:Men's Bible Study
DESCRIPTION:Men are welcome to join us for bible study on Tuesday evenings in the fellowship hall.
URL:https://brushhillchurch.org/event/mens-bible-study-3/2029-01-30/
LOCATION:Brush Hill Cumberland Presbyterian Church\, 3705 Brush Hill Road\, Nashville\, TN\, 37216\, United States
CATEGORIES:Church Groups
END:VEVENT
BEGIN:VEVENT
DTSTART;TZID=America/Chicago:20290204T090000
DTEND;TZID=America/Chicago:20290204T100000
DTSTAMP:20260422T120310
CREATED:20250930T163730Z
LAST-MODIFIED:20260310T232420Z
UID:10005071-1864890000-1864893600@brushhillchurch.org
SUMMARY:Community Hour
DESCRIPTION:Starting Sunday\, October 5\, 2025\, Brush Hill will be beginning a Community Hour at 9:00 am each Sunday for all those interested in learning more about one another and deepening our friendships as sisters and brothers in Christ. This time together will not be a Bible study\, though there will certainly be elements of our faith throughout it. It will be more focused on sharing our lives with one another. If you are curious about learning more\, please reach out to Megan Sanderson via email at sanderson.megan13@gmail.com.
URL:https://brushhillchurch.org/event/community-hour/2029-02-04/
LOCATION:Brush Hill Cumberland Presbyterian Church\, 3705 Brush Hill Road\, Nashville\, TN\, 37216\, United States
CATEGORIES:Church Groups,Worship
END:VEVENT
BEGIN:VEVENT
DTSTART;TZID=America/Chicago:20290206T180000
DTEND;TZID=America/Chicago:20290206T190000
DTSTAMP:20260422T120310
CREATED:20260409T173356Z
LAST-MODIFIED:20260409T173356Z
UID:10005412-1865095200-1865098800@brushhillchurch.org
SUMMARY:Men's Bible Study
DESCRIPTION:Men are welcome to join us for bible study on Tuesday evenings in the fellowship hall.
URL:https://brushhillchurch.org/event/mens-bible-study-3/2029-02-06/
LOCATION:Brush Hill Cumberland Presbyterian Church\, 3705 Brush Hill Road\, Nashville\, TN\, 37216\, United States
CATEGORIES:Church Groups
END:VEVENT
BEGIN:VEVENT
DTSTART;TZID=America/Chicago:20290211T090000
DTEND;TZID=America/Chicago:20290211T100000
DTSTAMP:20260422T120310
CREATED:20250930T163730Z
LAST-MODIFIED:20260310T232420Z
UID:10005072-1865494800-1865498400@brushhillchurch.org
SUMMARY:Community Hour
DESCRIPTION:Starting Sunday\, October 5\, 2025\, Brush Hill will be beginning a Community Hour at 9:00 am each Sunday for all those interested in learning more about one another and deepening our friendships as sisters and brothers in Christ. This time together will not be a Bible study\, though there will certainly be elements of our faith throughout it. It will be more focused on sharing our lives with one another. If you are curious about learning more\, please reach out to Megan Sanderson via email at sanderson.megan13@gmail.com.
URL:https://brushhillchurch.org/event/community-hour/2029-02-11/
LOCATION:Brush Hill Cumberland Presbyterian Church\, 3705 Brush Hill Road\, Nashville\, TN\, 37216\, United States
CATEGORIES:Church Groups,Worship
END:VEVENT
BEGIN:VEVENT
DTSTART;TZID=America/Chicago:20290213T180000
DTEND;TZID=America/Chicago:20290213T190000
DTSTAMP:20260422T120310
CREATED:20260409T173356Z
LAST-MODIFIED:20260409T173356Z
UID:10005413-1865700000-1865703600@brushhillchurch.org
SUMMARY:Men's Bible Study
DESCRIPTION:Men are welcome to join us for bible study on Tuesday evenings in the fellowship hall.
URL:https://brushhillchurch.org/event/mens-bible-study-3/2029-02-13/
LOCATION:Brush Hill Cumberland Presbyterian Church\, 3705 Brush Hill Road\, Nashville\, TN\, 37216\, United States
CATEGORIES:Church Groups
END:VEVENT
BEGIN:VEVENT
DTSTART;TZID=America/Chicago:20290218T090000
DTEND;TZID=America/Chicago:20290218T100000
DTSTAMP:20260422T120310
CREATED:20250930T163730Z
LAST-MODIFIED:20260310T232420Z
UID:10005073-1866099600-1866103200@brushhillchurch.org
SUMMARY:Community Hour
DESCRIPTION:Starting Sunday\, October 5\, 2025\, Brush Hill will be beginning a Community Hour at 9:00 am each Sunday for all those interested in learning more about one another and deepening our friendships as sisters and brothers in Christ. This time together will not be a Bible study\, though there will certainly be elements of our faith throughout it. It will be more focused on sharing our lives with one another. If you are curious about learning more\, please reach out to Megan Sanderson via email at sanderson.megan13@gmail.com.
URL:https://brushhillchurch.org/event/community-hour/2029-02-18/
LOCATION:Brush Hill Cumberland Presbyterian Church\, 3705 Brush Hill Road\, Nashville\, TN\, 37216\, United States
CATEGORIES:Church Groups,Worship
END:VEVENT
BEGIN:VEVENT
DTSTART;TZID=America/Chicago:20290220T180000
DTEND;TZID=America/Chicago:20290220T190000
DTSTAMP:20260422T120310
CREATED:20260409T173356Z
LAST-MODIFIED:20260409T173356Z
UID:10005414-1866304800-1866308400@brushhillchurch.org
SUMMARY:Men's Bible Study
DESCRIPTION:Men are welcome to join us for bible study on Tuesday evenings in the fellowship hall.
URL:https://brushhillchurch.org/event/mens-bible-study-3/2029-02-20/
LOCATION:Brush Hill Cumberland Presbyterian Church\, 3705 Brush Hill Road\, Nashville\, TN\, 37216\, United States
CATEGORIES:Church Groups
END:VEVENT
BEGIN:VEVENT
DTSTART;TZID=America/Chicago:20290225T090000
DTEND;TZID=America/Chicago:20290225T100000
DTSTAMP:20260422T120310
CREATED:20250930T163730Z
LAST-MODIFIED:20260310T232420Z
UID:10005074-1866704400-1866708000@brushhillchurch.org
SUMMARY:Community Hour
DESCRIPTION:Starting Sunday\, October 5\, 2025\, Brush Hill will be beginning a Community Hour at 9:00 am each Sunday for all those interested in learning more about one another and deepening our friendships as sisters and brothers in Christ. This time together will not be a Bible study\, though there will certainly be elements of our faith throughout it. It will be more focused on sharing our lives with one another. If you are curious about learning more\, please reach out to Megan Sanderson via email at sanderson.megan13@gmail.com.
URL:https://brushhillchurch.org/event/community-hour/2029-02-25/
LOCATION:Brush Hill Cumberland Presbyterian Church\, 3705 Brush Hill Road\, Nashville\, TN\, 37216\, United States
CATEGORIES:Church Groups,Worship
END:VEVENT
BEGIN:VEVENT
DTSTART;TZID=America/Chicago:20290227T180000
DTEND;TZID=America/Chicago:20290227T190000
DTSTAMP:20260422T120310
CREATED:20260409T173356Z
LAST-MODIFIED:20260409T173356Z
UID:10005415-1866909600-1866913200@brushhillchurch.org
SUMMARY:Men's Bible Study
DESCRIPTION:Men are welcome to join us for bible study on Tuesday evenings in the fellowship hall.
URL:https://brushhillchurch.org/event/mens-bible-study-3/2029-02-27/
LOCATION:Brush Hill Cumberland Presbyterian Church\, 3705 Brush Hill Road\, Nashville\, TN\, 37216\, United States
CATEGORIES:Church Groups
END:VEVENT
BEGIN:VEVENT
DTSTART;TZID=America/Chicago:20290304T090000
DTEND;TZID=America/Chicago:20290304T100000
DTSTAMP:20260422T120310
CREATED:20250930T163730Z
LAST-MODIFIED:20260310T232420Z
UID:10005075-1867309200-1867312800@brushhillchurch.org
SUMMARY:Community Hour
DESCRIPTION:Starting Sunday\, October 5\, 2025\, Brush Hill will be beginning a Community Hour at 9:00 am each Sunday for all those interested in learning more about one another and deepening our friendships as sisters and brothers in Christ. This time together will not be a Bible study\, though there will certainly be elements of our faith throughout it. It will be more focused on sharing our lives with one another. If you are curious about learning more\, please reach out to Megan Sanderson via email at sanderson.megan13@gmail.com.
URL:https://brushhillchurch.org/event/community-hour/2029-03-04/
LOCATION:Brush Hill Cumberland Presbyterian Church\, 3705 Brush Hill Road\, Nashville\, TN\, 37216\, United States
CATEGORIES:Church Groups,Worship
END:VEVENT
BEGIN:VEVENT
DTSTART;TZID=America/Chicago:20290306T180000
DTEND;TZID=America/Chicago:20290306T190000
DTSTAMP:20260422T120310
CREATED:20260409T173356Z
LAST-MODIFIED:20260409T173356Z
UID:10005416-1867514400-1867518000@brushhillchurch.org
SUMMARY:Men's Bible Study
DESCRIPTION:Men are welcome to join us for bible study on Tuesday evenings in the fellowship hall.
URL:https://brushhillchurch.org/event/mens-bible-study-3/2029-03-06/
LOCATION:Brush Hill Cumberland Presbyterian Church\, 3705 Brush Hill Road\, Nashville\, TN\, 37216\, United States
CATEGORIES:Church Groups
END:VEVENT
BEGIN:VEVENT
DTSTART;TZID=America/Chicago:20290311T090000
DTEND;TZID=America/Chicago:20290311T100000
DTSTAMP:20260422T120310
CREATED:20250930T163730Z
LAST-MODIFIED:20260310T232420Z
UID:10005076-1867914000-1867917600@brushhillchurch.org
SUMMARY:Community Hour
DESCRIPTION:Starting Sunday\, October 5\, 2025\, Brush Hill will be beginning a Community Hour at 9:00 am each Sunday for all those interested in learning more about one another and deepening our friendships as sisters and brothers in Christ. This time together will not be a Bible study\, though there will certainly be elements of our faith throughout it. It will be more focused on sharing our lives with one another. If you are curious about learning more\, please reach out to Megan Sanderson via email at sanderson.megan13@gmail.com.
URL:https://brushhillchurch.org/event/community-hour/2029-03-11/
LOCATION:Brush Hill Cumberland Presbyterian Church\, 3705 Brush Hill Road\, Nashville\, TN\, 37216\, United States
CATEGORIES:Church Groups,Worship
END:VEVENT
BEGIN:VEVENT
DTSTART;TZID=America/Chicago:20290313T180000
DTEND;TZID=America/Chicago:20290313T190000
DTSTAMP:20260422T120310
CREATED:20260409T173356Z
LAST-MODIFIED:20260409T173356Z
UID:10005417-1868119200-1868122800@brushhillchurch.org
SUMMARY:Men's Bible Study
DESCRIPTION:Men are welcome to join us for bible study on Tuesday evenings in the fellowship hall.
URL:https://brushhillchurch.org/event/mens-bible-study-3/2029-03-13/
LOCATION:Brush Hill Cumberland Presbyterian Church\, 3705 Brush Hill Road\, Nashville\, TN\, 37216\, United States
CATEGORIES:Church Groups
END:VEVENT
BEGIN:VEVENT
DTSTART;TZID=America/Chicago:20290318T090000
DTEND;TZID=America/Chicago:20290318T100000
DTSTAMP:20260422T120310
CREATED:20250930T163730Z
LAST-MODIFIED:20260310T232420Z
UID:10005077-1868518800-1868522400@brushhillchurch.org
SUMMARY:Community Hour
DESCRIPTION:Starting Sunday\, October 5\, 2025\, Brush Hill will be beginning a Community Hour at 9:00 am each Sunday for all those interested in learning more about one another and deepening our friendships as sisters and brothers in Christ. This time together will not be a Bible study\, though there will certainly be elements of our faith throughout it. It will be more focused on sharing our lives with one another. If you are curious about learning more\, please reach out to Megan Sanderson via email at sanderson.megan13@gmail.com.
URL:https://brushhillchurch.org/event/community-hour/2029-03-18/
LOCATION:Brush Hill Cumberland Presbyterian Church\, 3705 Brush Hill Road\, Nashville\, TN\, 37216\, United States
CATEGORIES:Church Groups,Worship
END:VEVENT
BEGIN:VEVENT
DTSTART;TZID=America/Chicago:20290320T180000
DTEND;TZID=America/Chicago:20290320T190000
DTSTAMP:20260422T120310
CREATED:20260409T173356Z
LAST-MODIFIED:20260409T173356Z
UID:10005418-1868724000-1868727600@brushhillchurch.org
SUMMARY:Men's Bible Study
DESCRIPTION:Men are welcome to join us for bible study on Tuesday evenings in the fellowship hall.
URL:https://brushhillchurch.org/event/mens-bible-study-3/2029-03-20/
LOCATION:Brush Hill Cumberland Presbyterian Church\, 3705 Brush Hill Road\, Nashville\, TN\, 37216\, United States
CATEGORIES:Church Groups
END:VEVENT
BEGIN:VEVENT
DTSTART;TZID=America/Chicago:20290325T090000
DTEND;TZID=America/Chicago:20290325T100000
DTSTAMP:20260422T120310
CREATED:20250930T163730Z
LAST-MODIFIED:20260310T232420Z
UID:10005078-1869123600-1869127200@brushhillchurch.org
SUMMARY:Community Hour
DESCRIPTION:Starting Sunday\, October 5\, 2025\, Brush Hill will be beginning a Community Hour at 9:00 am each Sunday for all those interested in learning more about one another and deepening our friendships as sisters and brothers in Christ. This time together will not be a Bible study\, though there will certainly be elements of our faith throughout it. It will be more focused on sharing our lives with one another. If you are curious about learning more\, please reach out to Megan Sanderson via email at sanderson.megan13@gmail.com.
URL:https://brushhillchurch.org/event/community-hour/2029-03-25/
LOCATION:Brush Hill Cumberland Presbyterian Church\, 3705 Brush Hill Road\, Nashville\, TN\, 37216\, United States
CATEGORIES:Church Groups,Worship
END:VEVENT
BEGIN:VEVENT
DTSTART;TZID=America/Chicago:20290327T180000
DTEND;TZID=America/Chicago:20290327T190000
DTSTAMP:20260422T120310
CREATED:20260409T173356Z
LAST-MODIFIED:20260409T173356Z
UID:10005419-1869328800-1869332400@brushhillchurch.org
SUMMARY:Men's Bible Study
DESCRIPTION:Men are welcome to join us for bible study on Tuesday evenings in the fellowship hall.
URL:https://brushhillchurch.org/event/mens-bible-study-3/2029-03-27/
LOCATION:Brush Hill Cumberland Presbyterian Church\, 3705 Brush Hill Road\, Nashville\, TN\, 37216\, United States
CATEGORIES:Church Groups
END:VEVENT
BEGIN:VEVENT
DTSTART;TZID=America/Chicago:20290401T090000
DTEND;TZID=America/Chicago:20290401T100000
DTSTAMP:20260422T120310
CREATED:20250930T163730Z
LAST-MODIFIED:20260310T232420Z
UID:10005079-1869728400-1869732000@brushhillchurch.org
SUMMARY:Community Hour
DESCRIPTION:Starting Sunday\, October 5\, 2025\, Brush Hill will be beginning a Community Hour at 9:00 am each Sunday for all those interested in learning more about one another and deepening our friendships as sisters and brothers in Christ. This time together will not be a Bible study\, though there will certainly be elements of our faith throughout it. It will be more focused on sharing our lives with one another. If you are curious about learning more\, please reach out to Megan Sanderson via email at sanderson.megan13@gmail.com.
URL:https://brushhillchurch.org/event/community-hour/2029-04-01/
LOCATION:Brush Hill Cumberland Presbyterian Church\, 3705 Brush Hill Road\, Nashville\, TN\, 37216\, United States
CATEGORIES:Church Groups,Worship
END:VEVENT
BEGIN:VEVENT
DTSTART;TZID=America/Chicago:20290403T180000
DTEND;TZID=America/Chicago:20290403T190000
DTSTAMP:20260422T120310
CREATED:20260409T173356Z
LAST-MODIFIED:20260409T173356Z
UID:10005420-1869933600-1869937200@brushhillchurch.org
SUMMARY:Men's Bible Study
DESCRIPTION:Men are welcome to join us for bible study on Tuesday evenings in the fellowship hall.
URL:https://brushhillchurch.org/event/mens-bible-study-3/2029-04-03/
LOCATION:Brush Hill Cumberland Presbyterian Church\, 3705 Brush Hill Road\, Nashville\, TN\, 37216\, United States
CATEGORIES:Church Groups
END:VEVENT
BEGIN:VEVENT
DTSTART;TZID=America/Chicago:20290408T090000
DTEND;TZID=America/Chicago:20290408T100000
DTSTAMP:20260422T120310
CREATED:20250930T163730Z
LAST-MODIFIED:20260310T232420Z
UID:10005080-1870333200-1870336800@brushhillchurch.org
SUMMARY:Community Hour
DESCRIPTION:Starting Sunday\, October 5\, 2025\, Brush Hill will be beginning a Community Hour at 9:00 am each Sunday for all those interested in learning more about one another and deepening our friendships as sisters and brothers in Christ. This time together will not be a Bible study\, though there will certainly be elements of our faith throughout it. It will be more focused on sharing our lives with one another. If you are curious about learning more\, please reach out to Megan Sanderson via email at sanderson.megan13@gmail.com.
URL:https://brushhillchurch.org/event/community-hour/2029-04-08/
LOCATION:Brush Hill Cumberland Presbyterian Church\, 3705 Brush Hill Road\, Nashville\, TN\, 37216\, United States
CATEGORIES:Church Groups,Worship
END:VEVENT
BEGIN:VEVENT
DTSTART;TZID=America/Chicago:20290410T180000
DTEND;TZID=America/Chicago:20290410T190000
DTSTAMP:20260422T120310
CREATED:20260409T173356Z
LAST-MODIFIED:20260409T173356Z
UID:10005421-1870538400-1870542000@brushhillchurch.org
SUMMARY:Men's Bible Study
DESCRIPTION:Men are welcome to join us for bible study on Tuesday evenings in the fellowship hall.
URL:https://brushhillchurch.org/event/mens-bible-study-3/2029-04-10/
LOCATION:Brush Hill Cumberland Presbyterian Church\, 3705 Brush Hill Road\, Nashville\, TN\, 37216\, United States
CATEGORIES:Church Groups
END:VEVENT
BEGIN:VEVENT
DTSTART;TZID=America/Chicago:20290415T090000
DTEND;TZID=America/Chicago:20290415T100000
DTSTAMP:20260422T120310
CREATED:20250930T163730Z
LAST-MODIFIED:20260310T232420Z
UID:10005081-1870938000-1870941600@brushhillchurch.org
SUMMARY:Community Hour
DESCRIPTION:Starting Sunday\, October 5\, 2025\, Brush Hill will be beginning a Community Hour at 9:00 am each Sunday for all those interested in learning more about one another and deepening our friendships as sisters and brothers in Christ. This time together will not be a Bible study\, though there will certainly be elements of our faith throughout it. It will be more focused on sharing our lives with one another. If you are curious about learning more\, please reach out to Megan Sanderson via email at sanderson.megan13@gmail.com.
URL:https://brushhillchurch.org/event/community-hour/2029-04-15/
LOCATION:Brush Hill Cumberland Presbyterian Church\, 3705 Brush Hill Road\, Nashville\, TN\, 37216\, United States
CATEGORIES:Church Groups,Worship
END:VEVENT
BEGIN:VEVENT
DTSTART;TZID=America/Chicago:20290417T180000
DTEND;TZID=America/Chicago:20290417T190000
DTSTAMP:20260422T120310
CREATED:20260409T173356Z
LAST-MODIFIED:20260409T173356Z
UID:10005422-1871143200-1871146800@brushhillchurch.org
SUMMARY:Men's Bible Study
DESCRIPTION:Men are welcome to join us for bible study on Tuesday evenings in the fellowship hall.
URL:https://brushhillchurch.org/event/mens-bible-study-3/2029-04-17/
LOCATION:Brush Hill Cumberland Presbyterian Church\, 3705 Brush Hill Road\, Nashville\, TN\, 37216\, United States
CATEGORIES:Church Groups
END:VEVENT
BEGIN:VEVENT
DTSTART;TZID=America/Chicago:20290422T090000
DTEND;TZID=America/Chicago:20290422T100000
DTSTAMP:20260422T120310
CREATED:20250930T163730Z
LAST-MODIFIED:20260310T232420Z
UID:10005082-1871542800-1871546400@brushhillchurch.org
SUMMARY:Community Hour
DESCRIPTION:Starting Sunday\, October 5\, 2025\, Brush Hill will be beginning a Community Hour at 9:00 am each Sunday for all those interested in learning more about one another and deepening our friendships as sisters and brothers in Christ. This time together will not be a Bible study\, though there will certainly be elements of our faith throughout it. It will be more focused on sharing our lives with one another. If you are curious about learning more\, please reach out to Megan Sanderson via email at sanderson.megan13@gmail.com.
URL:https://brushhillchurch.org/event/community-hour/2029-04-22/
LOCATION:Brush Hill Cumberland Presbyterian Church\, 3705 Brush Hill Road\, Nashville\, TN\, 37216\, United States
CATEGORIES:Church Groups,Worship
END:VEVENT
BEGIN:VEVENT
DTSTART;TZID=America/Chicago:20290424T180000
DTEND;TZID=America/Chicago:20290424T190000
DTSTAMP:20260422T120310
CREATED:20260409T173356Z
LAST-MODIFIED:20260409T173356Z
UID:10005423-1871748000-1871751600@brushhillchurch.org
SUMMARY:Men's Bible Study
DESCRIPTION:Men are welcome to join us for bible study on Tuesday evenings in the fellowship hall.
URL:https://brushhillchurch.org/event/mens-bible-study-3/2029-04-24/
LOCATION:Brush Hill Cumberland Presbyterian Church\, 3705 Brush Hill Road\, Nashville\, TN\, 37216\, United States
CATEGORIES:Church Groups
END:VEVENT
BEGIN:VEVENT
DTSTART;TZID=America/Chicago:20290429T090000
DTEND;TZID=America/Chicago:20290429T100000
DTSTAMP:20260422T120310
CREATED:20250930T163730Z
LAST-MODIFIED:20260310T232420Z
UID:10005083-1872147600-1872151200@brushhillchurch.org
SUMMARY:Community Hour
DESCRIPTION:Starting Sunday\, October 5\, 2025\, Brush Hill will be beginning a Community Hour at 9:00 am each Sunday for all those interested in learning more about one another and deepening our friendships as sisters and brothers in Christ. This time together will not be a Bible study\, though there will certainly be elements of our faith throughout it. It will be more focused on sharing our lives with one another. If you are curious about learning more\, please reach out to Megan Sanderson via email at sanderson.megan13@gmail.com.
URL:https://brushhillchurch.org/event/community-hour/2029-04-29/
LOCATION:Brush Hill Cumberland Presbyterian Church\, 3705 Brush Hill Road\, Nashville\, TN\, 37216\, United States
CATEGORIES:Church Groups,Worship
END:VEVENT
BEGIN:VEVENT
DTSTART;TZID=America/Chicago:20290501T180000
DTEND;TZID=America/Chicago:20290501T190000
DTSTAMP:20260422T120310
CREATED:20260409T173356Z
LAST-MODIFIED:20260409T173356Z
UID:10005424-1872352800-1872356400@brushhillchurch.org
SUMMARY:Men's Bible Study
DESCRIPTION:Men are welcome to join us for bible study on Tuesday evenings in the fellowship hall.
URL:https://brushhillchurch.org/event/mens-bible-study-3/2029-05-01/
LOCATION:Brush Hill Cumberland Presbyterian Church\, 3705 Brush Hill Road\, Nashville\, TN\, 37216\, United States
CATEGORIES:Church Groups
END:VEVENT
BEGIN:VEVENT
DTSTART;TZID=America/Chicago:20290506T090000
DTEND;TZID=America/Chicago:20290506T100000
DTSTAMP:20260422T120310
CREATED:20250930T163730Z
LAST-MODIFIED:20260310T232420Z
UID:10005084-1872752400-1872756000@brushhillchurch.org
SUMMARY:Community Hour
DESCRIPTION:Starting Sunday\, October 5\, 2025\, Brush Hill will be beginning a Community Hour at 9:00 am each Sunday for all those interested in learning more about one another and deepening our friendships as sisters and brothers in Christ. This time together will not be a Bible study\, though there will certainly be elements of our faith throughout it. It will be more focused on sharing our lives with one another. If you are curious about learning more\, please reach out to Megan Sanderson via email at sanderson.megan13@gmail.com.
URL:https://brushhillchurch.org/event/community-hour/2029-05-06/
LOCATION:Brush Hill Cumberland Presbyterian Church\, 3705 Brush Hill Road\, Nashville\, TN\, 37216\, United States
CATEGORIES:Church Groups,Worship
END:VEVENT
BEGIN:VEVENT
DTSTART;TZID=America/Chicago:20290508T180000
DTEND;TZID=America/Chicago:20290508T190000
DTSTAMP:20260422T120310
CREATED:20260409T173356Z
LAST-MODIFIED:20260409T173356Z
UID:10005425-1872957600-1872961200@brushhillchurch.org
SUMMARY:Men's Bible Study
DESCRIPTION:Men are welcome to join us for bible study on Tuesday evenings in the fellowship hall.
URL:https://brushhillchurch.org/event/mens-bible-study-3/2029-05-08/
LOCATION:Brush Hill Cumberland Presbyterian Church\, 3705 Brush Hill Road\, Nashville\, TN\, 37216\, United States
CATEGORIES:Church Groups
END:VEVENT
BEGIN:VEVENT
DTSTART;TZID=America/Chicago:20290513T090000
DTEND;TZID=America/Chicago:20290513T100000
DTSTAMP:20260422T120310
CREATED:20250930T163730Z
LAST-MODIFIED:20260310T232420Z
UID:10005085-1873357200-1873360800@brushhillchurch.org
SUMMARY:Community Hour
DESCRIPTION:Starting Sunday\, October 5\, 2025\, Brush Hill will be beginning a Community Hour at 9:00 am each Sunday for all those interested in learning more about one another and deepening our friendships as sisters and brothers in Christ. This time together will not be a Bible study\, though there will certainly be elements of our faith throughout it. It will be more focused on sharing our lives with one another. If you are curious about learning more\, please reach out to Megan Sanderson via email at sanderson.megan13@gmail.com.
URL:https://brushhillchurch.org/event/community-hour/2029-05-13/
LOCATION:Brush Hill Cumberland Presbyterian Church\, 3705 Brush Hill Road\, Nashville\, TN\, 37216\, United States
CATEGORIES:Church Groups,Worship
END:VEVENT
END:VCALENDAR