BEGIN:VCALENDAR
VERSION:2.0
PRODID:-//Brush Hill Cumberland Presbyterian Church - ECPv6.15.20//NONSGML v1.0//EN
CALSCALE:GREGORIAN
METHOD:PUBLISH
X-WR-CALNAME:Brush Hill Cumberland Presbyterian Church
X-ORIGINAL-URL:https://brushhillchurch.org
X-WR-CALDESC:Events for Brush Hill Cumberland Presbyterian Church
REFRESH-INTERVAL;VALUE=DURATION:PT1H
X-Robots-Tag:noindex
X-PUBLISHED-TTL:PT1H
BEGIN:VTIMEZONE
TZID:America/Chicago
BEGIN:DAYLIGHT
TZOFFSETFROM:-0600
TZOFFSETTO:-0500
TZNAME:CDT
DTSTART:20260308T080000
END:DAYLIGHT
BEGIN:STANDARD
TZOFFSETFROM:-0500
TZOFFSETTO:-0600
TZNAME:CST
DTSTART:20261101T070000
END:STANDARD
BEGIN:DAYLIGHT
TZOFFSETFROM:-0600
TZOFFSETTO:-0500
TZNAME:CDT
DTSTART:20270314T080000
END:DAYLIGHT
BEGIN:STANDARD
TZOFFSETFROM:-0500
TZOFFSETTO:-0600
TZNAME:CST
DTSTART:20271107T070000
END:STANDARD
BEGIN:DAYLIGHT
TZOFFSETFROM:-0600
TZOFFSETTO:-0500
TZNAME:CDT
DTSTART:20280312T080000
END:DAYLIGHT
BEGIN:STANDARD
TZOFFSETFROM:-0500
TZOFFSETTO:-0600
TZNAME:CST
DTSTART:20281105T070000
END:STANDARD
BEGIN:DAYLIGHT
TZOFFSETFROM:-0600
TZOFFSETTO:-0500
TZNAME:CDT
DTSTART:20290311T080000
END:DAYLIGHT
BEGIN:STANDARD
TZOFFSETFROM:-0500
TZOFFSETTO:-0600
TZNAME:CST
DTSTART:20291104T070000
END:STANDARD
END:VTIMEZONE
BEGIN:VEVENT
DTSTART;TZID=America/Chicago:20271219T090000
DTEND;TZID=America/Chicago:20271219T100000
DTSTAMP:20260419T195229
CREATED:20250930T163730Z
LAST-MODIFIED:20260310T232420Z
UID:10005012-1829206800-1829210400@brushhillchurch.org
SUMMARY:Community Hour
DESCRIPTION:Starting Sunday\, October 5\, 2025\, Brush Hill will be beginning a Community Hour at 9:00 am each Sunday for all those interested in learning more about one another and deepening our friendships as sisters and brothers in Christ. This time together will not be a Bible study\, though there will certainly be elements of our faith throughout it. It will be more focused on sharing our lives with one another. If you are curious about learning more\, please reach out to Megan Sanderson via email at sanderson.megan13@gmail.com.
URL:https://brushhillchurch.org/event/community-hour/2027-12-19/
LOCATION:Brush Hill Cumberland Presbyterian Church\, 3705 Brush Hill Road\, Nashville\, TN\, 37216\, United States
CATEGORIES:Church Groups,Worship
END:VEVENT
BEGIN:VEVENT
DTSTART;TZID=America/Chicago:20271221T180000
DTEND;TZID=America/Chicago:20271221T190000
DTSTAMP:20260419T195229
CREATED:20260409T173356Z
LAST-MODIFIED:20260409T173356Z
UID:10005353-1829412000-1829415600@brushhillchurch.org
SUMMARY:Men's Bible Study
DESCRIPTION:Men are welcome to join us for bible study on Tuesday evenings in the fellowship hall.
URL:https://brushhillchurch.org/event/mens-bible-study-3/2027-12-21/
LOCATION:Brush Hill Cumberland Presbyterian Church\, 3705 Brush Hill Road\, Nashville\, TN\, 37216\, United States
CATEGORIES:Church Groups
END:VEVENT
BEGIN:VEVENT
DTSTART;TZID=America/Chicago:20271226T090000
DTEND;TZID=America/Chicago:20271226T100000
DTSTAMP:20260419T195229
CREATED:20250930T163730Z
LAST-MODIFIED:20260310T232420Z
UID:10005013-1829811600-1829815200@brushhillchurch.org
SUMMARY:Community Hour
DESCRIPTION:Starting Sunday\, October 5\, 2025\, Brush Hill will be beginning a Community Hour at 9:00 am each Sunday for all those interested in learning more about one another and deepening our friendships as sisters and brothers in Christ. This time together will not be a Bible study\, though there will certainly be elements of our faith throughout it. It will be more focused on sharing our lives with one another. If you are curious about learning more\, please reach out to Megan Sanderson via email at sanderson.megan13@gmail.com.
URL:https://brushhillchurch.org/event/community-hour/2027-12-26/
LOCATION:Brush Hill Cumberland Presbyterian Church\, 3705 Brush Hill Road\, Nashville\, TN\, 37216\, United States
CATEGORIES:Church Groups,Worship
END:VEVENT
BEGIN:VEVENT
DTSTART;TZID=America/Chicago:20271228T180000
DTEND;TZID=America/Chicago:20271228T190000
DTSTAMP:20260419T195229
CREATED:20260409T173356Z
LAST-MODIFIED:20260409T173356Z
UID:10005354-1830016800-1830020400@brushhillchurch.org
SUMMARY:Men's Bible Study
DESCRIPTION:Men are welcome to join us for bible study on Tuesday evenings in the fellowship hall.
URL:https://brushhillchurch.org/event/mens-bible-study-3/2027-12-28/
LOCATION:Brush Hill Cumberland Presbyterian Church\, 3705 Brush Hill Road\, Nashville\, TN\, 37216\, United States
CATEGORIES:Church Groups
END:VEVENT
BEGIN:VEVENT
DTSTART;TZID=America/Chicago:20280102T090000
DTEND;TZID=America/Chicago:20280102T100000
DTSTAMP:20260419T195229
CREATED:20250930T163730Z
LAST-MODIFIED:20260310T232420Z
UID:10005014-1830416400-1830420000@brushhillchurch.org
SUMMARY:Community Hour
DESCRIPTION:Starting Sunday\, October 5\, 2025\, Brush Hill will be beginning a Community Hour at 9:00 am each Sunday for all those interested in learning more about one another and deepening our friendships as sisters and brothers in Christ. This time together will not be a Bible study\, though there will certainly be elements of our faith throughout it. It will be more focused on sharing our lives with one another. If you are curious about learning more\, please reach out to Megan Sanderson via email at sanderson.megan13@gmail.com.
URL:https://brushhillchurch.org/event/community-hour/2028-01-02/
LOCATION:Brush Hill Cumberland Presbyterian Church\, 3705 Brush Hill Road\, Nashville\, TN\, 37216\, United States
CATEGORIES:Church Groups,Worship
END:VEVENT
BEGIN:VEVENT
DTSTART;TZID=America/Chicago:20280104T180000
DTEND;TZID=America/Chicago:20280104T190000
DTSTAMP:20260419T195229
CREATED:20260409T173356Z
LAST-MODIFIED:20260409T173356Z
UID:10005355-1830621600-1830625200@brushhillchurch.org
SUMMARY:Men's Bible Study
DESCRIPTION:Men are welcome to join us for bible study on Tuesday evenings in the fellowship hall.
URL:https://brushhillchurch.org/event/mens-bible-study-3/2028-01-04/
LOCATION:Brush Hill Cumberland Presbyterian Church\, 3705 Brush Hill Road\, Nashville\, TN\, 37216\, United States
CATEGORIES:Church Groups
END:VEVENT
BEGIN:VEVENT
DTSTART;TZID=America/Chicago:20280109T090000
DTEND;TZID=America/Chicago:20280109T100000
DTSTAMP:20260419T195229
CREATED:20250930T163730Z
LAST-MODIFIED:20260310T232420Z
UID:10005015-1831021200-1831024800@brushhillchurch.org
SUMMARY:Community Hour
DESCRIPTION:Starting Sunday\, October 5\, 2025\, Brush Hill will be beginning a Community Hour at 9:00 am each Sunday for all those interested in learning more about one another and deepening our friendships as sisters and brothers in Christ. This time together will not be a Bible study\, though there will certainly be elements of our faith throughout it. It will be more focused on sharing our lives with one another. If you are curious about learning more\, please reach out to Megan Sanderson via email at sanderson.megan13@gmail.com.
URL:https://brushhillchurch.org/event/community-hour/2028-01-09/
LOCATION:Brush Hill Cumberland Presbyterian Church\, 3705 Brush Hill Road\, Nashville\, TN\, 37216\, United States
CATEGORIES:Church Groups,Worship
END:VEVENT
BEGIN:VEVENT
DTSTART;TZID=America/Chicago:20280111T180000
DTEND;TZID=America/Chicago:20280111T190000
DTSTAMP:20260419T195229
CREATED:20260409T173356Z
LAST-MODIFIED:20260409T173356Z
UID:10005356-1831226400-1831230000@brushhillchurch.org
SUMMARY:Men's Bible Study
DESCRIPTION:Men are welcome to join us for bible study on Tuesday evenings in the fellowship hall.
URL:https://brushhillchurch.org/event/mens-bible-study-3/2028-01-11/
LOCATION:Brush Hill Cumberland Presbyterian Church\, 3705 Brush Hill Road\, Nashville\, TN\, 37216\, United States
CATEGORIES:Church Groups
END:VEVENT
BEGIN:VEVENT
DTSTART;TZID=America/Chicago:20280116T090000
DTEND;TZID=America/Chicago:20280116T100000
DTSTAMP:20260419T195229
CREATED:20250930T163730Z
LAST-MODIFIED:20260310T232420Z
UID:10005016-1831626000-1831629600@brushhillchurch.org
SUMMARY:Community Hour
DESCRIPTION:Starting Sunday\, October 5\, 2025\, Brush Hill will be beginning a Community Hour at 9:00 am each Sunday for all those interested in learning more about one another and deepening our friendships as sisters and brothers in Christ. This time together will not be a Bible study\, though there will certainly be elements of our faith throughout it. It will be more focused on sharing our lives with one another. If you are curious about learning more\, please reach out to Megan Sanderson via email at sanderson.megan13@gmail.com.
URL:https://brushhillchurch.org/event/community-hour/2028-01-16/
LOCATION:Brush Hill Cumberland Presbyterian Church\, 3705 Brush Hill Road\, Nashville\, TN\, 37216\, United States
CATEGORIES:Church Groups,Worship
END:VEVENT
BEGIN:VEVENT
DTSTART;TZID=America/Chicago:20280118T180000
DTEND;TZID=America/Chicago:20280118T190000
DTSTAMP:20260419T195229
CREATED:20260409T173356Z
LAST-MODIFIED:20260409T173356Z
UID:10005357-1831831200-1831834800@brushhillchurch.org
SUMMARY:Men's Bible Study
DESCRIPTION:Men are welcome to join us for bible study on Tuesday evenings in the fellowship hall.
URL:https://brushhillchurch.org/event/mens-bible-study-3/2028-01-18/
LOCATION:Brush Hill Cumberland Presbyterian Church\, 3705 Brush Hill Road\, Nashville\, TN\, 37216\, United States
CATEGORIES:Church Groups
END:VEVENT
BEGIN:VEVENT
DTSTART;TZID=America/Chicago:20280123T090000
DTEND;TZID=America/Chicago:20280123T100000
DTSTAMP:20260419T195229
CREATED:20250930T163730Z
LAST-MODIFIED:20260310T232420Z
UID:10005017-1832230800-1832234400@brushhillchurch.org
SUMMARY:Community Hour
DESCRIPTION:Starting Sunday\, October 5\, 2025\, Brush Hill will be beginning a Community Hour at 9:00 am each Sunday for all those interested in learning more about one another and deepening our friendships as sisters and brothers in Christ. This time together will not be a Bible study\, though there will certainly be elements of our faith throughout it. It will be more focused on sharing our lives with one another. If you are curious about learning more\, please reach out to Megan Sanderson via email at sanderson.megan13@gmail.com.
URL:https://brushhillchurch.org/event/community-hour/2028-01-23/
LOCATION:Brush Hill Cumberland Presbyterian Church\, 3705 Brush Hill Road\, Nashville\, TN\, 37216\, United States
CATEGORIES:Church Groups,Worship
END:VEVENT
BEGIN:VEVENT
DTSTART;TZID=America/Chicago:20280125T180000
DTEND;TZID=America/Chicago:20280125T190000
DTSTAMP:20260419T195229
CREATED:20260409T173356Z
LAST-MODIFIED:20260409T173356Z
UID:10005358-1832436000-1832439600@brushhillchurch.org
SUMMARY:Men's Bible Study
DESCRIPTION:Men are welcome to join us for bible study on Tuesday evenings in the fellowship hall.
URL:https://brushhillchurch.org/event/mens-bible-study-3/2028-01-25/
LOCATION:Brush Hill Cumberland Presbyterian Church\, 3705 Brush Hill Road\, Nashville\, TN\, 37216\, United States
CATEGORIES:Church Groups
END:VEVENT
BEGIN:VEVENT
DTSTART;TZID=America/Chicago:20280130T090000
DTEND;TZID=America/Chicago:20280130T100000
DTSTAMP:20260419T195229
CREATED:20250930T163730Z
LAST-MODIFIED:20260310T232420Z
UID:10005018-1832835600-1832839200@brushhillchurch.org
SUMMARY:Community Hour
DESCRIPTION:Starting Sunday\, October 5\, 2025\, Brush Hill will be beginning a Community Hour at 9:00 am each Sunday for all those interested in learning more about one another and deepening our friendships as sisters and brothers in Christ. This time together will not be a Bible study\, though there will certainly be elements of our faith throughout it. It will be more focused on sharing our lives with one another. If you are curious about learning more\, please reach out to Megan Sanderson via email at sanderson.megan13@gmail.com.
URL:https://brushhillchurch.org/event/community-hour/2028-01-30/
LOCATION:Brush Hill Cumberland Presbyterian Church\, 3705 Brush Hill Road\, Nashville\, TN\, 37216\, United States
CATEGORIES:Church Groups,Worship
END:VEVENT
BEGIN:VEVENT
DTSTART;TZID=America/Chicago:20280201T180000
DTEND;TZID=America/Chicago:20280201T190000
DTSTAMP:20260419T195229
CREATED:20260409T173356Z
LAST-MODIFIED:20260409T173356Z
UID:10005359-1833040800-1833044400@brushhillchurch.org
SUMMARY:Men's Bible Study
DESCRIPTION:Men are welcome to join us for bible study on Tuesday evenings in the fellowship hall.
URL:https://brushhillchurch.org/event/mens-bible-study-3/2028-02-01/
LOCATION:Brush Hill Cumberland Presbyterian Church\, 3705 Brush Hill Road\, Nashville\, TN\, 37216\, United States
CATEGORIES:Church Groups
END:VEVENT
BEGIN:VEVENT
DTSTART;TZID=America/Chicago:20280206T090000
DTEND;TZID=America/Chicago:20280206T100000
DTSTAMP:20260419T195229
CREATED:20250930T163730Z
LAST-MODIFIED:20260310T232420Z
UID:10005019-1833440400-1833444000@brushhillchurch.org
SUMMARY:Community Hour
DESCRIPTION:Starting Sunday\, October 5\, 2025\, Brush Hill will be beginning a Community Hour at 9:00 am each Sunday for all those interested in learning more about one another and deepening our friendships as sisters and brothers in Christ. This time together will not be a Bible study\, though there will certainly be elements of our faith throughout it. It will be more focused on sharing our lives with one another. If you are curious about learning more\, please reach out to Megan Sanderson via email at sanderson.megan13@gmail.com.
URL:https://brushhillchurch.org/event/community-hour/2028-02-06/
LOCATION:Brush Hill Cumberland Presbyterian Church\, 3705 Brush Hill Road\, Nashville\, TN\, 37216\, United States
CATEGORIES:Church Groups,Worship
END:VEVENT
BEGIN:VEVENT
DTSTART;TZID=America/Chicago:20280208T180000
DTEND;TZID=America/Chicago:20280208T190000
DTSTAMP:20260419T195229
CREATED:20260409T173356Z
LAST-MODIFIED:20260409T173356Z
UID:10005360-1833645600-1833649200@brushhillchurch.org
SUMMARY:Men's Bible Study
DESCRIPTION:Men are welcome to join us for bible study on Tuesday evenings in the fellowship hall.
URL:https://brushhillchurch.org/event/mens-bible-study-3/2028-02-08/
LOCATION:Brush Hill Cumberland Presbyterian Church\, 3705 Brush Hill Road\, Nashville\, TN\, 37216\, United States
CATEGORIES:Church Groups
END:VEVENT
BEGIN:VEVENT
DTSTART;TZID=America/Chicago:20280213T090000
DTEND;TZID=America/Chicago:20280213T100000
DTSTAMP:20260419T195229
CREATED:20250930T163730Z
LAST-MODIFIED:20260310T232420Z
UID:10005020-1834045200-1834048800@brushhillchurch.org
SUMMARY:Community Hour
DESCRIPTION:Starting Sunday\, October 5\, 2025\, Brush Hill will be beginning a Community Hour at 9:00 am each Sunday for all those interested in learning more about one another and deepening our friendships as sisters and brothers in Christ. This time together will not be a Bible study\, though there will certainly be elements of our faith throughout it. It will be more focused on sharing our lives with one another. If you are curious about learning more\, please reach out to Megan Sanderson via email at sanderson.megan13@gmail.com.
URL:https://brushhillchurch.org/event/community-hour/2028-02-13/
LOCATION:Brush Hill Cumberland Presbyterian Church\, 3705 Brush Hill Road\, Nashville\, TN\, 37216\, United States
CATEGORIES:Church Groups,Worship
END:VEVENT
BEGIN:VEVENT
DTSTART;TZID=America/Chicago:20280215T180000
DTEND;TZID=America/Chicago:20280215T190000
DTSTAMP:20260419T195229
CREATED:20260409T173356Z
LAST-MODIFIED:20260409T173356Z
UID:10005361-1834250400-1834254000@brushhillchurch.org
SUMMARY:Men's Bible Study
DESCRIPTION:Men are welcome to join us for bible study on Tuesday evenings in the fellowship hall.
URL:https://brushhillchurch.org/event/mens-bible-study-3/2028-02-15/
LOCATION:Brush Hill Cumberland Presbyterian Church\, 3705 Brush Hill Road\, Nashville\, TN\, 37216\, United States
CATEGORIES:Church Groups
END:VEVENT
BEGIN:VEVENT
DTSTART;TZID=America/Chicago:20280220T090000
DTEND;TZID=America/Chicago:20280220T100000
DTSTAMP:20260419T195229
CREATED:20250930T163730Z
LAST-MODIFIED:20260310T232420Z
UID:10005021-1834650000-1834653600@brushhillchurch.org
SUMMARY:Community Hour
DESCRIPTION:Starting Sunday\, October 5\, 2025\, Brush Hill will be beginning a Community Hour at 9:00 am each Sunday for all those interested in learning more about one another and deepening our friendships as sisters and brothers in Christ. This time together will not be a Bible study\, though there will certainly be elements of our faith throughout it. It will be more focused on sharing our lives with one another. If you are curious about learning more\, please reach out to Megan Sanderson via email at sanderson.megan13@gmail.com.
URL:https://brushhillchurch.org/event/community-hour/2028-02-20/
LOCATION:Brush Hill Cumberland Presbyterian Church\, 3705 Brush Hill Road\, Nashville\, TN\, 37216\, United States
CATEGORIES:Church Groups,Worship
END:VEVENT
BEGIN:VEVENT
DTSTART;TZID=America/Chicago:20280222T180000
DTEND;TZID=America/Chicago:20280222T190000
DTSTAMP:20260419T195229
CREATED:20260409T173356Z
LAST-MODIFIED:20260409T173356Z
UID:10005362-1834855200-1834858800@brushhillchurch.org
SUMMARY:Men's Bible Study
DESCRIPTION:Men are welcome to join us for bible study on Tuesday evenings in the fellowship hall.
URL:https://brushhillchurch.org/event/mens-bible-study-3/2028-02-22/
LOCATION:Brush Hill Cumberland Presbyterian Church\, 3705 Brush Hill Road\, Nashville\, TN\, 37216\, United States
CATEGORIES:Church Groups
END:VEVENT
BEGIN:VEVENT
DTSTART;TZID=America/Chicago:20280227T090000
DTEND;TZID=America/Chicago:20280227T100000
DTSTAMP:20260419T195229
CREATED:20250930T163730Z
LAST-MODIFIED:20260310T232420Z
UID:10005022-1835254800-1835258400@brushhillchurch.org
SUMMARY:Community Hour
DESCRIPTION:Starting Sunday\, October 5\, 2025\, Brush Hill will be beginning a Community Hour at 9:00 am each Sunday for all those interested in learning more about one another and deepening our friendships as sisters and brothers in Christ. This time together will not be a Bible study\, though there will certainly be elements of our faith throughout it. It will be more focused on sharing our lives with one another. If you are curious about learning more\, please reach out to Megan Sanderson via email at sanderson.megan13@gmail.com.
URL:https://brushhillchurch.org/event/community-hour/2028-02-27/
LOCATION:Brush Hill Cumberland Presbyterian Church\, 3705 Brush Hill Road\, Nashville\, TN\, 37216\, United States
CATEGORIES:Church Groups,Worship
END:VEVENT
BEGIN:VEVENT
DTSTART;TZID=America/Chicago:20280229T180000
DTEND;TZID=America/Chicago:20280229T190000
DTSTAMP:20260419T195229
CREATED:20260409T173356Z
LAST-MODIFIED:20260409T173356Z
UID:10005363-1835460000-1835463600@brushhillchurch.org
SUMMARY:Men's Bible Study
DESCRIPTION:Men are welcome to join us for bible study on Tuesday evenings in the fellowship hall.
URL:https://brushhillchurch.org/event/mens-bible-study-3/2028-02-29/
LOCATION:Brush Hill Cumberland Presbyterian Church\, 3705 Brush Hill Road\, Nashville\, TN\, 37216\, United States
CATEGORIES:Church Groups
END:VEVENT
BEGIN:VEVENT
DTSTART;TZID=America/Chicago:20280305T090000
DTEND;TZID=America/Chicago:20280305T100000
DTSTAMP:20260419T195229
CREATED:20250930T163730Z
LAST-MODIFIED:20260310T232420Z
UID:10005023-1835859600-1835863200@brushhillchurch.org
SUMMARY:Community Hour
DESCRIPTION:Starting Sunday\, October 5\, 2025\, Brush Hill will be beginning a Community Hour at 9:00 am each Sunday for all those interested in learning more about one another and deepening our friendships as sisters and brothers in Christ. This time together will not be a Bible study\, though there will certainly be elements of our faith throughout it. It will be more focused on sharing our lives with one another. If you are curious about learning more\, please reach out to Megan Sanderson via email at sanderson.megan13@gmail.com.
URL:https://brushhillchurch.org/event/community-hour/2028-03-05/
LOCATION:Brush Hill Cumberland Presbyterian Church\, 3705 Brush Hill Road\, Nashville\, TN\, 37216\, United States
CATEGORIES:Church Groups,Worship
END:VEVENT
BEGIN:VEVENT
DTSTART;TZID=America/Chicago:20280307T180000
DTEND;TZID=America/Chicago:20280307T190000
DTSTAMP:20260419T195229
CREATED:20260409T173356Z
LAST-MODIFIED:20260409T173356Z
UID:10005364-1836064800-1836068400@brushhillchurch.org
SUMMARY:Men's Bible Study
DESCRIPTION:Men are welcome to join us for bible study on Tuesday evenings in the fellowship hall.
URL:https://brushhillchurch.org/event/mens-bible-study-3/2028-03-07/
LOCATION:Brush Hill Cumberland Presbyterian Church\, 3705 Brush Hill Road\, Nashville\, TN\, 37216\, United States
CATEGORIES:Church Groups
END:VEVENT
BEGIN:VEVENT
DTSTART;TZID=America/Chicago:20280312T090000
DTEND;TZID=America/Chicago:20280312T100000
DTSTAMP:20260419T195229
CREATED:20250930T163730Z
LAST-MODIFIED:20260310T232420Z
UID:10005024-1836464400-1836468000@brushhillchurch.org
SUMMARY:Community Hour
DESCRIPTION:Starting Sunday\, October 5\, 2025\, Brush Hill will be beginning a Community Hour at 9:00 am each Sunday for all those interested in learning more about one another and deepening our friendships as sisters and brothers in Christ. This time together will not be a Bible study\, though there will certainly be elements of our faith throughout it. It will be more focused on sharing our lives with one another. If you are curious about learning more\, please reach out to Megan Sanderson via email at sanderson.megan13@gmail.com.
URL:https://brushhillchurch.org/event/community-hour/2028-03-12/
LOCATION:Brush Hill Cumberland Presbyterian Church\, 3705 Brush Hill Road\, Nashville\, TN\, 37216\, United States
CATEGORIES:Church Groups,Worship
END:VEVENT
BEGIN:VEVENT
DTSTART;TZID=America/Chicago:20280314T180000
DTEND;TZID=America/Chicago:20280314T190000
DTSTAMP:20260419T195229
CREATED:20260409T173356Z
LAST-MODIFIED:20260409T173356Z
UID:10005365-1836669600-1836673200@brushhillchurch.org
SUMMARY:Men's Bible Study
DESCRIPTION:Men are welcome to join us for bible study on Tuesday evenings in the fellowship hall.
URL:https://brushhillchurch.org/event/mens-bible-study-3/2028-03-14/
LOCATION:Brush Hill Cumberland Presbyterian Church\, 3705 Brush Hill Road\, Nashville\, TN\, 37216\, United States
CATEGORIES:Church Groups
END:VEVENT
BEGIN:VEVENT
DTSTART;TZID=America/Chicago:20280319T090000
DTEND;TZID=America/Chicago:20280319T100000
DTSTAMP:20260419T195229
CREATED:20250930T163730Z
LAST-MODIFIED:20260310T232420Z
UID:10005025-1837069200-1837072800@brushhillchurch.org
SUMMARY:Community Hour
DESCRIPTION:Starting Sunday\, October 5\, 2025\, Brush Hill will be beginning a Community Hour at 9:00 am each Sunday for all those interested in learning more about one another and deepening our friendships as sisters and brothers in Christ. This time together will not be a Bible study\, though there will certainly be elements of our faith throughout it. It will be more focused on sharing our lives with one another. If you are curious about learning more\, please reach out to Megan Sanderson via email at sanderson.megan13@gmail.com.
URL:https://brushhillchurch.org/event/community-hour/2028-03-19/
LOCATION:Brush Hill Cumberland Presbyterian Church\, 3705 Brush Hill Road\, Nashville\, TN\, 37216\, United States
CATEGORIES:Church Groups,Worship
END:VEVENT
BEGIN:VEVENT
DTSTART;TZID=America/Chicago:20280321T180000
DTEND;TZID=America/Chicago:20280321T190000
DTSTAMP:20260419T195229
CREATED:20260409T173356Z
LAST-MODIFIED:20260409T173356Z
UID:10005366-1837274400-1837278000@brushhillchurch.org
SUMMARY:Men's Bible Study
DESCRIPTION:Men are welcome to join us for bible study on Tuesday evenings in the fellowship hall.
URL:https://brushhillchurch.org/event/mens-bible-study-3/2028-03-21/
LOCATION:Brush Hill Cumberland Presbyterian Church\, 3705 Brush Hill Road\, Nashville\, TN\, 37216\, United States
CATEGORIES:Church Groups
END:VEVENT
BEGIN:VEVENT
DTSTART;TZID=America/Chicago:20280326T090000
DTEND;TZID=America/Chicago:20280326T100000
DTSTAMP:20260419T195229
CREATED:20250930T163730Z
LAST-MODIFIED:20260310T232420Z
UID:10005026-1837674000-1837677600@brushhillchurch.org
SUMMARY:Community Hour
DESCRIPTION:Starting Sunday\, October 5\, 2025\, Brush Hill will be beginning a Community Hour at 9:00 am each Sunday for all those interested in learning more about one another and deepening our friendships as sisters and brothers in Christ. This time together will not be a Bible study\, though there will certainly be elements of our faith throughout it. It will be more focused on sharing our lives with one another. If you are curious about learning more\, please reach out to Megan Sanderson via email at sanderson.megan13@gmail.com.
URL:https://brushhillchurch.org/event/community-hour/2028-03-26/
LOCATION:Brush Hill Cumberland Presbyterian Church\, 3705 Brush Hill Road\, Nashville\, TN\, 37216\, United States
CATEGORIES:Church Groups,Worship
END:VEVENT
BEGIN:VEVENT
DTSTART;TZID=America/Chicago:20280328T180000
DTEND;TZID=America/Chicago:20280328T190000
DTSTAMP:20260419T195229
CREATED:20260409T173356Z
LAST-MODIFIED:20260409T173356Z
UID:10005367-1837879200-1837882800@brushhillchurch.org
SUMMARY:Men's Bible Study
DESCRIPTION:Men are welcome to join us for bible study on Tuesday evenings in the fellowship hall.
URL:https://brushhillchurch.org/event/mens-bible-study-3/2028-03-28/
LOCATION:Brush Hill Cumberland Presbyterian Church\, 3705 Brush Hill Road\, Nashville\, TN\, 37216\, United States
CATEGORIES:Church Groups
END:VEVENT
END:VCALENDAR