BEGIN:VCALENDAR
VERSION:2.0
PRODID:-//Brush Hill Cumberland Presbyterian Church - ECPv6.15.20//NONSGML v1.0//EN
CALSCALE:GREGORIAN
METHOD:PUBLISH
X-WR-CALNAME:Brush Hill Cumberland Presbyterian Church
X-ORIGINAL-URL:https://brushhillchurch.org
X-WR-CALDESC:Events for Brush Hill Cumberland Presbyterian Church
REFRESH-INTERVAL;VALUE=DURATION:PT1H
X-Robots-Tag:noindex
X-PUBLISHED-TTL:PT1H
BEGIN:VTIMEZONE
TZID:America/Chicago
BEGIN:DAYLIGHT
TZOFFSETFROM:-0600
TZOFFSETTO:-0500
TZNAME:CDT
DTSTART:20280312T080000
END:DAYLIGHT
BEGIN:STANDARD
TZOFFSETFROM:-0500
TZOFFSETTO:-0600
TZNAME:CST
DTSTART:20281105T070000
END:STANDARD
BEGIN:DAYLIGHT
TZOFFSETFROM:-0600
TZOFFSETTO:-0500
TZNAME:CDT
DTSTART:20290311T080000
END:DAYLIGHT
BEGIN:STANDARD
TZOFFSETFROM:-0500
TZOFFSETTO:-0600
TZNAME:CST
DTSTART:20291104T070000
END:STANDARD
BEGIN:DAYLIGHT
TZOFFSETFROM:-0600
TZOFFSETTO:-0500
TZNAME:CDT
DTSTART:20300310T080000
END:DAYLIGHT
BEGIN:STANDARD
TZOFFSETFROM:-0500
TZOFFSETTO:-0600
TZNAME:CST
DTSTART:20301103T070000
END:STANDARD
END:VTIMEZONE
BEGIN:VEVENT
DTSTART;TZID=America/Chicago:20290515T180000
DTEND;TZID=America/Chicago:20290515T190000
DTSTAMP:20260422T174529
CREATED:20260409T173356Z
LAST-MODIFIED:20260409T173356Z
UID:10005426-1873562400-1873566000@brushhillchurch.org
SUMMARY:Men's Bible Study
DESCRIPTION:Men are welcome to join us for bible study on Tuesday evenings in the fellowship hall.
URL:https://brushhillchurch.org/event/mens-bible-study-3/2029-05-15/
LOCATION:Brush Hill Cumberland Presbyterian Church\, 3705 Brush Hill Road\, Nashville\, TN\, 37216\, United States
CATEGORIES:Church Groups
END:VEVENT
BEGIN:VEVENT
DTSTART;TZID=America/Chicago:20290520T090000
DTEND;TZID=America/Chicago:20290520T100000
DTSTAMP:20260422T174529
CREATED:20250930T163730Z
LAST-MODIFIED:20260310T232420Z
UID:10005086-1873962000-1873965600@brushhillchurch.org
SUMMARY:Community Hour
DESCRIPTION:Starting Sunday\, October 5\, 2025\, Brush Hill will be beginning a Community Hour at 9:00 am each Sunday for all those interested in learning more about one another and deepening our friendships as sisters and brothers in Christ. This time together will not be a Bible study\, though there will certainly be elements of our faith throughout it. It will be more focused on sharing our lives with one another. If you are curious about learning more\, please reach out to Megan Sanderson via email at sanderson.megan13@gmail.com.
URL:https://brushhillchurch.org/event/community-hour/2029-05-20/
LOCATION:Brush Hill Cumberland Presbyterian Church\, 3705 Brush Hill Road\, Nashville\, TN\, 37216\, United States
CATEGORIES:Church Groups,Worship
END:VEVENT
BEGIN:VEVENT
DTSTART;TZID=America/Chicago:20290522T180000
DTEND;TZID=America/Chicago:20290522T190000
DTSTAMP:20260422T174529
CREATED:20260409T173356Z
LAST-MODIFIED:20260409T173356Z
UID:10005427-1874167200-1874170800@brushhillchurch.org
SUMMARY:Men's Bible Study
DESCRIPTION:Men are welcome to join us for bible study on Tuesday evenings in the fellowship hall.
URL:https://brushhillchurch.org/event/mens-bible-study-3/2029-05-22/
LOCATION:Brush Hill Cumberland Presbyterian Church\, 3705 Brush Hill Road\, Nashville\, TN\, 37216\, United States
CATEGORIES:Church Groups
END:VEVENT
BEGIN:VEVENT
DTSTART;TZID=America/Chicago:20290527T090000
DTEND;TZID=America/Chicago:20290527T100000
DTSTAMP:20260422T174529
CREATED:20250930T163730Z
LAST-MODIFIED:20260310T232420Z
UID:10005087-1874566800-1874570400@brushhillchurch.org
SUMMARY:Community Hour
DESCRIPTION:Starting Sunday\, October 5\, 2025\, Brush Hill will be beginning a Community Hour at 9:00 am each Sunday for all those interested in learning more about one another and deepening our friendships as sisters and brothers in Christ. This time together will not be a Bible study\, though there will certainly be elements of our faith throughout it. It will be more focused on sharing our lives with one another. If you are curious about learning more\, please reach out to Megan Sanderson via email at sanderson.megan13@gmail.com.
URL:https://brushhillchurch.org/event/community-hour/2029-05-27/
LOCATION:Brush Hill Cumberland Presbyterian Church\, 3705 Brush Hill Road\, Nashville\, TN\, 37216\, United States
CATEGORIES:Church Groups,Worship
END:VEVENT
BEGIN:VEVENT
DTSTART;TZID=America/Chicago:20290529T180000
DTEND;TZID=America/Chicago:20290529T190000
DTSTAMP:20260422T174529
CREATED:20260409T173356Z
LAST-MODIFIED:20260409T173356Z
UID:10005428-1874772000-1874775600@brushhillchurch.org
SUMMARY:Men's Bible Study
DESCRIPTION:Men are welcome to join us for bible study on Tuesday evenings in the fellowship hall.
URL:https://brushhillchurch.org/event/mens-bible-study-3/2029-05-29/
LOCATION:Brush Hill Cumberland Presbyterian Church\, 3705 Brush Hill Road\, Nashville\, TN\, 37216\, United States
CATEGORIES:Church Groups
END:VEVENT
BEGIN:VEVENT
DTSTART;TZID=America/Chicago:20290603T090000
DTEND;TZID=America/Chicago:20290603T100000
DTSTAMP:20260422T174529
CREATED:20250930T163730Z
LAST-MODIFIED:20260310T232420Z
UID:10005088-1875171600-1875175200@brushhillchurch.org
SUMMARY:Community Hour
DESCRIPTION:Starting Sunday\, October 5\, 2025\, Brush Hill will be beginning a Community Hour at 9:00 am each Sunday for all those interested in learning more about one another and deepening our friendships as sisters and brothers in Christ. This time together will not be a Bible study\, though there will certainly be elements of our faith throughout it. It will be more focused on sharing our lives with one another. If you are curious about learning more\, please reach out to Megan Sanderson via email at sanderson.megan13@gmail.com.
URL:https://brushhillchurch.org/event/community-hour/2029-06-03/
LOCATION:Brush Hill Cumberland Presbyterian Church\, 3705 Brush Hill Road\, Nashville\, TN\, 37216\, United States
CATEGORIES:Church Groups,Worship
END:VEVENT
BEGIN:VEVENT
DTSTART;TZID=America/Chicago:20290605T180000
DTEND;TZID=America/Chicago:20290605T190000
DTSTAMP:20260422T174529
CREATED:20260409T173356Z
LAST-MODIFIED:20260409T173356Z
UID:10005429-1875376800-1875380400@brushhillchurch.org
SUMMARY:Men's Bible Study
DESCRIPTION:Men are welcome to join us for bible study on Tuesday evenings in the fellowship hall.
URL:https://brushhillchurch.org/event/mens-bible-study-3/2029-06-05/
LOCATION:Brush Hill Cumberland Presbyterian Church\, 3705 Brush Hill Road\, Nashville\, TN\, 37216\, United States
CATEGORIES:Church Groups
END:VEVENT
BEGIN:VEVENT
DTSTART;TZID=America/Chicago:20290610T090000
DTEND;TZID=America/Chicago:20290610T100000
DTSTAMP:20260422T174529
CREATED:20250930T163730Z
LAST-MODIFIED:20260310T232420Z
UID:10005089-1875776400-1875780000@brushhillchurch.org
SUMMARY:Community Hour
DESCRIPTION:Starting Sunday\, October 5\, 2025\, Brush Hill will be beginning a Community Hour at 9:00 am each Sunday for all those interested in learning more about one another and deepening our friendships as sisters and brothers in Christ. This time together will not be a Bible study\, though there will certainly be elements of our faith throughout it. It will be more focused on sharing our lives with one another. If you are curious about learning more\, please reach out to Megan Sanderson via email at sanderson.megan13@gmail.com.
URL:https://brushhillchurch.org/event/community-hour/2029-06-10/
LOCATION:Brush Hill Cumberland Presbyterian Church\, 3705 Brush Hill Road\, Nashville\, TN\, 37216\, United States
CATEGORIES:Church Groups,Worship
END:VEVENT
BEGIN:VEVENT
DTSTART;TZID=America/Chicago:20290612T180000
DTEND;TZID=America/Chicago:20290612T190000
DTSTAMP:20260422T174529
CREATED:20260409T173356Z
LAST-MODIFIED:20260409T173356Z
UID:10005430-1875981600-1875985200@brushhillchurch.org
SUMMARY:Men's Bible Study
DESCRIPTION:Men are welcome to join us for bible study on Tuesday evenings in the fellowship hall.
URL:https://brushhillchurch.org/event/mens-bible-study-3/2029-06-12/
LOCATION:Brush Hill Cumberland Presbyterian Church\, 3705 Brush Hill Road\, Nashville\, TN\, 37216\, United States
CATEGORIES:Church Groups
END:VEVENT
BEGIN:VEVENT
DTSTART;TZID=America/Chicago:20290617T090000
DTEND;TZID=America/Chicago:20290617T100000
DTSTAMP:20260422T174529
CREATED:20250930T163730Z
LAST-MODIFIED:20260310T232420Z
UID:10005090-1876381200-1876384800@brushhillchurch.org
SUMMARY:Community Hour
DESCRIPTION:Starting Sunday\, October 5\, 2025\, Brush Hill will be beginning a Community Hour at 9:00 am each Sunday for all those interested in learning more about one another and deepening our friendships as sisters and brothers in Christ. This time together will not be a Bible study\, though there will certainly be elements of our faith throughout it. It will be more focused on sharing our lives with one another. If you are curious about learning more\, please reach out to Megan Sanderson via email at sanderson.megan13@gmail.com.
URL:https://brushhillchurch.org/event/community-hour/2029-06-17/
LOCATION:Brush Hill Cumberland Presbyterian Church\, 3705 Brush Hill Road\, Nashville\, TN\, 37216\, United States
CATEGORIES:Church Groups,Worship
END:VEVENT
BEGIN:VEVENT
DTSTART;TZID=America/Chicago:20290619T180000
DTEND;TZID=America/Chicago:20290619T190000
DTSTAMP:20260422T174529
CREATED:20260409T173356Z
LAST-MODIFIED:20260409T173356Z
UID:10005431-1876586400-1876590000@brushhillchurch.org
SUMMARY:Men's Bible Study
DESCRIPTION:Men are welcome to join us for bible study on Tuesday evenings in the fellowship hall.
URL:https://brushhillchurch.org/event/mens-bible-study-3/2029-06-19/
LOCATION:Brush Hill Cumberland Presbyterian Church\, 3705 Brush Hill Road\, Nashville\, TN\, 37216\, United States
CATEGORIES:Church Groups
END:VEVENT
BEGIN:VEVENT
DTSTART;TZID=America/Chicago:20290624T090000
DTEND;TZID=America/Chicago:20290624T100000
DTSTAMP:20260422T174529
CREATED:20250930T163730Z
LAST-MODIFIED:20260310T232420Z
UID:10005091-1876986000-1876989600@brushhillchurch.org
SUMMARY:Community Hour
DESCRIPTION:Starting Sunday\, October 5\, 2025\, Brush Hill will be beginning a Community Hour at 9:00 am each Sunday for all those interested in learning more about one another and deepening our friendships as sisters and brothers in Christ. This time together will not be a Bible study\, though there will certainly be elements of our faith throughout it. It will be more focused on sharing our lives with one another. If you are curious about learning more\, please reach out to Megan Sanderson via email at sanderson.megan13@gmail.com.
URL:https://brushhillchurch.org/event/community-hour/2029-06-24/
LOCATION:Brush Hill Cumberland Presbyterian Church\, 3705 Brush Hill Road\, Nashville\, TN\, 37216\, United States
CATEGORIES:Church Groups,Worship
END:VEVENT
BEGIN:VEVENT
DTSTART;TZID=America/Chicago:20290626T180000
DTEND;TZID=America/Chicago:20290626T190000
DTSTAMP:20260422T174529
CREATED:20260409T173356Z
LAST-MODIFIED:20260409T173356Z
UID:10005432-1877191200-1877194800@brushhillchurch.org
SUMMARY:Men's Bible Study
DESCRIPTION:Men are welcome to join us for bible study on Tuesday evenings in the fellowship hall.
URL:https://brushhillchurch.org/event/mens-bible-study-3/2029-06-26/
LOCATION:Brush Hill Cumberland Presbyterian Church\, 3705 Brush Hill Road\, Nashville\, TN\, 37216\, United States
CATEGORIES:Church Groups
END:VEVENT
BEGIN:VEVENT
DTSTART;TZID=America/Chicago:20290701T090000
DTEND;TZID=America/Chicago:20290701T100000
DTSTAMP:20260422T174529
CREATED:20250930T163730Z
LAST-MODIFIED:20260310T232420Z
UID:10005092-1877590800-1877594400@brushhillchurch.org
SUMMARY:Community Hour
DESCRIPTION:Starting Sunday\, October 5\, 2025\, Brush Hill will be beginning a Community Hour at 9:00 am each Sunday for all those interested in learning more about one another and deepening our friendships as sisters and brothers in Christ. This time together will not be a Bible study\, though there will certainly be elements of our faith throughout it. It will be more focused on sharing our lives with one another. If you are curious about learning more\, please reach out to Megan Sanderson via email at sanderson.megan13@gmail.com.
URL:https://brushhillchurch.org/event/community-hour/2029-07-01/
LOCATION:Brush Hill Cumberland Presbyterian Church\, 3705 Brush Hill Road\, Nashville\, TN\, 37216\, United States
CATEGORIES:Church Groups,Worship
END:VEVENT
BEGIN:VEVENT
DTSTART;TZID=America/Chicago:20290703T180000
DTEND;TZID=America/Chicago:20290703T190000
DTSTAMP:20260422T174529
CREATED:20260409T173356Z
LAST-MODIFIED:20260409T173356Z
UID:10005433-1877796000-1877799600@brushhillchurch.org
SUMMARY:Men's Bible Study
DESCRIPTION:Men are welcome to join us for bible study on Tuesday evenings in the fellowship hall.
URL:https://brushhillchurch.org/event/mens-bible-study-3/2029-07-03/
LOCATION:Brush Hill Cumberland Presbyterian Church\, 3705 Brush Hill Road\, Nashville\, TN\, 37216\, United States
CATEGORIES:Church Groups
END:VEVENT
BEGIN:VEVENT
DTSTART;TZID=America/Chicago:20290708T090000
DTEND;TZID=America/Chicago:20290708T100000
DTSTAMP:20260422T174529
CREATED:20250930T163730Z
LAST-MODIFIED:20260310T232420Z
UID:10005093-1878195600-1878199200@brushhillchurch.org
SUMMARY:Community Hour
DESCRIPTION:Starting Sunday\, October 5\, 2025\, Brush Hill will be beginning a Community Hour at 9:00 am each Sunday for all those interested in learning more about one another and deepening our friendships as sisters and brothers in Christ. This time together will not be a Bible study\, though there will certainly be elements of our faith throughout it. It will be more focused on sharing our lives with one another. If you are curious about learning more\, please reach out to Megan Sanderson via email at sanderson.megan13@gmail.com.
URL:https://brushhillchurch.org/event/community-hour/2029-07-08/
LOCATION:Brush Hill Cumberland Presbyterian Church\, 3705 Brush Hill Road\, Nashville\, TN\, 37216\, United States
CATEGORIES:Church Groups,Worship
END:VEVENT
BEGIN:VEVENT
DTSTART;TZID=America/Chicago:20290710T180000
DTEND;TZID=America/Chicago:20290710T190000
DTSTAMP:20260422T174529
CREATED:20260409T173356Z
LAST-MODIFIED:20260409T173356Z
UID:10005434-1878400800-1878404400@brushhillchurch.org
SUMMARY:Men's Bible Study
DESCRIPTION:Men are welcome to join us for bible study on Tuesday evenings in the fellowship hall.
URL:https://brushhillchurch.org/event/mens-bible-study-3/2029-07-10/
LOCATION:Brush Hill Cumberland Presbyterian Church\, 3705 Brush Hill Road\, Nashville\, TN\, 37216\, United States
CATEGORIES:Church Groups
END:VEVENT
BEGIN:VEVENT
DTSTART;TZID=America/Chicago:20290715T090000
DTEND;TZID=America/Chicago:20290715T100000
DTSTAMP:20260422T174529
CREATED:20250930T163730Z
LAST-MODIFIED:20260310T232420Z
UID:10005094-1878800400-1878804000@brushhillchurch.org
SUMMARY:Community Hour
DESCRIPTION:Starting Sunday\, October 5\, 2025\, Brush Hill will be beginning a Community Hour at 9:00 am each Sunday for all those interested in learning more about one another and deepening our friendships as sisters and brothers in Christ. This time together will not be a Bible study\, though there will certainly be elements of our faith throughout it. It will be more focused on sharing our lives with one another. If you are curious about learning more\, please reach out to Megan Sanderson via email at sanderson.megan13@gmail.com.
URL:https://brushhillchurch.org/event/community-hour/2029-07-15/
LOCATION:Brush Hill Cumberland Presbyterian Church\, 3705 Brush Hill Road\, Nashville\, TN\, 37216\, United States
CATEGORIES:Church Groups,Worship
END:VEVENT
BEGIN:VEVENT
DTSTART;TZID=America/Chicago:20290717T180000
DTEND;TZID=America/Chicago:20290717T190000
DTSTAMP:20260422T174529
CREATED:20260409T173356Z
LAST-MODIFIED:20260409T173356Z
UID:10005435-1879005600-1879009200@brushhillchurch.org
SUMMARY:Men's Bible Study
DESCRIPTION:Men are welcome to join us for bible study on Tuesday evenings in the fellowship hall.
URL:https://brushhillchurch.org/event/mens-bible-study-3/2029-07-17/
LOCATION:Brush Hill Cumberland Presbyterian Church\, 3705 Brush Hill Road\, Nashville\, TN\, 37216\, United States
CATEGORIES:Church Groups
END:VEVENT
BEGIN:VEVENT
DTSTART;TZID=America/Chicago:20290722T090000
DTEND;TZID=America/Chicago:20290722T100000
DTSTAMP:20260422T174529
CREATED:20250930T163730Z
LAST-MODIFIED:20260310T232420Z
UID:10005095-1879405200-1879408800@brushhillchurch.org
SUMMARY:Community Hour
DESCRIPTION:Starting Sunday\, October 5\, 2025\, Brush Hill will be beginning a Community Hour at 9:00 am each Sunday for all those interested in learning more about one another and deepening our friendships as sisters and brothers in Christ. This time together will not be a Bible study\, though there will certainly be elements of our faith throughout it. It will be more focused on sharing our lives with one another. If you are curious about learning more\, please reach out to Megan Sanderson via email at sanderson.megan13@gmail.com.
URL:https://brushhillchurch.org/event/community-hour/2029-07-22/
LOCATION:Brush Hill Cumberland Presbyterian Church\, 3705 Brush Hill Road\, Nashville\, TN\, 37216\, United States
CATEGORIES:Church Groups,Worship
END:VEVENT
BEGIN:VEVENT
DTSTART;TZID=America/Chicago:20290724T180000
DTEND;TZID=America/Chicago:20290724T190000
DTSTAMP:20260422T174529
CREATED:20260409T173356Z
LAST-MODIFIED:20260409T173356Z
UID:10005436-1879610400-1879614000@brushhillchurch.org
SUMMARY:Men's Bible Study
DESCRIPTION:Men are welcome to join us for bible study on Tuesday evenings in the fellowship hall.
URL:https://brushhillchurch.org/event/mens-bible-study-3/2029-07-24/
LOCATION:Brush Hill Cumberland Presbyterian Church\, 3705 Brush Hill Road\, Nashville\, TN\, 37216\, United States
CATEGORIES:Church Groups
END:VEVENT
BEGIN:VEVENT
DTSTART;TZID=America/Chicago:20290729T090000
DTEND;TZID=America/Chicago:20290729T100000
DTSTAMP:20260422T174529
CREATED:20250930T163730Z
LAST-MODIFIED:20260310T232420Z
UID:10005096-1880010000-1880013600@brushhillchurch.org
SUMMARY:Community Hour
DESCRIPTION:Starting Sunday\, October 5\, 2025\, Brush Hill will be beginning a Community Hour at 9:00 am each Sunday for all those interested in learning more about one another and deepening our friendships as sisters and brothers in Christ. This time together will not be a Bible study\, though there will certainly be elements of our faith throughout it. It will be more focused on sharing our lives with one another. If you are curious about learning more\, please reach out to Megan Sanderson via email at sanderson.megan13@gmail.com.
URL:https://brushhillchurch.org/event/community-hour/2029-07-29/
LOCATION:Brush Hill Cumberland Presbyterian Church\, 3705 Brush Hill Road\, Nashville\, TN\, 37216\, United States
CATEGORIES:Church Groups,Worship
END:VEVENT
BEGIN:VEVENT
DTSTART;TZID=America/Chicago:20290731T180000
DTEND;TZID=America/Chicago:20290731T190000
DTSTAMP:20260422T174529
CREATED:20260409T173356Z
LAST-MODIFIED:20260409T173356Z
UID:10005437-1880215200-1880218800@brushhillchurch.org
SUMMARY:Men's Bible Study
DESCRIPTION:Men are welcome to join us for bible study on Tuesday evenings in the fellowship hall.
URL:https://brushhillchurch.org/event/mens-bible-study-3/2029-07-31/
LOCATION:Brush Hill Cumberland Presbyterian Church\, 3705 Brush Hill Road\, Nashville\, TN\, 37216\, United States
CATEGORIES:Church Groups
END:VEVENT
BEGIN:VEVENT
DTSTART;TZID=America/Chicago:20290805T090000
DTEND;TZID=America/Chicago:20290805T100000
DTSTAMP:20260422T174529
CREATED:20250930T163730Z
LAST-MODIFIED:20260310T232420Z
UID:10005097-1880614800-1880618400@brushhillchurch.org
SUMMARY:Community Hour
DESCRIPTION:Starting Sunday\, October 5\, 2025\, Brush Hill will be beginning a Community Hour at 9:00 am each Sunday for all those interested in learning more about one another and deepening our friendships as sisters and brothers in Christ. This time together will not be a Bible study\, though there will certainly be elements of our faith throughout it. It will be more focused on sharing our lives with one another. If you are curious about learning more\, please reach out to Megan Sanderson via email at sanderson.megan13@gmail.com.
URL:https://brushhillchurch.org/event/community-hour/2029-08-05/
LOCATION:Brush Hill Cumberland Presbyterian Church\, 3705 Brush Hill Road\, Nashville\, TN\, 37216\, United States
CATEGORIES:Church Groups,Worship
END:VEVENT
BEGIN:VEVENT
DTSTART;TZID=America/Chicago:20290807T180000
DTEND;TZID=America/Chicago:20290807T190000
DTSTAMP:20260422T174529
CREATED:20260409T173356Z
LAST-MODIFIED:20260409T173356Z
UID:10005438-1880820000-1880823600@brushhillchurch.org
SUMMARY:Men's Bible Study
DESCRIPTION:Men are welcome to join us for bible study on Tuesday evenings in the fellowship hall.
URL:https://brushhillchurch.org/event/mens-bible-study-3/2029-08-07/
LOCATION:Brush Hill Cumberland Presbyterian Church\, 3705 Brush Hill Road\, Nashville\, TN\, 37216\, United States
CATEGORIES:Church Groups
END:VEVENT
BEGIN:VEVENT
DTSTART;TZID=America/Chicago:20290812T090000
DTEND;TZID=America/Chicago:20290812T100000
DTSTAMP:20260422T174529
CREATED:20250930T163730Z
LAST-MODIFIED:20260310T232420Z
UID:10005098-1881219600-1881223200@brushhillchurch.org
SUMMARY:Community Hour
DESCRIPTION:Starting Sunday\, October 5\, 2025\, Brush Hill will be beginning a Community Hour at 9:00 am each Sunday for all those interested in learning more about one another and deepening our friendships as sisters and brothers in Christ. This time together will not be a Bible study\, though there will certainly be elements of our faith throughout it. It will be more focused on sharing our lives with one another. If you are curious about learning more\, please reach out to Megan Sanderson via email at sanderson.megan13@gmail.com.
URL:https://brushhillchurch.org/event/community-hour/2029-08-12/
LOCATION:Brush Hill Cumberland Presbyterian Church\, 3705 Brush Hill Road\, Nashville\, TN\, 37216\, United States
CATEGORIES:Church Groups,Worship
END:VEVENT
BEGIN:VEVENT
DTSTART;TZID=America/Chicago:20290814T180000
DTEND;TZID=America/Chicago:20290814T190000
DTSTAMP:20260422T174529
CREATED:20260409T173356Z
LAST-MODIFIED:20260409T173356Z
UID:10005439-1881424800-1881428400@brushhillchurch.org
SUMMARY:Men's Bible Study
DESCRIPTION:Men are welcome to join us for bible study on Tuesday evenings in the fellowship hall.
URL:https://brushhillchurch.org/event/mens-bible-study-3/2029-08-14/
LOCATION:Brush Hill Cumberland Presbyterian Church\, 3705 Brush Hill Road\, Nashville\, TN\, 37216\, United States
CATEGORIES:Church Groups
END:VEVENT
BEGIN:VEVENT
DTSTART;TZID=America/Chicago:20290819T090000
DTEND;TZID=America/Chicago:20290819T100000
DTSTAMP:20260422T174529
CREATED:20250930T163730Z
LAST-MODIFIED:20260310T232420Z
UID:10005099-1881824400-1881828000@brushhillchurch.org
SUMMARY:Community Hour
DESCRIPTION:Starting Sunday\, October 5\, 2025\, Brush Hill will be beginning a Community Hour at 9:00 am each Sunday for all those interested in learning more about one another and deepening our friendships as sisters and brothers in Christ. This time together will not be a Bible study\, though there will certainly be elements of our faith throughout it. It will be more focused on sharing our lives with one another. If you are curious about learning more\, please reach out to Megan Sanderson via email at sanderson.megan13@gmail.com.
URL:https://brushhillchurch.org/event/community-hour/2029-08-19/
LOCATION:Brush Hill Cumberland Presbyterian Church\, 3705 Brush Hill Road\, Nashville\, TN\, 37216\, United States
CATEGORIES:Church Groups,Worship
END:VEVENT
BEGIN:VEVENT
DTSTART;TZID=America/Chicago:20290821T180000
DTEND;TZID=America/Chicago:20290821T190000
DTSTAMP:20260422T174529
CREATED:20260409T173356Z
LAST-MODIFIED:20260409T173356Z
UID:10005440-1882029600-1882033200@brushhillchurch.org
SUMMARY:Men's Bible Study
DESCRIPTION:Men are welcome to join us for bible study on Tuesday evenings in the fellowship hall.
URL:https://brushhillchurch.org/event/mens-bible-study-3/2029-08-21/
LOCATION:Brush Hill Cumberland Presbyterian Church\, 3705 Brush Hill Road\, Nashville\, TN\, 37216\, United States
CATEGORIES:Church Groups
END:VEVENT
BEGIN:VEVENT
DTSTART;TZID=America/Chicago:20290826T090000
DTEND;TZID=America/Chicago:20290826T100000
DTSTAMP:20260422T174529
CREATED:20250930T163730Z
LAST-MODIFIED:20260310T232420Z
UID:10005100-1882429200-1882432800@brushhillchurch.org
SUMMARY:Community Hour
DESCRIPTION:Starting Sunday\, October 5\, 2025\, Brush Hill will be beginning a Community Hour at 9:00 am each Sunday for all those interested in learning more about one another and deepening our friendships as sisters and brothers in Christ. This time together will not be a Bible study\, though there will certainly be elements of our faith throughout it. It will be more focused on sharing our lives with one another. If you are curious about learning more\, please reach out to Megan Sanderson via email at sanderson.megan13@gmail.com.
URL:https://brushhillchurch.org/event/community-hour/2029-08-26/
LOCATION:Brush Hill Cumberland Presbyterian Church\, 3705 Brush Hill Road\, Nashville\, TN\, 37216\, United States
CATEGORIES:Church Groups,Worship
END:VEVENT
END:VCALENDAR