BEGIN:VCALENDAR
VERSION:2.0
PRODID:-//Brush Hill Cumberland Presbyterian Church - ECPv6.15.20//NONSGML v1.0//EN
CALSCALE:GREGORIAN
METHOD:PUBLISH
X-ORIGINAL-URL:https://brushhillchurch.org
X-WR-CALDESC:Events for Brush Hill Cumberland Presbyterian Church
REFRESH-INTERVAL;VALUE=DURATION:PT1H
X-Robots-Tag:noindex
X-PUBLISHED-TTL:PT1H
BEGIN:VTIMEZONE
TZID:America/Chicago
BEGIN:DAYLIGHT
TZOFFSETFROM:-0600
TZOFFSETTO:-0500
TZNAME:CDT
DTSTART:20250309T080000
END:DAYLIGHT
BEGIN:STANDARD
TZOFFSETFROM:-0500
TZOFFSETTO:-0600
TZNAME:CST
DTSTART:20251102T070000
END:STANDARD
BEGIN:DAYLIGHT
TZOFFSETFROM:-0600
TZOFFSETTO:-0500
TZNAME:CDT
DTSTART:20260308T080000
END:DAYLIGHT
BEGIN:STANDARD
TZOFFSETFROM:-0500
TZOFFSETTO:-0600
TZNAME:CST
DTSTART:20261101T070000
END:STANDARD
BEGIN:DAYLIGHT
TZOFFSETFROM:-0600
TZOFFSETTO:-0500
TZNAME:CDT
DTSTART:20270314T080000
END:DAYLIGHT
BEGIN:STANDARD
TZOFFSETFROM:-0500
TZOFFSETTO:-0600
TZNAME:CST
DTSTART:20271107T070000
END:STANDARD
END:VTIMEZONE
BEGIN:VEVENT
DTSTART;TZID=America/Chicago:20260302T133000
DTEND;TZID=America/Chicago:20260302T150000
DTSTAMP:20260424T191006
CREATED:20250703T164927Z
LAST-MODIFIED:20250703T164927Z
UID:10004459-1772458200-1772463600@brushhillchurch.org
SUMMARY:Manna Monday
DESCRIPTION:Manna Monday is a food ministry of our church that cooks and delivers food to the sick\, elderly\, and others in need of a meal on Monday evenings. If you would like to participate as a cook\, deliver meals\, or receive a meal\, please contact the church office.
URL:https://brushhillchurch.org/event/manna-monday-12/2026-03-02/
LOCATION:Brush Hill Cumberland Presbyterian Church\, 3705 Brush Hill Road\, Nashville\, TN\, 37216\, United States
CATEGORIES:Community Ministry
END:VEVENT
BEGIN:VEVENT
DTSTART;TZID=America/Chicago:20260309T133000
DTEND;TZID=America/Chicago:20260309T150000
DTSTAMP:20260424T191006
CREATED:20250703T164927Z
LAST-MODIFIED:20250703T164927Z
UID:10004460-1773063000-1773068400@brushhillchurch.org
SUMMARY:Manna Monday
DESCRIPTION:Manna Monday is a food ministry of our church that cooks and delivers food to the sick\, elderly\, and others in need of a meal on Monday evenings. If you would like to participate as a cook\, deliver meals\, or receive a meal\, please contact the church office.
URL:https://brushhillchurch.org/event/manna-monday-12/2026-03-09/
LOCATION:Brush Hill Cumberland Presbyterian Church\, 3705 Brush Hill Road\, Nashville\, TN\, 37216\, United States
CATEGORIES:Community Ministry
END:VEVENT
BEGIN:VEVENT
DTSTART;TZID=America/Chicago:20260316T133000
DTEND;TZID=America/Chicago:20260316T150000
DTSTAMP:20260424T191006
CREATED:20250703T164927Z
LAST-MODIFIED:20250703T164927Z
UID:10004461-1773667800-1773673200@brushhillchurch.org
SUMMARY:Manna Monday
DESCRIPTION:Manna Monday is a food ministry of our church that cooks and delivers food to the sick\, elderly\, and others in need of a meal on Monday evenings. If you would like to participate as a cook\, deliver meals\, or receive a meal\, please contact the church office.
URL:https://brushhillchurch.org/event/manna-monday-12/2026-03-16/
LOCATION:Brush Hill Cumberland Presbyterian Church\, 3705 Brush Hill Road\, Nashville\, TN\, 37216\, United States
CATEGORIES:Community Ministry
END:VEVENT
BEGIN:VEVENT
DTSTART;TZID=America/Chicago:20260318T183000
DTEND;TZID=America/Chicago:20260319T063000
DTSTAMP:20260424T191006
CREATED:20260305T212011Z
LAST-MODIFIED:20260305T212014Z
UID:10005185-1773858600-1773901800@brushhillchurch.org
SUMMARY:Room in the Inn
DESCRIPTION:Our last opportunity to host Room in the Inn and share a fellowship meal together this season is Wednesday\, March 18\, 2026\, at 6:30 pm! Our potluck fellowship meals\, along with hosting our Room in the Inn guests\, display the power of Christian hospitality. Additionally\, you can help serve our RITI guests by providing breakfast each time we host. Breakfast includes 2 lbs of bacon\, 18–24 eggs\, a minimum of 18 biscuits\, 2 gallons of OJ\, and fruit (bananas\, grapes\, etc.). Text or email Pastor Paul if you would be willing to provide food!
URL:https://brushhillchurch.org/event/room-in-the-inn-march-18-2026/
LOCATION:Brush Hill Cumberland Presbyterian Church\, 3705 Brush Hill Road\, Nashville\, TN\, 37216\, United States
CATEGORIES:Community Ministry
ATTACH;FMTTYPE=image/png:https://brushhillchurch.org/wp-content/uploads/2023/12/Untitled-design.png
END:VEVENT
BEGIN:VEVENT
DTSTART;TZID=America/Chicago:20260323T133000
DTEND;TZID=America/Chicago:20260323T150000
DTSTAMP:20260424T191006
CREATED:20250703T164927Z
LAST-MODIFIED:20250703T164927Z
UID:10004462-1774272600-1774278000@brushhillchurch.org
SUMMARY:Manna Monday
DESCRIPTION:Manna Monday is a food ministry of our church that cooks and delivers food to the sick\, elderly\, and others in need of a meal on Monday evenings. If you would like to participate as a cook\, deliver meals\, or receive a meal\, please contact the church office.
URL:https://brushhillchurch.org/event/manna-monday-12/2026-03-23/
LOCATION:Brush Hill Cumberland Presbyterian Church\, 3705 Brush Hill Road\, Nashville\, TN\, 37216\, United States
CATEGORIES:Community Ministry
END:VEVENT
BEGIN:VEVENT
DTSTART;TZID=America/Chicago:20260330T133000
DTEND;TZID=America/Chicago:20260330T150000
DTSTAMP:20260424T191006
CREATED:20250703T164927Z
LAST-MODIFIED:20250703T164927Z
UID:10004463-1774877400-1774882800@brushhillchurch.org
SUMMARY:Manna Monday
DESCRIPTION:Manna Monday is a food ministry of our church that cooks and delivers food to the sick\, elderly\, and others in need of a meal on Monday evenings. If you would like to participate as a cook\, deliver meals\, or receive a meal\, please contact the church office.
URL:https://brushhillchurch.org/event/manna-monday-12/2026-03-30/
LOCATION:Brush Hill Cumberland Presbyterian Church\, 3705 Brush Hill Road\, Nashville\, TN\, 37216\, United States
CATEGORIES:Community Ministry
END:VEVENT
END:VCALENDAR