BEGIN:VCALENDAR
VERSION:2.0
PRODID:-//Brush Hill Cumberland Presbyterian Church - ECPv6.15.20//NONSGML v1.0//EN
CALSCALE:GREGORIAN
METHOD:PUBLISH
X-WR-CALNAME:Brush Hill Cumberland Presbyterian Church
X-ORIGINAL-URL:https://brushhillchurch.org
X-WR-CALDESC:Events for Brush Hill Cumberland Presbyterian Church
REFRESH-INTERVAL;VALUE=DURATION:PT1H
X-Robots-Tag:noindex
X-PUBLISHED-TTL:PT1H
BEGIN:VTIMEZONE
TZID:America/Chicago
BEGIN:DAYLIGHT
TZOFFSETFROM:-0600
TZOFFSETTO:-0500
TZNAME:CDT
DTSTART:20250309T080000
END:DAYLIGHT
BEGIN:STANDARD
TZOFFSETFROM:-0500
TZOFFSETTO:-0600
TZNAME:CST
DTSTART:20251102T070000
END:STANDARD
BEGIN:DAYLIGHT
TZOFFSETFROM:-0600
TZOFFSETTO:-0500
TZNAME:CDT
DTSTART:20260308T080000
END:DAYLIGHT
BEGIN:STANDARD
TZOFFSETFROM:-0500
TZOFFSETTO:-0600
TZNAME:CST
DTSTART:20261101T070000
END:STANDARD
BEGIN:DAYLIGHT
TZOFFSETFROM:-0600
TZOFFSETTO:-0500
TZNAME:CDT
DTSTART:20270314T080000
END:DAYLIGHT
BEGIN:STANDARD
TZOFFSETFROM:-0500
TZOFFSETTO:-0600
TZNAME:CST
DTSTART:20271107T070000
END:STANDARD
END:VTIMEZONE
BEGIN:VEVENT
DTSTART;VALUE=DATE:20260513
DTEND;VALUE=DATE:20260514
DTSTAMP:20260424T172836
CREATED:20260416T222459Z
LAST-MODIFIED:20260416T222459Z
UID:10005539-1778630400-1778716799@brushhillchurch.org
SUMMARY:Loads of Love
DESCRIPTION:Sacred Sparks Ministry is a homeless ministry and outreach of Nashville Presbytery of the Cumberland. Loads of Love meets at Brush Hill Tuesday-Thursday to allow members of the ministry to wash clothes and share a meal together.
URL:https://brushhillchurch.org/event/loads-of-love-3/2026-05-13/
LOCATION:Brush Hill Cumberland Presbyterian Church\, 3705 Brush Hill Road\, Nashville\, TN\, 37216\, United States
CATEGORIES:Community Ministry
END:VEVENT
BEGIN:VEVENT
DTSTART;VALUE=DATE:20260514
DTEND;VALUE=DATE:20260515
DTSTAMP:20260424T172836
CREATED:20260416T222459Z
LAST-MODIFIED:20260416T222459Z
UID:10005540-1778716800-1778803199@brushhillchurch.org
SUMMARY:Loads of Love
DESCRIPTION:Sacred Sparks Ministry is a homeless ministry and outreach of Nashville Presbytery of the Cumberland. Loads of Love meets at Brush Hill Tuesday-Thursday to allow members of the ministry to wash clothes and share a meal together.
URL:https://brushhillchurch.org/event/loads-of-love-3/2026-05-14/
LOCATION:Brush Hill Cumberland Presbyterian Church\, 3705 Brush Hill Road\, Nashville\, TN\, 37216\, United States
CATEGORIES:Community Ministry
END:VEVENT
BEGIN:VEVENT
DTSTART;TZID=America/Chicago:20260518T133000
DTEND;TZID=America/Chicago:20260518T150000
DTSTAMP:20260424T172836
CREATED:20250703T164927Z
LAST-MODIFIED:20250703T164927Z
UID:10004470-1779111000-1779116400@brushhillchurch.org
SUMMARY:Manna Monday
DESCRIPTION:Manna Monday is a food ministry of our church that cooks and delivers food to the sick\, elderly\, and others in need of a meal on Monday evenings. If you would like to participate as a cook\, deliver meals\, or receive a meal\, please contact the church office.
URL:https://brushhillchurch.org/event/manna-monday-12/2026-05-18/
LOCATION:Brush Hill Cumberland Presbyterian Church\, 3705 Brush Hill Road\, Nashville\, TN\, 37216\, United States
CATEGORIES:Community Ministry
END:VEVENT
BEGIN:VEVENT
DTSTART;VALUE=DATE:20260519
DTEND;VALUE=DATE:20260520
DTSTAMP:20260424T172836
CREATED:20260416T222459Z
LAST-MODIFIED:20260416T222459Z
UID:10005541-1779148800-1779235199@brushhillchurch.org
SUMMARY:Loads of Love
DESCRIPTION:Sacred Sparks Ministry is a homeless ministry and outreach of Nashville Presbytery of the Cumberland. Loads of Love meets at Brush Hill Tuesday-Thursday to allow members of the ministry to wash clothes and share a meal together.
URL:https://brushhillchurch.org/event/loads-of-love-3/2026-05-19/
LOCATION:Brush Hill Cumberland Presbyterian Church\, 3705 Brush Hill Road\, Nashville\, TN\, 37216\, United States
CATEGORIES:Community Ministry
END:VEVENT
BEGIN:VEVENT
DTSTART;VALUE=DATE:20260520
DTEND;VALUE=DATE:20260521
DTSTAMP:20260424T172836
CREATED:20260416T222459Z
LAST-MODIFIED:20260416T222459Z
UID:10005542-1779235200-1779321599@brushhillchurch.org
SUMMARY:Loads of Love
DESCRIPTION:Sacred Sparks Ministry is a homeless ministry and outreach of Nashville Presbytery of the Cumberland. Loads of Love meets at Brush Hill Tuesday-Thursday to allow members of the ministry to wash clothes and share a meal together.
URL:https://brushhillchurch.org/event/loads-of-love-3/2026-05-20/
LOCATION:Brush Hill Cumberland Presbyterian Church\, 3705 Brush Hill Road\, Nashville\, TN\, 37216\, United States
CATEGORIES:Community Ministry
END:VEVENT
BEGIN:VEVENT
DTSTART;VALUE=DATE:20260521
DTEND;VALUE=DATE:20260522
DTSTAMP:20260424T172836
CREATED:20260416T222459Z
LAST-MODIFIED:20260416T222459Z
UID:10005543-1779321600-1779407999@brushhillchurch.org
SUMMARY:Loads of Love
DESCRIPTION:Sacred Sparks Ministry is a homeless ministry and outreach of Nashville Presbytery of the Cumberland. Loads of Love meets at Brush Hill Tuesday-Thursday to allow members of the ministry to wash clothes and share a meal together.
URL:https://brushhillchurch.org/event/loads-of-love-3/2026-05-21/
LOCATION:Brush Hill Cumberland Presbyterian Church\, 3705 Brush Hill Road\, Nashville\, TN\, 37216\, United States
CATEGORIES:Community Ministry
END:VEVENT
BEGIN:VEVENT
DTSTART;TZID=America/Chicago:20260525T133000
DTEND;TZID=America/Chicago:20260525T150000
DTSTAMP:20260424T172836
CREATED:20250703T164927Z
LAST-MODIFIED:20250703T164927Z
UID:10004471-1779715800-1779721200@brushhillchurch.org
SUMMARY:Manna Monday
DESCRIPTION:Manna Monday is a food ministry of our church that cooks and delivers food to the sick\, elderly\, and others in need of a meal on Monday evenings. If you would like to participate as a cook\, deliver meals\, or receive a meal\, please contact the church office.
URL:https://brushhillchurch.org/event/manna-monday-12/2026-05-25/
LOCATION:Brush Hill Cumberland Presbyterian Church\, 3705 Brush Hill Road\, Nashville\, TN\, 37216\, United States
CATEGORIES:Community Ministry
END:VEVENT
BEGIN:VEVENT
DTSTART;VALUE=DATE:20260526
DTEND;VALUE=DATE:20260527
DTSTAMP:20260424T172836
CREATED:20260416T222459Z
LAST-MODIFIED:20260416T222459Z
UID:10005544-1779753600-1779839999@brushhillchurch.org
SUMMARY:Loads of Love
DESCRIPTION:Sacred Sparks Ministry is a homeless ministry and outreach of Nashville Presbytery of the Cumberland. Loads of Love meets at Brush Hill Tuesday-Thursday to allow members of the ministry to wash clothes and share a meal together.
URL:https://brushhillchurch.org/event/loads-of-love-3/2026-05-26/
LOCATION:Brush Hill Cumberland Presbyterian Church\, 3705 Brush Hill Road\, Nashville\, TN\, 37216\, United States
CATEGORIES:Community Ministry
END:VEVENT
BEGIN:VEVENT
DTSTART;VALUE=DATE:20260527
DTEND;VALUE=DATE:20260528
DTSTAMP:20260424T172836
CREATED:20260416T222459Z
LAST-MODIFIED:20260416T222459Z
UID:10005545-1779840000-1779926399@brushhillchurch.org
SUMMARY:Loads of Love
DESCRIPTION:Sacred Sparks Ministry is a homeless ministry and outreach of Nashville Presbytery of the Cumberland. Loads of Love meets at Brush Hill Tuesday-Thursday to allow members of the ministry to wash clothes and share a meal together.
URL:https://brushhillchurch.org/event/loads-of-love-3/2026-05-27/
LOCATION:Brush Hill Cumberland Presbyterian Church\, 3705 Brush Hill Road\, Nashville\, TN\, 37216\, United States
CATEGORIES:Community Ministry
END:VEVENT
BEGIN:VEVENT
DTSTART;VALUE=DATE:20260528
DTEND;VALUE=DATE:20260529
DTSTAMP:20260424T172836
CREATED:20260416T222459Z
LAST-MODIFIED:20260416T222459Z
UID:10005546-1779926400-1780012799@brushhillchurch.org
SUMMARY:Loads of Love
DESCRIPTION:Sacred Sparks Ministry is a homeless ministry and outreach of Nashville Presbytery of the Cumberland. Loads of Love meets at Brush Hill Tuesday-Thursday to allow members of the ministry to wash clothes and share a meal together.
URL:https://brushhillchurch.org/event/loads-of-love-3/2026-05-28/
LOCATION:Brush Hill Cumberland Presbyterian Church\, 3705 Brush Hill Road\, Nashville\, TN\, 37216\, United States
CATEGORIES:Community Ministry
END:VEVENT
BEGIN:VEVENT
DTSTART;TZID=America/Chicago:20260601T133000
DTEND;TZID=America/Chicago:20260601T150000
DTSTAMP:20260424T172836
CREATED:20250703T164927Z
LAST-MODIFIED:20250703T164927Z
UID:10004472-1780320600-1780326000@brushhillchurch.org
SUMMARY:Manna Monday
DESCRIPTION:Manna Monday is a food ministry of our church that cooks and delivers food to the sick\, elderly\, and others in need of a meal on Monday evenings. If you would like to participate as a cook\, deliver meals\, or receive a meal\, please contact the church office.
URL:https://brushhillchurch.org/event/manna-monday-12/2026-06-01/
LOCATION:Brush Hill Cumberland Presbyterian Church\, 3705 Brush Hill Road\, Nashville\, TN\, 37216\, United States
CATEGORIES:Community Ministry
END:VEVENT
BEGIN:VEVENT
DTSTART;VALUE=DATE:20260602
DTEND;VALUE=DATE:20260603
DTSTAMP:20260424T172836
CREATED:20260416T222459Z
LAST-MODIFIED:20260416T222459Z
UID:10005547-1780358400-1780444799@brushhillchurch.org
SUMMARY:Loads of Love
DESCRIPTION:Sacred Sparks Ministry is a homeless ministry and outreach of Nashville Presbytery of the Cumberland. Loads of Love meets at Brush Hill Tuesday-Thursday to allow members of the ministry to wash clothes and share a meal together.
URL:https://brushhillchurch.org/event/loads-of-love-3/2026-06-02/
LOCATION:Brush Hill Cumberland Presbyterian Church\, 3705 Brush Hill Road\, Nashville\, TN\, 37216\, United States
CATEGORIES:Community Ministry
END:VEVENT
BEGIN:VEVENT
DTSTART;VALUE=DATE:20260603
DTEND;VALUE=DATE:20260604
DTSTAMP:20260424T172836
CREATED:20260416T222459Z
LAST-MODIFIED:20260416T222459Z
UID:10005548-1780444800-1780531199@brushhillchurch.org
SUMMARY:Loads of Love
DESCRIPTION:Sacred Sparks Ministry is a homeless ministry and outreach of Nashville Presbytery of the Cumberland. Loads of Love meets at Brush Hill Tuesday-Thursday to allow members of the ministry to wash clothes and share a meal together.
URL:https://brushhillchurch.org/event/loads-of-love-3/2026-06-03/
LOCATION:Brush Hill Cumberland Presbyterian Church\, 3705 Brush Hill Road\, Nashville\, TN\, 37216\, United States
CATEGORIES:Community Ministry
END:VEVENT
BEGIN:VEVENT
DTSTART;VALUE=DATE:20260604
DTEND;VALUE=DATE:20260605
DTSTAMP:20260424T172836
CREATED:20260416T222459Z
LAST-MODIFIED:20260416T222459Z
UID:10005549-1780531200-1780617599@brushhillchurch.org
SUMMARY:Loads of Love
DESCRIPTION:Sacred Sparks Ministry is a homeless ministry and outreach of Nashville Presbytery of the Cumberland. Loads of Love meets at Brush Hill Tuesday-Thursday to allow members of the ministry to wash clothes and share a meal together.
URL:https://brushhillchurch.org/event/loads-of-love-3/2026-06-04/
LOCATION:Brush Hill Cumberland Presbyterian Church\, 3705 Brush Hill Road\, Nashville\, TN\, 37216\, United States
CATEGORIES:Community Ministry
END:VEVENT
BEGIN:VEVENT
DTSTART;TZID=America/Chicago:20260608T133000
DTEND;TZID=America/Chicago:20260608T150000
DTSTAMP:20260424T172836
CREATED:20250703T164927Z
LAST-MODIFIED:20250703T164927Z
UID:10004473-1780925400-1780930800@brushhillchurch.org
SUMMARY:Manna Monday
DESCRIPTION:Manna Monday is a food ministry of our church that cooks and delivers food to the sick\, elderly\, and others in need of a meal on Monday evenings. If you would like to participate as a cook\, deliver meals\, or receive a meal\, please contact the church office.
URL:https://brushhillchurch.org/event/manna-monday-12/2026-06-08/
LOCATION:Brush Hill Cumberland Presbyterian Church\, 3705 Brush Hill Road\, Nashville\, TN\, 37216\, United States
CATEGORIES:Community Ministry
END:VEVENT
BEGIN:VEVENT
DTSTART;VALUE=DATE:20260609
DTEND;VALUE=DATE:20260610
DTSTAMP:20260424T172836
CREATED:20260416T222459Z
LAST-MODIFIED:20260416T222459Z
UID:10005550-1780963200-1781049599@brushhillchurch.org
SUMMARY:Loads of Love
DESCRIPTION:Sacred Sparks Ministry is a homeless ministry and outreach of Nashville Presbytery of the Cumberland. Loads of Love meets at Brush Hill Tuesday-Thursday to allow members of the ministry to wash clothes and share a meal together.
URL:https://brushhillchurch.org/event/loads-of-love-3/2026-06-09/
LOCATION:Brush Hill Cumberland Presbyterian Church\, 3705 Brush Hill Road\, Nashville\, TN\, 37216\, United States
CATEGORIES:Community Ministry
END:VEVENT
BEGIN:VEVENT
DTSTART;VALUE=DATE:20260610
DTEND;VALUE=DATE:20260611
DTSTAMP:20260424T172836
CREATED:20260416T222459Z
LAST-MODIFIED:20260416T222459Z
UID:10005551-1781049600-1781135999@brushhillchurch.org
SUMMARY:Loads of Love
DESCRIPTION:Sacred Sparks Ministry is a homeless ministry and outreach of Nashville Presbytery of the Cumberland. Loads of Love meets at Brush Hill Tuesday-Thursday to allow members of the ministry to wash clothes and share a meal together.
URL:https://brushhillchurch.org/event/loads-of-love-3/2026-06-10/
LOCATION:Brush Hill Cumberland Presbyterian Church\, 3705 Brush Hill Road\, Nashville\, TN\, 37216\, United States
CATEGORIES:Community Ministry
END:VEVENT
BEGIN:VEVENT
DTSTART;VALUE=DATE:20260611
DTEND;VALUE=DATE:20260612
DTSTAMP:20260424T172836
CREATED:20260416T222459Z
LAST-MODIFIED:20260416T222459Z
UID:10005552-1781136000-1781222399@brushhillchurch.org
SUMMARY:Loads of Love
DESCRIPTION:Sacred Sparks Ministry is a homeless ministry and outreach of Nashville Presbytery of the Cumberland. Loads of Love meets at Brush Hill Tuesday-Thursday to allow members of the ministry to wash clothes and share a meal together.
URL:https://brushhillchurch.org/event/loads-of-love-3/2026-06-11/
LOCATION:Brush Hill Cumberland Presbyterian Church\, 3705 Brush Hill Road\, Nashville\, TN\, 37216\, United States
CATEGORIES:Community Ministry
END:VEVENT
BEGIN:VEVENT
DTSTART;TZID=America/Chicago:20260615T133000
DTEND;TZID=America/Chicago:20260615T150000
DTSTAMP:20260424T172836
CREATED:20250703T164927Z
LAST-MODIFIED:20250703T164927Z
UID:10004474-1781530200-1781535600@brushhillchurch.org
SUMMARY:Manna Monday
DESCRIPTION:Manna Monday is a food ministry of our church that cooks and delivers food to the sick\, elderly\, and others in need of a meal on Monday evenings. If you would like to participate as a cook\, deliver meals\, or receive a meal\, please contact the church office.
URL:https://brushhillchurch.org/event/manna-monday-12/2026-06-15/
LOCATION:Brush Hill Cumberland Presbyterian Church\, 3705 Brush Hill Road\, Nashville\, TN\, 37216\, United States
CATEGORIES:Community Ministry
END:VEVENT
BEGIN:VEVENT
DTSTART;VALUE=DATE:20260616
DTEND;VALUE=DATE:20260617
DTSTAMP:20260424T172836
CREATED:20260416T222459Z
LAST-MODIFIED:20260416T222459Z
UID:10005553-1781568000-1781654399@brushhillchurch.org
SUMMARY:Loads of Love
DESCRIPTION:Sacred Sparks Ministry is a homeless ministry and outreach of Nashville Presbytery of the Cumberland. Loads of Love meets at Brush Hill Tuesday-Thursday to allow members of the ministry to wash clothes and share a meal together.
URL:https://brushhillchurch.org/event/loads-of-love-3/2026-06-16/
LOCATION:Brush Hill Cumberland Presbyterian Church\, 3705 Brush Hill Road\, Nashville\, TN\, 37216\, United States
CATEGORIES:Community Ministry
END:VEVENT
BEGIN:VEVENT
DTSTART;VALUE=DATE:20260617
DTEND;VALUE=DATE:20260618
DTSTAMP:20260424T172836
CREATED:20260416T222459Z
LAST-MODIFIED:20260416T222459Z
UID:10005554-1781654400-1781740799@brushhillchurch.org
SUMMARY:Loads of Love
DESCRIPTION:Sacred Sparks Ministry is a homeless ministry and outreach of Nashville Presbytery of the Cumberland. Loads of Love meets at Brush Hill Tuesday-Thursday to allow members of the ministry to wash clothes and share a meal together.
URL:https://brushhillchurch.org/event/loads-of-love-3/2026-06-17/
LOCATION:Brush Hill Cumberland Presbyterian Church\, 3705 Brush Hill Road\, Nashville\, TN\, 37216\, United States
CATEGORIES:Community Ministry
END:VEVENT
BEGIN:VEVENT
DTSTART;VALUE=DATE:20260618
DTEND;VALUE=DATE:20260619
DTSTAMP:20260424T172836
CREATED:20260416T222459Z
LAST-MODIFIED:20260416T222459Z
UID:10005555-1781740800-1781827199@brushhillchurch.org
SUMMARY:Loads of Love
DESCRIPTION:Sacred Sparks Ministry is a homeless ministry and outreach of Nashville Presbytery of the Cumberland. Loads of Love meets at Brush Hill Tuesday-Thursday to allow members of the ministry to wash clothes and share a meal together.
URL:https://brushhillchurch.org/event/loads-of-love-3/2026-06-18/
LOCATION:Brush Hill Cumberland Presbyterian Church\, 3705 Brush Hill Road\, Nashville\, TN\, 37216\, United States
CATEGORIES:Community Ministry
END:VEVENT
BEGIN:VEVENT
DTSTART;TZID=America/Chicago:20260622T133000
DTEND;TZID=America/Chicago:20260622T150000
DTSTAMP:20260424T172836
CREATED:20250703T164927Z
LAST-MODIFIED:20250703T164927Z
UID:10004475-1782135000-1782140400@brushhillchurch.org
SUMMARY:Manna Monday
DESCRIPTION:Manna Monday is a food ministry of our church that cooks and delivers food to the sick\, elderly\, and others in need of a meal on Monday evenings. If you would like to participate as a cook\, deliver meals\, or receive a meal\, please contact the church office.
URL:https://brushhillchurch.org/event/manna-monday-12/2026-06-22/
LOCATION:Brush Hill Cumberland Presbyterian Church\, 3705 Brush Hill Road\, Nashville\, TN\, 37216\, United States
CATEGORIES:Community Ministry
END:VEVENT
BEGIN:VEVENT
DTSTART;VALUE=DATE:20260623
DTEND;VALUE=DATE:20260624
DTSTAMP:20260424T172836
CREATED:20260416T222459Z
LAST-MODIFIED:20260416T222459Z
UID:10005556-1782172800-1782259199@brushhillchurch.org
SUMMARY:Loads of Love
DESCRIPTION:Sacred Sparks Ministry is a homeless ministry and outreach of Nashville Presbytery of the Cumberland. Loads of Love meets at Brush Hill Tuesday-Thursday to allow members of the ministry to wash clothes and share a meal together.
URL:https://brushhillchurch.org/event/loads-of-love-3/2026-06-23/
LOCATION:Brush Hill Cumberland Presbyterian Church\, 3705 Brush Hill Road\, Nashville\, TN\, 37216\, United States
CATEGORIES:Community Ministry
END:VEVENT
BEGIN:VEVENT
DTSTART;VALUE=DATE:20260624
DTEND;VALUE=DATE:20260625
DTSTAMP:20260424T172836
CREATED:20260416T222459Z
LAST-MODIFIED:20260416T222459Z
UID:10005557-1782259200-1782345599@brushhillchurch.org
SUMMARY:Loads of Love
DESCRIPTION:Sacred Sparks Ministry is a homeless ministry and outreach of Nashville Presbytery of the Cumberland. Loads of Love meets at Brush Hill Tuesday-Thursday to allow members of the ministry to wash clothes and share a meal together.
URL:https://brushhillchurch.org/event/loads-of-love-3/2026-06-24/
LOCATION:Brush Hill Cumberland Presbyterian Church\, 3705 Brush Hill Road\, Nashville\, TN\, 37216\, United States
CATEGORIES:Community Ministry
END:VEVENT
BEGIN:VEVENT
DTSTART;VALUE=DATE:20260625
DTEND;VALUE=DATE:20260626
DTSTAMP:20260424T172836
CREATED:20260416T222459Z
LAST-MODIFIED:20260416T222459Z
UID:10005558-1782345600-1782431999@brushhillchurch.org
SUMMARY:Loads of Love
DESCRIPTION:Sacred Sparks Ministry is a homeless ministry and outreach of Nashville Presbytery of the Cumberland. Loads of Love meets at Brush Hill Tuesday-Thursday to allow members of the ministry to wash clothes and share a meal together.
URL:https://brushhillchurch.org/event/loads-of-love-3/2026-06-25/
LOCATION:Brush Hill Cumberland Presbyterian Church\, 3705 Brush Hill Road\, Nashville\, TN\, 37216\, United States
CATEGORIES:Community Ministry
END:VEVENT
BEGIN:VEVENT
DTSTART;TZID=America/Chicago:20260629T133000
DTEND;TZID=America/Chicago:20260629T150000
DTSTAMP:20260424T172836
CREATED:20250703T164927Z
LAST-MODIFIED:20250703T164927Z
UID:10004476-1782739800-1782745200@brushhillchurch.org
SUMMARY:Manna Monday
DESCRIPTION:Manna Monday is a food ministry of our church that cooks and delivers food to the sick\, elderly\, and others in need of a meal on Monday evenings. If you would like to participate as a cook\, deliver meals\, or receive a meal\, please contact the church office.
URL:https://brushhillchurch.org/event/manna-monday-12/2026-06-29/
LOCATION:Brush Hill Cumberland Presbyterian Church\, 3705 Brush Hill Road\, Nashville\, TN\, 37216\, United States
CATEGORIES:Community Ministry
END:VEVENT
BEGIN:VEVENT
DTSTART;VALUE=DATE:20260630
DTEND;VALUE=DATE:20260701
DTSTAMP:20260424T172836
CREATED:20260416T222459Z
LAST-MODIFIED:20260416T222459Z
UID:10005559-1782777600-1782863999@brushhillchurch.org
SUMMARY:Loads of Love
DESCRIPTION:Sacred Sparks Ministry is a homeless ministry and outreach of Nashville Presbytery of the Cumberland. Loads of Love meets at Brush Hill Tuesday-Thursday to allow members of the ministry to wash clothes and share a meal together.
URL:https://brushhillchurch.org/event/loads-of-love-3/2026-06-30/
LOCATION:Brush Hill Cumberland Presbyterian Church\, 3705 Brush Hill Road\, Nashville\, TN\, 37216\, United States
CATEGORIES:Community Ministry
END:VEVENT
BEGIN:VEVENT
DTSTART;VALUE=DATE:20260701
DTEND;VALUE=DATE:20260702
DTSTAMP:20260424T172836
CREATED:20260416T222459Z
LAST-MODIFIED:20260416T222459Z
UID:10005560-1782864000-1782950399@brushhillchurch.org
SUMMARY:Loads of Love
DESCRIPTION:Sacred Sparks Ministry is a homeless ministry and outreach of Nashville Presbytery of the Cumberland. Loads of Love meets at Brush Hill Tuesday-Thursday to allow members of the ministry to wash clothes and share a meal together.
URL:https://brushhillchurch.org/event/loads-of-love-3/2026-07-01/
LOCATION:Brush Hill Cumberland Presbyterian Church\, 3705 Brush Hill Road\, Nashville\, TN\, 37216\, United States
CATEGORIES:Community Ministry
END:VEVENT
BEGIN:VEVENT
DTSTART;VALUE=DATE:20260702
DTEND;VALUE=DATE:20260703
DTSTAMP:20260424T172836
CREATED:20260416T222459Z
LAST-MODIFIED:20260416T222459Z
UID:10005561-1782950400-1783036799@brushhillchurch.org
SUMMARY:Loads of Love
DESCRIPTION:Sacred Sparks Ministry is a homeless ministry and outreach of Nashville Presbytery of the Cumberland. Loads of Love meets at Brush Hill Tuesday-Thursday to allow members of the ministry to wash clothes and share a meal together.
URL:https://brushhillchurch.org/event/loads-of-love-3/2026-07-02/
LOCATION:Brush Hill Cumberland Presbyterian Church\, 3705 Brush Hill Road\, Nashville\, TN\, 37216\, United States
CATEGORIES:Community Ministry
END:VEVENT
END:VCALENDAR