BEGIN:VCALENDAR
VERSION:2.0
PRODID:-//Brush Hill Cumberland Presbyterian Church - ECPv6.15.20//NONSGML v1.0//EN
CALSCALE:GREGORIAN
METHOD:PUBLISH
X-WR-CALNAME:Brush Hill Cumberland Presbyterian Church
X-ORIGINAL-URL:https://brushhillchurch.org
X-WR-CALDESC:Events for Brush Hill Cumberland Presbyterian Church
REFRESH-INTERVAL;VALUE=DURATION:PT1H
X-Robots-Tag:noindex
X-PUBLISHED-TTL:PT1H
BEGIN:VTIMEZONE
TZID:America/Chicago
BEGIN:DAYLIGHT
TZOFFSETFROM:-0600
TZOFFSETTO:-0500
TZNAME:CDT
DTSTART:20270314T080000
END:DAYLIGHT
BEGIN:STANDARD
TZOFFSETFROM:-0500
TZOFFSETTO:-0600
TZNAME:CST
DTSTART:20271107T070000
END:STANDARD
BEGIN:DAYLIGHT
TZOFFSETFROM:-0600
TZOFFSETTO:-0500
TZNAME:CDT
DTSTART:20280312T080000
END:DAYLIGHT
BEGIN:STANDARD
TZOFFSETFROM:-0500
TZOFFSETTO:-0600
TZNAME:CST
DTSTART:20281105T070000
END:STANDARD
BEGIN:DAYLIGHT
TZOFFSETFROM:-0600
TZOFFSETTO:-0500
TZNAME:CDT
DTSTART:20290311T080000
END:DAYLIGHT
BEGIN:STANDARD
TZOFFSETFROM:-0500
TZOFFSETTO:-0600
TZNAME:CST
DTSTART:20291104T070000
END:STANDARD
BEGIN:DAYLIGHT
TZOFFSETFROM:-0600
TZOFFSETTO:-0500
TZNAME:CDT
DTSTART:20300310T080000
END:DAYLIGHT
BEGIN:STANDARD
TZOFFSETFROM:-0500
TZOFFSETTO:-0600
TZNAME:CST
DTSTART:20301103T070000
END:STANDARD
END:VTIMEZONE
BEGIN:VEVENT
DTSTART;TZID=America/Chicago:20280910T103000
DTEND;TZID=America/Chicago:20280910T120000
DTSTAMP:20260419T230855
CREATED:20250703T164633Z
LAST-MODIFIED:20250703T164633Z
UID:10004330-1852194600-1852200000@brushhillchurch.org
SUMMARY:Sacrament Church Worship Service
DESCRIPTION:Sacrament Church\, who shares our space\, worships in our fellowship hall at this time. Learn more about Sacrament Church here: https://www.sacramentchurch.com/
URL:https://brushhillchurch.org/event/sacrament-church-worship-service/2028-09-10/
LOCATION:Brush Hill Cumberland Presbyterian Church\, 3705 Brush Hill Road\, Nashville\, TN\, 37216\, United States
CATEGORIES:Rentals
END:VEVENT
BEGIN:VEVENT
DTSTART;TZID=America/Chicago:20280917T103000
DTEND;TZID=America/Chicago:20280917T120000
DTSTAMP:20260419T230855
CREATED:20250703T164633Z
LAST-MODIFIED:20250703T164633Z
UID:10004331-1852799400-1852804800@brushhillchurch.org
SUMMARY:Sacrament Church Worship Service
DESCRIPTION:Sacrament Church\, who shares our space\, worships in our fellowship hall at this time. Learn more about Sacrament Church here: https://www.sacramentchurch.com/
URL:https://brushhillchurch.org/event/sacrament-church-worship-service/2028-09-17/
LOCATION:Brush Hill Cumberland Presbyterian Church\, 3705 Brush Hill Road\, Nashville\, TN\, 37216\, United States
CATEGORIES:Rentals
END:VEVENT
BEGIN:VEVENT
DTSTART;TZID=America/Chicago:20280924T103000
DTEND;TZID=America/Chicago:20280924T120000
DTSTAMP:20260419T230855
CREATED:20250703T164633Z
LAST-MODIFIED:20250703T164633Z
UID:10004332-1853404200-1853409600@brushhillchurch.org
SUMMARY:Sacrament Church Worship Service
DESCRIPTION:Sacrament Church\, who shares our space\, worships in our fellowship hall at this time. Learn more about Sacrament Church here: https://www.sacramentchurch.com/
URL:https://brushhillchurch.org/event/sacrament-church-worship-service/2028-09-24/
LOCATION:Brush Hill Cumberland Presbyterian Church\, 3705 Brush Hill Road\, Nashville\, TN\, 37216\, United States
CATEGORIES:Rentals
END:VEVENT
BEGIN:VEVENT
DTSTART;TZID=America/Chicago:20281001T103000
DTEND;TZID=America/Chicago:20281001T120000
DTSTAMP:20260419T230855
CREATED:20250703T164633Z
LAST-MODIFIED:20250703T164633Z
UID:10004333-1854009000-1854014400@brushhillchurch.org
SUMMARY:Sacrament Church Worship Service
DESCRIPTION:Sacrament Church\, who shares our space\, worships in our fellowship hall at this time. Learn more about Sacrament Church here: https://www.sacramentchurch.com/
URL:https://brushhillchurch.org/event/sacrament-church-worship-service/2028-10-01/
LOCATION:Brush Hill Cumberland Presbyterian Church\, 3705 Brush Hill Road\, Nashville\, TN\, 37216\, United States
CATEGORIES:Rentals
END:VEVENT
BEGIN:VEVENT
DTSTART;TZID=America/Chicago:20281008T103000
DTEND;TZID=America/Chicago:20281008T120000
DTSTAMP:20260419T230855
CREATED:20250703T164633Z
LAST-MODIFIED:20250703T164633Z
UID:10004334-1854613800-1854619200@brushhillchurch.org
SUMMARY:Sacrament Church Worship Service
DESCRIPTION:Sacrament Church\, who shares our space\, worships in our fellowship hall at this time. Learn more about Sacrament Church here: https://www.sacramentchurch.com/
URL:https://brushhillchurch.org/event/sacrament-church-worship-service/2028-10-08/
LOCATION:Brush Hill Cumberland Presbyterian Church\, 3705 Brush Hill Road\, Nashville\, TN\, 37216\, United States
CATEGORIES:Rentals
END:VEVENT
BEGIN:VEVENT
DTSTART;TZID=America/Chicago:20281015T103000
DTEND;TZID=America/Chicago:20281015T120000
DTSTAMP:20260419T230855
CREATED:20250703T164633Z
LAST-MODIFIED:20250703T164633Z
UID:10004335-1855218600-1855224000@brushhillchurch.org
SUMMARY:Sacrament Church Worship Service
DESCRIPTION:Sacrament Church\, who shares our space\, worships in our fellowship hall at this time. Learn more about Sacrament Church here: https://www.sacramentchurch.com/
URL:https://brushhillchurch.org/event/sacrament-church-worship-service/2028-10-15/
LOCATION:Brush Hill Cumberland Presbyterian Church\, 3705 Brush Hill Road\, Nashville\, TN\, 37216\, United States
CATEGORIES:Rentals
END:VEVENT
BEGIN:VEVENT
DTSTART;TZID=America/Chicago:20281022T103000
DTEND;TZID=America/Chicago:20281022T120000
DTSTAMP:20260419T230855
CREATED:20250703T164633Z
LAST-MODIFIED:20250703T164633Z
UID:10004336-1855823400-1855828800@brushhillchurch.org
SUMMARY:Sacrament Church Worship Service
DESCRIPTION:Sacrament Church\, who shares our space\, worships in our fellowship hall at this time. Learn more about Sacrament Church here: https://www.sacramentchurch.com/
URL:https://brushhillchurch.org/event/sacrament-church-worship-service/2028-10-22/
LOCATION:Brush Hill Cumberland Presbyterian Church\, 3705 Brush Hill Road\, Nashville\, TN\, 37216\, United States
CATEGORIES:Rentals
END:VEVENT
BEGIN:VEVENT
DTSTART;TZID=America/Chicago:20281029T103000
DTEND;TZID=America/Chicago:20281029T120000
DTSTAMP:20260419T230855
CREATED:20250703T164633Z
LAST-MODIFIED:20250703T164633Z
UID:10004337-1856428200-1856433600@brushhillchurch.org
SUMMARY:Sacrament Church Worship Service
DESCRIPTION:Sacrament Church\, who shares our space\, worships in our fellowship hall at this time. Learn more about Sacrament Church here: https://www.sacramentchurch.com/
URL:https://brushhillchurch.org/event/sacrament-church-worship-service/2028-10-29/
LOCATION:Brush Hill Cumberland Presbyterian Church\, 3705 Brush Hill Road\, Nashville\, TN\, 37216\, United States
CATEGORIES:Rentals
END:VEVENT
BEGIN:VEVENT
DTSTART;TZID=America/Chicago:20281105T103000
DTEND;TZID=America/Chicago:20281105T120000
DTSTAMP:20260419T230855
CREATED:20250703T164633Z
LAST-MODIFIED:20250703T164633Z
UID:10004338-1857033000-1857038400@brushhillchurch.org
SUMMARY:Sacrament Church Worship Service
DESCRIPTION:Sacrament Church\, who shares our space\, worships in our fellowship hall at this time. Learn more about Sacrament Church here: https://www.sacramentchurch.com/
URL:https://brushhillchurch.org/event/sacrament-church-worship-service/2028-11-05/
LOCATION:Brush Hill Cumberland Presbyterian Church\, 3705 Brush Hill Road\, Nashville\, TN\, 37216\, United States
CATEGORIES:Rentals
END:VEVENT
BEGIN:VEVENT
DTSTART;TZID=America/Chicago:20281112T103000
DTEND;TZID=America/Chicago:20281112T120000
DTSTAMP:20260419T230855
CREATED:20250703T164633Z
LAST-MODIFIED:20250703T164633Z
UID:10004339-1857637800-1857643200@brushhillchurch.org
SUMMARY:Sacrament Church Worship Service
DESCRIPTION:Sacrament Church\, who shares our space\, worships in our fellowship hall at this time. Learn more about Sacrament Church here: https://www.sacramentchurch.com/
URL:https://brushhillchurch.org/event/sacrament-church-worship-service/2028-11-12/
LOCATION:Brush Hill Cumberland Presbyterian Church\, 3705 Brush Hill Road\, Nashville\, TN\, 37216\, United States
CATEGORIES:Rentals
END:VEVENT
BEGIN:VEVENT
DTSTART;TZID=America/Chicago:20281119T103000
DTEND;TZID=America/Chicago:20281119T120000
DTSTAMP:20260419T230855
CREATED:20250703T164633Z
LAST-MODIFIED:20250703T164633Z
UID:10004340-1858242600-1858248000@brushhillchurch.org
SUMMARY:Sacrament Church Worship Service
DESCRIPTION:Sacrament Church\, who shares our space\, worships in our fellowship hall at this time. Learn more about Sacrament Church here: https://www.sacramentchurch.com/
URL:https://brushhillchurch.org/event/sacrament-church-worship-service/2028-11-19/
LOCATION:Brush Hill Cumberland Presbyterian Church\, 3705 Brush Hill Road\, Nashville\, TN\, 37216\, United States
CATEGORIES:Rentals
END:VEVENT
BEGIN:VEVENT
DTSTART;TZID=America/Chicago:20281126T103000
DTEND;TZID=America/Chicago:20281126T120000
DTSTAMP:20260419T230855
CREATED:20250703T164633Z
LAST-MODIFIED:20250703T164633Z
UID:10004341-1858847400-1858852800@brushhillchurch.org
SUMMARY:Sacrament Church Worship Service
DESCRIPTION:Sacrament Church\, who shares our space\, worships in our fellowship hall at this time. Learn more about Sacrament Church here: https://www.sacramentchurch.com/
URL:https://brushhillchurch.org/event/sacrament-church-worship-service/2028-11-26/
LOCATION:Brush Hill Cumberland Presbyterian Church\, 3705 Brush Hill Road\, Nashville\, TN\, 37216\, United States
CATEGORIES:Rentals
END:VEVENT
BEGIN:VEVENT
DTSTART;TZID=America/Chicago:20281203T103000
DTEND;TZID=America/Chicago:20281203T120000
DTSTAMP:20260419T230855
CREATED:20250703T164633Z
LAST-MODIFIED:20250703T164633Z
UID:10004342-1859452200-1859457600@brushhillchurch.org
SUMMARY:Sacrament Church Worship Service
DESCRIPTION:Sacrament Church\, who shares our space\, worships in our fellowship hall at this time. Learn more about Sacrament Church here: https://www.sacramentchurch.com/
URL:https://brushhillchurch.org/event/sacrament-church-worship-service/2028-12-03/
LOCATION:Brush Hill Cumberland Presbyterian Church\, 3705 Brush Hill Road\, Nashville\, TN\, 37216\, United States
CATEGORIES:Rentals
END:VEVENT
BEGIN:VEVENT
DTSTART;TZID=America/Chicago:20281210T103000
DTEND;TZID=America/Chicago:20281210T120000
DTSTAMP:20260419T230855
CREATED:20250703T164633Z
LAST-MODIFIED:20250703T164633Z
UID:10004343-1860057000-1860062400@brushhillchurch.org
SUMMARY:Sacrament Church Worship Service
DESCRIPTION:Sacrament Church\, who shares our space\, worships in our fellowship hall at this time. Learn more about Sacrament Church here: https://www.sacramentchurch.com/
URL:https://brushhillchurch.org/event/sacrament-church-worship-service/2028-12-10/
LOCATION:Brush Hill Cumberland Presbyterian Church\, 3705 Brush Hill Road\, Nashville\, TN\, 37216\, United States
CATEGORIES:Rentals
END:VEVENT
BEGIN:VEVENT
DTSTART;TZID=America/Chicago:20281217T103000
DTEND;TZID=America/Chicago:20281217T120000
DTSTAMP:20260419T230855
CREATED:20250703T164633Z
LAST-MODIFIED:20250703T164633Z
UID:10004344-1860661800-1860667200@brushhillchurch.org
SUMMARY:Sacrament Church Worship Service
DESCRIPTION:Sacrament Church\, who shares our space\, worships in our fellowship hall at this time. Learn more about Sacrament Church here: https://www.sacramentchurch.com/
URL:https://brushhillchurch.org/event/sacrament-church-worship-service/2028-12-17/
LOCATION:Brush Hill Cumberland Presbyterian Church\, 3705 Brush Hill Road\, Nashville\, TN\, 37216\, United States
CATEGORIES:Rentals
END:VEVENT
BEGIN:VEVENT
DTSTART;TZID=America/Chicago:20281224T103000
DTEND;TZID=America/Chicago:20281224T120000
DTSTAMP:20260419T230855
CREATED:20250703T164633Z
LAST-MODIFIED:20250703T164633Z
UID:10004345-1861266600-1861272000@brushhillchurch.org
SUMMARY:Sacrament Church Worship Service
DESCRIPTION:Sacrament Church\, who shares our space\, worships in our fellowship hall at this time. Learn more about Sacrament Church here: https://www.sacramentchurch.com/
URL:https://brushhillchurch.org/event/sacrament-church-worship-service/2028-12-24/
LOCATION:Brush Hill Cumberland Presbyterian Church\, 3705 Brush Hill Road\, Nashville\, TN\, 37216\, United States
CATEGORIES:Rentals
END:VEVENT
BEGIN:VEVENT
DTSTART;TZID=America/Chicago:20281231T103000
DTEND;TZID=America/Chicago:20281231T120000
DTSTAMP:20260419T230855
CREATED:20250703T164633Z
LAST-MODIFIED:20250703T164633Z
UID:10004346-1861871400-1861876800@brushhillchurch.org
SUMMARY:Sacrament Church Worship Service
DESCRIPTION:Sacrament Church\, who shares our space\, worships in our fellowship hall at this time. Learn more about Sacrament Church here: https://www.sacramentchurch.com/
URL:https://brushhillchurch.org/event/sacrament-church-worship-service/2028-12-31/
LOCATION:Brush Hill Cumberland Presbyterian Church\, 3705 Brush Hill Road\, Nashville\, TN\, 37216\, United States
CATEGORIES:Rentals
END:VEVENT
BEGIN:VEVENT
DTSTART;TZID=America/Chicago:20290107T103000
DTEND;TZID=America/Chicago:20290107T120000
DTSTAMP:20260419T230855
CREATED:20250703T164633Z
LAST-MODIFIED:20250703T164633Z
UID:10004347-1862476200-1862481600@brushhillchurch.org
SUMMARY:Sacrament Church Worship Service
DESCRIPTION:Sacrament Church\, who shares our space\, worships in our fellowship hall at this time. Learn more about Sacrament Church here: https://www.sacramentchurch.com/
URL:https://brushhillchurch.org/event/sacrament-church-worship-service/2029-01-07/
LOCATION:Brush Hill Cumberland Presbyterian Church\, 3705 Brush Hill Road\, Nashville\, TN\, 37216\, United States
CATEGORIES:Rentals
END:VEVENT
BEGIN:VEVENT
DTSTART;TZID=America/Chicago:20290114T103000
DTEND;TZID=America/Chicago:20290114T120000
DTSTAMP:20260419T230855
CREATED:20250703T164633Z
LAST-MODIFIED:20250703T164633Z
UID:10004348-1863081000-1863086400@brushhillchurch.org
SUMMARY:Sacrament Church Worship Service
DESCRIPTION:Sacrament Church\, who shares our space\, worships in our fellowship hall at this time. Learn more about Sacrament Church here: https://www.sacramentchurch.com/
URL:https://brushhillchurch.org/event/sacrament-church-worship-service/2029-01-14/
LOCATION:Brush Hill Cumberland Presbyterian Church\, 3705 Brush Hill Road\, Nashville\, TN\, 37216\, United States
CATEGORIES:Rentals
END:VEVENT
BEGIN:VEVENT
DTSTART;TZID=America/Chicago:20290121T103000
DTEND;TZID=America/Chicago:20290121T120000
DTSTAMP:20260419T230855
CREATED:20250703T164633Z
LAST-MODIFIED:20250703T164633Z
UID:10004349-1863685800-1863691200@brushhillchurch.org
SUMMARY:Sacrament Church Worship Service
DESCRIPTION:Sacrament Church\, who shares our space\, worships in our fellowship hall at this time. Learn more about Sacrament Church here: https://www.sacramentchurch.com/
URL:https://brushhillchurch.org/event/sacrament-church-worship-service/2029-01-21/
LOCATION:Brush Hill Cumberland Presbyterian Church\, 3705 Brush Hill Road\, Nashville\, TN\, 37216\, United States
CATEGORIES:Rentals
END:VEVENT
BEGIN:VEVENT
DTSTART;TZID=America/Chicago:20290128T103000
DTEND;TZID=America/Chicago:20290128T120000
DTSTAMP:20260419T230855
CREATED:20250703T164633Z
LAST-MODIFIED:20250703T164633Z
UID:10004350-1864290600-1864296000@brushhillchurch.org
SUMMARY:Sacrament Church Worship Service
DESCRIPTION:Sacrament Church\, who shares our space\, worships in our fellowship hall at this time. Learn more about Sacrament Church here: https://www.sacramentchurch.com/
URL:https://brushhillchurch.org/event/sacrament-church-worship-service/2029-01-28/
LOCATION:Brush Hill Cumberland Presbyterian Church\, 3705 Brush Hill Road\, Nashville\, TN\, 37216\, United States
CATEGORIES:Rentals
END:VEVENT
BEGIN:VEVENT
DTSTART;TZID=America/Chicago:20290204T103000
DTEND;TZID=America/Chicago:20290204T120000
DTSTAMP:20260419T230855
CREATED:20250703T164633Z
LAST-MODIFIED:20250703T164633Z
UID:10004351-1864895400-1864900800@brushhillchurch.org
SUMMARY:Sacrament Church Worship Service
DESCRIPTION:Sacrament Church\, who shares our space\, worships in our fellowship hall at this time. Learn more about Sacrament Church here: https://www.sacramentchurch.com/
URL:https://brushhillchurch.org/event/sacrament-church-worship-service/2029-02-04/
LOCATION:Brush Hill Cumberland Presbyterian Church\, 3705 Brush Hill Road\, Nashville\, TN\, 37216\, United States
CATEGORIES:Rentals
END:VEVENT
BEGIN:VEVENT
DTSTART;TZID=America/Chicago:20290211T103000
DTEND;TZID=America/Chicago:20290211T120000
DTSTAMP:20260419T230855
CREATED:20250703T164633Z
LAST-MODIFIED:20250703T164633Z
UID:10004352-1865500200-1865505600@brushhillchurch.org
SUMMARY:Sacrament Church Worship Service
DESCRIPTION:Sacrament Church\, who shares our space\, worships in our fellowship hall at this time. Learn more about Sacrament Church here: https://www.sacramentchurch.com/
URL:https://brushhillchurch.org/event/sacrament-church-worship-service/2029-02-11/
LOCATION:Brush Hill Cumberland Presbyterian Church\, 3705 Brush Hill Road\, Nashville\, TN\, 37216\, United States
CATEGORIES:Rentals
END:VEVENT
BEGIN:VEVENT
DTSTART;TZID=America/Chicago:20290218T103000
DTEND;TZID=America/Chicago:20290218T120000
DTSTAMP:20260419T230855
CREATED:20250703T164633Z
LAST-MODIFIED:20250703T164633Z
UID:10004353-1866105000-1866110400@brushhillchurch.org
SUMMARY:Sacrament Church Worship Service
DESCRIPTION:Sacrament Church\, who shares our space\, worships in our fellowship hall at this time. Learn more about Sacrament Church here: https://www.sacramentchurch.com/
URL:https://brushhillchurch.org/event/sacrament-church-worship-service/2029-02-18/
LOCATION:Brush Hill Cumberland Presbyterian Church\, 3705 Brush Hill Road\, Nashville\, TN\, 37216\, United States
CATEGORIES:Rentals
END:VEVENT
BEGIN:VEVENT
DTSTART;TZID=America/Chicago:20290225T103000
DTEND;TZID=America/Chicago:20290225T120000
DTSTAMP:20260419T230855
CREATED:20250703T164633Z
LAST-MODIFIED:20250703T164633Z
UID:10004354-1866709800-1866715200@brushhillchurch.org
SUMMARY:Sacrament Church Worship Service
DESCRIPTION:Sacrament Church\, who shares our space\, worships in our fellowship hall at this time. Learn more about Sacrament Church here: https://www.sacramentchurch.com/
URL:https://brushhillchurch.org/event/sacrament-church-worship-service/2029-02-25/
LOCATION:Brush Hill Cumberland Presbyterian Church\, 3705 Brush Hill Road\, Nashville\, TN\, 37216\, United States
CATEGORIES:Rentals
END:VEVENT
BEGIN:VEVENT
DTSTART;TZID=America/Chicago:20290304T103000
DTEND;TZID=America/Chicago:20290304T120000
DTSTAMP:20260419T230855
CREATED:20250703T164633Z
LAST-MODIFIED:20250703T164633Z
UID:10004355-1867314600-1867320000@brushhillchurch.org
SUMMARY:Sacrament Church Worship Service
DESCRIPTION:Sacrament Church\, who shares our space\, worships in our fellowship hall at this time. Learn more about Sacrament Church here: https://www.sacramentchurch.com/
URL:https://brushhillchurch.org/event/sacrament-church-worship-service/2029-03-04/
LOCATION:Brush Hill Cumberland Presbyterian Church\, 3705 Brush Hill Road\, Nashville\, TN\, 37216\, United States
CATEGORIES:Rentals
END:VEVENT
BEGIN:VEVENT
DTSTART;TZID=America/Chicago:20290311T103000
DTEND;TZID=America/Chicago:20290311T120000
DTSTAMP:20260419T230855
CREATED:20250703T164633Z
LAST-MODIFIED:20250703T164633Z
UID:10004356-1867919400-1867924800@brushhillchurch.org
SUMMARY:Sacrament Church Worship Service
DESCRIPTION:Sacrament Church\, who shares our space\, worships in our fellowship hall at this time. Learn more about Sacrament Church here: https://www.sacramentchurch.com/
URL:https://brushhillchurch.org/event/sacrament-church-worship-service/2029-03-11/
LOCATION:Brush Hill Cumberland Presbyterian Church\, 3705 Brush Hill Road\, Nashville\, TN\, 37216\, United States
CATEGORIES:Rentals
END:VEVENT
BEGIN:VEVENT
DTSTART;TZID=America/Chicago:20290318T103000
DTEND;TZID=America/Chicago:20290318T120000
DTSTAMP:20260419T230855
CREATED:20250703T164633Z
LAST-MODIFIED:20250703T164633Z
UID:10004357-1868524200-1868529600@brushhillchurch.org
SUMMARY:Sacrament Church Worship Service
DESCRIPTION:Sacrament Church\, who shares our space\, worships in our fellowship hall at this time. Learn more about Sacrament Church here: https://www.sacramentchurch.com/
URL:https://brushhillchurch.org/event/sacrament-church-worship-service/2029-03-18/
LOCATION:Brush Hill Cumberland Presbyterian Church\, 3705 Brush Hill Road\, Nashville\, TN\, 37216\, United States
CATEGORIES:Rentals
END:VEVENT
BEGIN:VEVENT
DTSTART;TZID=America/Chicago:20290325T103000
DTEND;TZID=America/Chicago:20290325T120000
DTSTAMP:20260419T230855
CREATED:20250703T164633Z
LAST-MODIFIED:20250703T164633Z
UID:10004358-1869129000-1869134400@brushhillchurch.org
SUMMARY:Sacrament Church Worship Service
DESCRIPTION:Sacrament Church\, who shares our space\, worships in our fellowship hall at this time. Learn more about Sacrament Church here: https://www.sacramentchurch.com/
URL:https://brushhillchurch.org/event/sacrament-church-worship-service/2029-03-25/
LOCATION:Brush Hill Cumberland Presbyterian Church\, 3705 Brush Hill Road\, Nashville\, TN\, 37216\, United States
CATEGORIES:Rentals
END:VEVENT
BEGIN:VEVENT
DTSTART;TZID=America/Chicago:20290401T103000
DTEND;TZID=America/Chicago:20290401T120000
DTSTAMP:20260419T230855
CREATED:20250703T164633Z
LAST-MODIFIED:20250703T164633Z
UID:10004359-1869733800-1869739200@brushhillchurch.org
SUMMARY:Sacrament Church Worship Service
DESCRIPTION:Sacrament Church\, who shares our space\, worships in our fellowship hall at this time. Learn more about Sacrament Church here: https://www.sacramentchurch.com/
URL:https://brushhillchurch.org/event/sacrament-church-worship-service/2029-04-01/
LOCATION:Brush Hill Cumberland Presbyterian Church\, 3705 Brush Hill Road\, Nashville\, TN\, 37216\, United States
CATEGORIES:Rentals
END:VEVENT
END:VCALENDAR