BEGIN:VCALENDAR
VERSION:2.0
PRODID:-//Brush Hill Cumberland Presbyterian Church - ECPv6.15.20//NONSGML v1.0//EN
CALSCALE:GREGORIAN
METHOD:PUBLISH
X-ORIGINAL-URL:https://brushhillchurch.org
X-WR-CALDESC:Events for Brush Hill Cumberland Presbyterian Church
REFRESH-INTERVAL;VALUE=DURATION:PT1H
X-Robots-Tag:noindex
X-PUBLISHED-TTL:PT1H
BEGIN:VTIMEZONE
TZID:America/Chicago
BEGIN:DAYLIGHT
TZOFFSETFROM:-0600
TZOFFSETTO:-0500
TZNAME:CDT
DTSTART:20280312T080000
END:DAYLIGHT
BEGIN:STANDARD
TZOFFSETFROM:-0500
TZOFFSETTO:-0600
TZNAME:CST
DTSTART:20281105T070000
END:STANDARD
BEGIN:DAYLIGHT
TZOFFSETFROM:-0600
TZOFFSETTO:-0500
TZNAME:CDT
DTSTART:20290311T080000
END:DAYLIGHT
BEGIN:STANDARD
TZOFFSETFROM:-0500
TZOFFSETTO:-0600
TZNAME:CST
DTSTART:20291104T070000
END:STANDARD
BEGIN:DAYLIGHT
TZOFFSETFROM:-0600
TZOFFSETTO:-0500
TZNAME:CDT
DTSTART:20300310T080000
END:DAYLIGHT
BEGIN:STANDARD
TZOFFSETFROM:-0500
TZOFFSETTO:-0600
TZNAME:CST
DTSTART:20301103T070000
END:STANDARD
END:VTIMEZONE
BEGIN:VEVENT
DTSTART;TZID=America/Chicago:20290506T103000
DTEND;TZID=America/Chicago:20290506T120000
DTSTAMP:20260419T161844
CREATED:20250703T164633Z
LAST-MODIFIED:20250703T164633Z
UID:10004364-1872757800-1872763200@brushhillchurch.org
SUMMARY:Sacrament Church Worship Service
DESCRIPTION:Sacrament Church\, who shares our space\, worships in our fellowship hall at this time. Learn more about Sacrament Church here: https://www.sacramentchurch.com/
URL:https://brushhillchurch.org/event/sacrament-church-worship-service/2029-05-06/
LOCATION:Brush Hill Cumberland Presbyterian Church\, 3705 Brush Hill Road\, Nashville\, TN\, 37216\, United States
CATEGORIES:Rentals
END:VEVENT
BEGIN:VEVENT
DTSTART;TZID=America/Chicago:20290513T103000
DTEND;TZID=America/Chicago:20290513T120000
DTSTAMP:20260419T161844
CREATED:20250703T164633Z
LAST-MODIFIED:20250703T164633Z
UID:10004365-1873362600-1873368000@brushhillchurch.org
SUMMARY:Sacrament Church Worship Service
DESCRIPTION:Sacrament Church\, who shares our space\, worships in our fellowship hall at this time. Learn more about Sacrament Church here: https://www.sacramentchurch.com/
URL:https://brushhillchurch.org/event/sacrament-church-worship-service/2029-05-13/
LOCATION:Brush Hill Cumberland Presbyterian Church\, 3705 Brush Hill Road\, Nashville\, TN\, 37216\, United States
CATEGORIES:Rentals
END:VEVENT
BEGIN:VEVENT
DTSTART;TZID=America/Chicago:20290520T103000
DTEND;TZID=America/Chicago:20290520T120000
DTSTAMP:20260419T161844
CREATED:20250703T164633Z
LAST-MODIFIED:20250703T164633Z
UID:10004366-1873967400-1873972800@brushhillchurch.org
SUMMARY:Sacrament Church Worship Service
DESCRIPTION:Sacrament Church\, who shares our space\, worships in our fellowship hall at this time. Learn more about Sacrament Church here: https://www.sacramentchurch.com/
URL:https://brushhillchurch.org/event/sacrament-church-worship-service/2029-05-20/
LOCATION:Brush Hill Cumberland Presbyterian Church\, 3705 Brush Hill Road\, Nashville\, TN\, 37216\, United States
CATEGORIES:Rentals
END:VEVENT
BEGIN:VEVENT
DTSTART;TZID=America/Chicago:20290527T103000
DTEND;TZID=America/Chicago:20290527T120000
DTSTAMP:20260419T161844
CREATED:20250703T164633Z
LAST-MODIFIED:20250703T164633Z
UID:10004367-1874572200-1874577600@brushhillchurch.org
SUMMARY:Sacrament Church Worship Service
DESCRIPTION:Sacrament Church\, who shares our space\, worships in our fellowship hall at this time. Learn more about Sacrament Church here: https://www.sacramentchurch.com/
URL:https://brushhillchurch.org/event/sacrament-church-worship-service/2029-05-27/
LOCATION:Brush Hill Cumberland Presbyterian Church\, 3705 Brush Hill Road\, Nashville\, TN\, 37216\, United States
CATEGORIES:Rentals
END:VEVENT
BEGIN:VEVENT
DTSTART;TZID=America/Chicago:20290603T103000
DTEND;TZID=America/Chicago:20290603T120000
DTSTAMP:20260419T161844
CREATED:20250703T164633Z
LAST-MODIFIED:20250703T164633Z
UID:10004368-1875177000-1875182400@brushhillchurch.org
SUMMARY:Sacrament Church Worship Service
DESCRIPTION:Sacrament Church\, who shares our space\, worships in our fellowship hall at this time. Learn more about Sacrament Church here: https://www.sacramentchurch.com/
URL:https://brushhillchurch.org/event/sacrament-church-worship-service/2029-06-03/
LOCATION:Brush Hill Cumberland Presbyterian Church\, 3705 Brush Hill Road\, Nashville\, TN\, 37216\, United States
CATEGORIES:Rentals
END:VEVENT
BEGIN:VEVENT
DTSTART;TZID=America/Chicago:20290610T103000
DTEND;TZID=America/Chicago:20290610T120000
DTSTAMP:20260419T161844
CREATED:20250703T164633Z
LAST-MODIFIED:20250703T164633Z
UID:10004369-1875781800-1875787200@brushhillchurch.org
SUMMARY:Sacrament Church Worship Service
DESCRIPTION:Sacrament Church\, who shares our space\, worships in our fellowship hall at this time. Learn more about Sacrament Church here: https://www.sacramentchurch.com/
URL:https://brushhillchurch.org/event/sacrament-church-worship-service/2029-06-10/
LOCATION:Brush Hill Cumberland Presbyterian Church\, 3705 Brush Hill Road\, Nashville\, TN\, 37216\, United States
CATEGORIES:Rentals
END:VEVENT
BEGIN:VEVENT
DTSTART;TZID=America/Chicago:20290617T103000
DTEND;TZID=America/Chicago:20290617T120000
DTSTAMP:20260419T161844
CREATED:20250703T164633Z
LAST-MODIFIED:20250703T164633Z
UID:10004370-1876386600-1876392000@brushhillchurch.org
SUMMARY:Sacrament Church Worship Service
DESCRIPTION:Sacrament Church\, who shares our space\, worships in our fellowship hall at this time. Learn more about Sacrament Church here: https://www.sacramentchurch.com/
URL:https://brushhillchurch.org/event/sacrament-church-worship-service/2029-06-17/
LOCATION:Brush Hill Cumberland Presbyterian Church\, 3705 Brush Hill Road\, Nashville\, TN\, 37216\, United States
CATEGORIES:Rentals
END:VEVENT
BEGIN:VEVENT
DTSTART;TZID=America/Chicago:20290624T103000
DTEND;TZID=America/Chicago:20290624T120000
DTSTAMP:20260419T161844
CREATED:20250703T164633Z
LAST-MODIFIED:20250703T164633Z
UID:10004371-1876991400-1876996800@brushhillchurch.org
SUMMARY:Sacrament Church Worship Service
DESCRIPTION:Sacrament Church\, who shares our space\, worships in our fellowship hall at this time. Learn more about Sacrament Church here: https://www.sacramentchurch.com/
URL:https://brushhillchurch.org/event/sacrament-church-worship-service/2029-06-24/
LOCATION:Brush Hill Cumberland Presbyterian Church\, 3705 Brush Hill Road\, Nashville\, TN\, 37216\, United States
CATEGORIES:Rentals
END:VEVENT
BEGIN:VEVENT
DTSTART;TZID=America/Chicago:20290701T103000
DTEND;TZID=America/Chicago:20290701T120000
DTSTAMP:20260419T161844
CREATED:20250703T164633Z
LAST-MODIFIED:20250703T164633Z
UID:10004372-1877596200-1877601600@brushhillchurch.org
SUMMARY:Sacrament Church Worship Service
DESCRIPTION:Sacrament Church\, who shares our space\, worships in our fellowship hall at this time. Learn more about Sacrament Church here: https://www.sacramentchurch.com/
URL:https://brushhillchurch.org/event/sacrament-church-worship-service/2029-07-01/
LOCATION:Brush Hill Cumberland Presbyterian Church\, 3705 Brush Hill Road\, Nashville\, TN\, 37216\, United States
CATEGORIES:Rentals
END:VEVENT
BEGIN:VEVENT
DTSTART;TZID=America/Chicago:20290708T103000
DTEND;TZID=America/Chicago:20290708T120000
DTSTAMP:20260419T161844
CREATED:20250703T164633Z
LAST-MODIFIED:20250703T164633Z
UID:10004373-1878201000-1878206400@brushhillchurch.org
SUMMARY:Sacrament Church Worship Service
DESCRIPTION:Sacrament Church\, who shares our space\, worships in our fellowship hall at this time. Learn more about Sacrament Church here: https://www.sacramentchurch.com/
URL:https://brushhillchurch.org/event/sacrament-church-worship-service/2029-07-08/
LOCATION:Brush Hill Cumberland Presbyterian Church\, 3705 Brush Hill Road\, Nashville\, TN\, 37216\, United States
CATEGORIES:Rentals
END:VEVENT
BEGIN:VEVENT
DTSTART;TZID=America/Chicago:20290715T103000
DTEND;TZID=America/Chicago:20290715T120000
DTSTAMP:20260419T161844
CREATED:20250703T164633Z
LAST-MODIFIED:20250703T164633Z
UID:10004374-1878805800-1878811200@brushhillchurch.org
SUMMARY:Sacrament Church Worship Service
DESCRIPTION:Sacrament Church\, who shares our space\, worships in our fellowship hall at this time. Learn more about Sacrament Church here: https://www.sacramentchurch.com/
URL:https://brushhillchurch.org/event/sacrament-church-worship-service/2029-07-15/
LOCATION:Brush Hill Cumberland Presbyterian Church\, 3705 Brush Hill Road\, Nashville\, TN\, 37216\, United States
CATEGORIES:Rentals
END:VEVENT
BEGIN:VEVENT
DTSTART;TZID=America/Chicago:20290722T103000
DTEND;TZID=America/Chicago:20290722T120000
DTSTAMP:20260419T161844
CREATED:20250703T164633Z
LAST-MODIFIED:20250703T164633Z
UID:10004375-1879410600-1879416000@brushhillchurch.org
SUMMARY:Sacrament Church Worship Service
DESCRIPTION:Sacrament Church\, who shares our space\, worships in our fellowship hall at this time. Learn more about Sacrament Church here: https://www.sacramentchurch.com/
URL:https://brushhillchurch.org/event/sacrament-church-worship-service/2029-07-22/
LOCATION:Brush Hill Cumberland Presbyterian Church\, 3705 Brush Hill Road\, Nashville\, TN\, 37216\, United States
CATEGORIES:Rentals
END:VEVENT
BEGIN:VEVENT
DTSTART;TZID=America/Chicago:20290729T103000
DTEND;TZID=America/Chicago:20290729T120000
DTSTAMP:20260419T161844
CREATED:20250703T164633Z
LAST-MODIFIED:20250703T164633Z
UID:10004376-1880015400-1880020800@brushhillchurch.org
SUMMARY:Sacrament Church Worship Service
DESCRIPTION:Sacrament Church\, who shares our space\, worships in our fellowship hall at this time. Learn more about Sacrament Church here: https://www.sacramentchurch.com/
URL:https://brushhillchurch.org/event/sacrament-church-worship-service/2029-07-29/
LOCATION:Brush Hill Cumberland Presbyterian Church\, 3705 Brush Hill Road\, Nashville\, TN\, 37216\, United States
CATEGORIES:Rentals
END:VEVENT
BEGIN:VEVENT
DTSTART;TZID=America/Chicago:20290805T103000
DTEND;TZID=America/Chicago:20290805T120000
DTSTAMP:20260419T161844
CREATED:20250703T164633Z
LAST-MODIFIED:20250703T164633Z
UID:10004377-1880620200-1880625600@brushhillchurch.org
SUMMARY:Sacrament Church Worship Service
DESCRIPTION:Sacrament Church\, who shares our space\, worships in our fellowship hall at this time. Learn more about Sacrament Church here: https://www.sacramentchurch.com/
URL:https://brushhillchurch.org/event/sacrament-church-worship-service/2029-08-05/
LOCATION:Brush Hill Cumberland Presbyterian Church\, 3705 Brush Hill Road\, Nashville\, TN\, 37216\, United States
CATEGORIES:Rentals
END:VEVENT
BEGIN:VEVENT
DTSTART;TZID=America/Chicago:20290812T103000
DTEND;TZID=America/Chicago:20290812T120000
DTSTAMP:20260419T161844
CREATED:20250703T164633Z
LAST-MODIFIED:20250703T164633Z
UID:10004378-1881225000-1881230400@brushhillchurch.org
SUMMARY:Sacrament Church Worship Service
DESCRIPTION:Sacrament Church\, who shares our space\, worships in our fellowship hall at this time. Learn more about Sacrament Church here: https://www.sacramentchurch.com/
URL:https://brushhillchurch.org/event/sacrament-church-worship-service/2029-08-12/
LOCATION:Brush Hill Cumberland Presbyterian Church\, 3705 Brush Hill Road\, Nashville\, TN\, 37216\, United States
CATEGORIES:Rentals
END:VEVENT
BEGIN:VEVENT
DTSTART;TZID=America/Chicago:20290819T103000
DTEND;TZID=America/Chicago:20290819T120000
DTSTAMP:20260419T161844
CREATED:20250703T164633Z
LAST-MODIFIED:20250703T164633Z
UID:10004379-1881829800-1881835200@brushhillchurch.org
SUMMARY:Sacrament Church Worship Service
DESCRIPTION:Sacrament Church\, who shares our space\, worships in our fellowship hall at this time. Learn more about Sacrament Church here: https://www.sacramentchurch.com/
URL:https://brushhillchurch.org/event/sacrament-church-worship-service/2029-08-19/
LOCATION:Brush Hill Cumberland Presbyterian Church\, 3705 Brush Hill Road\, Nashville\, TN\, 37216\, United States
CATEGORIES:Rentals
END:VEVENT
BEGIN:VEVENT
DTSTART;TZID=America/Chicago:20290826T103000
DTEND;TZID=America/Chicago:20290826T120000
DTSTAMP:20260419T161844
CREATED:20250703T164633Z
LAST-MODIFIED:20250703T164633Z
UID:10004380-1882434600-1882440000@brushhillchurch.org
SUMMARY:Sacrament Church Worship Service
DESCRIPTION:Sacrament Church\, who shares our space\, worships in our fellowship hall at this time. Learn more about Sacrament Church here: https://www.sacramentchurch.com/
URL:https://brushhillchurch.org/event/sacrament-church-worship-service/2029-08-26/
LOCATION:Brush Hill Cumberland Presbyterian Church\, 3705 Brush Hill Road\, Nashville\, TN\, 37216\, United States
CATEGORIES:Rentals
END:VEVENT
BEGIN:VEVENT
DTSTART;TZID=America/Chicago:20290902T103000
DTEND;TZID=America/Chicago:20290902T120000
DTSTAMP:20260419T161844
CREATED:20250703T164633Z
LAST-MODIFIED:20250703T164633Z
UID:10004381-1883039400-1883044800@brushhillchurch.org
SUMMARY:Sacrament Church Worship Service
DESCRIPTION:Sacrament Church\, who shares our space\, worships in our fellowship hall at this time. Learn more about Sacrament Church here: https://www.sacramentchurch.com/
URL:https://brushhillchurch.org/event/sacrament-church-worship-service/2029-09-02/
LOCATION:Brush Hill Cumberland Presbyterian Church\, 3705 Brush Hill Road\, Nashville\, TN\, 37216\, United States
CATEGORIES:Rentals
END:VEVENT
BEGIN:VEVENT
DTSTART;TZID=America/Chicago:20290909T103000
DTEND;TZID=America/Chicago:20290909T120000
DTSTAMP:20260419T161844
CREATED:20250703T164633Z
LAST-MODIFIED:20250703T164633Z
UID:10004382-1883644200-1883649600@brushhillchurch.org
SUMMARY:Sacrament Church Worship Service
DESCRIPTION:Sacrament Church\, who shares our space\, worships in our fellowship hall at this time. Learn more about Sacrament Church here: https://www.sacramentchurch.com/
URL:https://brushhillchurch.org/event/sacrament-church-worship-service/2029-09-09/
LOCATION:Brush Hill Cumberland Presbyterian Church\, 3705 Brush Hill Road\, Nashville\, TN\, 37216\, United States
CATEGORIES:Rentals
END:VEVENT
BEGIN:VEVENT
DTSTART;TZID=America/Chicago:20290916T103000
DTEND;TZID=America/Chicago:20290916T120000
DTSTAMP:20260419T161844
CREATED:20250703T164633Z
LAST-MODIFIED:20250703T164633Z
UID:10004383-1884249000-1884254400@brushhillchurch.org
SUMMARY:Sacrament Church Worship Service
DESCRIPTION:Sacrament Church\, who shares our space\, worships in our fellowship hall at this time. Learn more about Sacrament Church here: https://www.sacramentchurch.com/
URL:https://brushhillchurch.org/event/sacrament-church-worship-service/2029-09-16/
LOCATION:Brush Hill Cumberland Presbyterian Church\, 3705 Brush Hill Road\, Nashville\, TN\, 37216\, United States
CATEGORIES:Rentals
END:VEVENT
BEGIN:VEVENT
DTSTART;TZID=America/Chicago:20290923T103000
DTEND;TZID=America/Chicago:20290923T120000
DTSTAMP:20260419T161845
CREATED:20250703T164633Z
LAST-MODIFIED:20250703T164633Z
UID:10004384-1884853800-1884859200@brushhillchurch.org
SUMMARY:Sacrament Church Worship Service
DESCRIPTION:Sacrament Church\, who shares our space\, worships in our fellowship hall at this time. Learn more about Sacrament Church here: https://www.sacramentchurch.com/
URL:https://brushhillchurch.org/event/sacrament-church-worship-service/2029-09-23/
LOCATION:Brush Hill Cumberland Presbyterian Church\, 3705 Brush Hill Road\, Nashville\, TN\, 37216\, United States
CATEGORIES:Rentals
END:VEVENT
BEGIN:VEVENT
DTSTART;TZID=America/Chicago:20290930T103000
DTEND;TZID=America/Chicago:20290930T120000
DTSTAMP:20260419T161845
CREATED:20250703T164633Z
LAST-MODIFIED:20250703T164633Z
UID:10004385-1885458600-1885464000@brushhillchurch.org
SUMMARY:Sacrament Church Worship Service
DESCRIPTION:Sacrament Church\, who shares our space\, worships in our fellowship hall at this time. Learn more about Sacrament Church here: https://www.sacramentchurch.com/
URL:https://brushhillchurch.org/event/sacrament-church-worship-service/2029-09-30/
LOCATION:Brush Hill Cumberland Presbyterian Church\, 3705 Brush Hill Road\, Nashville\, TN\, 37216\, United States
CATEGORIES:Rentals
END:VEVENT
BEGIN:VEVENT
DTSTART;TZID=America/Chicago:20291007T103000
DTEND;TZID=America/Chicago:20291007T120000
DTSTAMP:20260419T161845
CREATED:20250703T164633Z
LAST-MODIFIED:20250703T164633Z
UID:10004386-1886063400-1886068800@brushhillchurch.org
SUMMARY:Sacrament Church Worship Service
DESCRIPTION:Sacrament Church\, who shares our space\, worships in our fellowship hall at this time. Learn more about Sacrament Church here: https://www.sacramentchurch.com/
URL:https://brushhillchurch.org/event/sacrament-church-worship-service/2029-10-07/
LOCATION:Brush Hill Cumberland Presbyterian Church\, 3705 Brush Hill Road\, Nashville\, TN\, 37216\, United States
CATEGORIES:Rentals
END:VEVENT
BEGIN:VEVENT
DTSTART;TZID=America/Chicago:20291014T103000
DTEND;TZID=America/Chicago:20291014T120000
DTSTAMP:20260419T161845
CREATED:20250703T164633Z
LAST-MODIFIED:20250703T164633Z
UID:10004387-1886668200-1886673600@brushhillchurch.org
SUMMARY:Sacrament Church Worship Service
DESCRIPTION:Sacrament Church\, who shares our space\, worships in our fellowship hall at this time. Learn more about Sacrament Church here: https://www.sacramentchurch.com/
URL:https://brushhillchurch.org/event/sacrament-church-worship-service/2029-10-14/
LOCATION:Brush Hill Cumberland Presbyterian Church\, 3705 Brush Hill Road\, Nashville\, TN\, 37216\, United States
CATEGORIES:Rentals
END:VEVENT
BEGIN:VEVENT
DTSTART;TZID=America/Chicago:20291021T103000
DTEND;TZID=America/Chicago:20291021T120000
DTSTAMP:20260419T161845
CREATED:20250703T164633Z
LAST-MODIFIED:20250703T164633Z
UID:10004388-1887273000-1887278400@brushhillchurch.org
SUMMARY:Sacrament Church Worship Service
DESCRIPTION:Sacrament Church\, who shares our space\, worships in our fellowship hall at this time. Learn more about Sacrament Church here: https://www.sacramentchurch.com/
URL:https://brushhillchurch.org/event/sacrament-church-worship-service/2029-10-21/
LOCATION:Brush Hill Cumberland Presbyterian Church\, 3705 Brush Hill Road\, Nashville\, TN\, 37216\, United States
CATEGORIES:Rentals
END:VEVENT
BEGIN:VEVENT
DTSTART;TZID=America/Chicago:20291028T103000
DTEND;TZID=America/Chicago:20291028T120000
DTSTAMP:20260419T161845
CREATED:20250703T164633Z
LAST-MODIFIED:20250703T164633Z
UID:10004389-1887877800-1887883200@brushhillchurch.org
SUMMARY:Sacrament Church Worship Service
DESCRIPTION:Sacrament Church\, who shares our space\, worships in our fellowship hall at this time. Learn more about Sacrament Church here: https://www.sacramentchurch.com/
URL:https://brushhillchurch.org/event/sacrament-church-worship-service/2029-10-28/
LOCATION:Brush Hill Cumberland Presbyterian Church\, 3705 Brush Hill Road\, Nashville\, TN\, 37216\, United States
CATEGORIES:Rentals
END:VEVENT
BEGIN:VEVENT
DTSTART;TZID=America/Chicago:20291104T103000
DTEND;TZID=America/Chicago:20291104T120000
DTSTAMP:20260419T161845
CREATED:20250703T164633Z
LAST-MODIFIED:20250703T164633Z
UID:10004390-1888482600-1888488000@brushhillchurch.org
SUMMARY:Sacrament Church Worship Service
DESCRIPTION:Sacrament Church\, who shares our space\, worships in our fellowship hall at this time. Learn more about Sacrament Church here: https://www.sacramentchurch.com/
URL:https://brushhillchurch.org/event/sacrament-church-worship-service/2029-11-04/
LOCATION:Brush Hill Cumberland Presbyterian Church\, 3705 Brush Hill Road\, Nashville\, TN\, 37216\, United States
CATEGORIES:Rentals
END:VEVENT
BEGIN:VEVENT
DTSTART;TZID=America/Chicago:20291111T103000
DTEND;TZID=America/Chicago:20291111T120000
DTSTAMP:20260419T161845
CREATED:20250703T164633Z
LAST-MODIFIED:20250703T164633Z
UID:10004391-1889087400-1889092800@brushhillchurch.org
SUMMARY:Sacrament Church Worship Service
DESCRIPTION:Sacrament Church\, who shares our space\, worships in our fellowship hall at this time. Learn more about Sacrament Church here: https://www.sacramentchurch.com/
URL:https://brushhillchurch.org/event/sacrament-church-worship-service/2029-11-11/
LOCATION:Brush Hill Cumberland Presbyterian Church\, 3705 Brush Hill Road\, Nashville\, TN\, 37216\, United States
CATEGORIES:Rentals
END:VEVENT
BEGIN:VEVENT
DTSTART;TZID=America/Chicago:20291118T103000
DTEND;TZID=America/Chicago:20291118T120000
DTSTAMP:20260419T161845
CREATED:20250703T164633Z
LAST-MODIFIED:20250703T164633Z
UID:10004392-1889692200-1889697600@brushhillchurch.org
SUMMARY:Sacrament Church Worship Service
DESCRIPTION:Sacrament Church\, who shares our space\, worships in our fellowship hall at this time. Learn more about Sacrament Church here: https://www.sacramentchurch.com/
URL:https://brushhillchurch.org/event/sacrament-church-worship-service/2029-11-18/
LOCATION:Brush Hill Cumberland Presbyterian Church\, 3705 Brush Hill Road\, Nashville\, TN\, 37216\, United States
CATEGORIES:Rentals
END:VEVENT
BEGIN:VEVENT
DTSTART;TZID=America/Chicago:20291125T103000
DTEND;TZID=America/Chicago:20291125T120000
DTSTAMP:20260419T161845
CREATED:20250703T164633Z
LAST-MODIFIED:20250703T164633Z
UID:10004393-1890297000-1890302400@brushhillchurch.org
SUMMARY:Sacrament Church Worship Service
DESCRIPTION:Sacrament Church\, who shares our space\, worships in our fellowship hall at this time. Learn more about Sacrament Church here: https://www.sacramentchurch.com/
URL:https://brushhillchurch.org/event/sacrament-church-worship-service/2029-11-25/
LOCATION:Brush Hill Cumberland Presbyterian Church\, 3705 Brush Hill Road\, Nashville\, TN\, 37216\, United States
CATEGORIES:Rentals
END:VEVENT
END:VCALENDAR