BEGIN:VCALENDAR
VERSION:2.0
PRODID:-//Brush Hill Cumberland Presbyterian Church - ECPv6.15.20//NONSGML v1.0//EN
CALSCALE:GREGORIAN
METHOD:PUBLISH
X-ORIGINAL-URL:https://brushhillchurch.org
X-WR-CALDESC:Events for Brush Hill Cumberland Presbyterian Church
REFRESH-INTERVAL;VALUE=DURATION:PT1H
X-Robots-Tag:noindex
X-PUBLISHED-TTL:PT1H
BEGIN:VTIMEZONE
TZID:America/Chicago
BEGIN:DAYLIGHT
TZOFFSETFROM:-0600
TZOFFSETTO:-0500
TZNAME:CDT
DTSTART:20280312T080000
END:DAYLIGHT
BEGIN:STANDARD
TZOFFSETFROM:-0500
TZOFFSETTO:-0600
TZNAME:CST
DTSTART:20281105T070000
END:STANDARD
BEGIN:DAYLIGHT
TZOFFSETFROM:-0600
TZOFFSETTO:-0500
TZNAME:CDT
DTSTART:20290311T080000
END:DAYLIGHT
BEGIN:STANDARD
TZOFFSETFROM:-0500
TZOFFSETTO:-0600
TZNAME:CST
DTSTART:20291104T070000
END:STANDARD
BEGIN:DAYLIGHT
TZOFFSETFROM:-0600
TZOFFSETTO:-0500
TZNAME:CDT
DTSTART:20300310T080000
END:DAYLIGHT
BEGIN:STANDARD
TZOFFSETFROM:-0500
TZOFFSETTO:-0600
TZNAME:CST
DTSTART:20301103T070000
END:STANDARD
BEGIN:DAYLIGHT
TZOFFSETFROM:-0600
TZOFFSETTO:-0500
TZNAME:CDT
DTSTART:20310309T080000
END:DAYLIGHT
BEGIN:STANDARD
TZOFFSETFROM:-0500
TZOFFSETTO:-0600
TZNAME:CST
DTSTART:20311102T070000
END:STANDARD
END:VTIMEZONE
BEGIN:VEVENT
DTSTART;TZID=America/Chicago:20290923T103000
DTEND;TZID=America/Chicago:20290923T120000
DTSTAMP:20260419T195218
CREATED:20250703T164633Z
LAST-MODIFIED:20250703T164633Z
UID:10004384-1884853800-1884859200@brushhillchurch.org
SUMMARY:Sacrament Church Worship Service
DESCRIPTION:Sacrament Church\, who shares our space\, worships in our fellowship hall at this time. Learn more about Sacrament Church here: https://www.sacramentchurch.com/
URL:https://brushhillchurch.org/event/sacrament-church-worship-service/2029-09-23/
LOCATION:Brush Hill Cumberland Presbyterian Church\, 3705 Brush Hill Road\, Nashville\, TN\, 37216\, United States
CATEGORIES:Rentals
END:VEVENT
BEGIN:VEVENT
DTSTART;TZID=America/Chicago:20290930T103000
DTEND;TZID=America/Chicago:20290930T120000
DTSTAMP:20260419T195218
CREATED:20250703T164633Z
LAST-MODIFIED:20250703T164633Z
UID:10004385-1885458600-1885464000@brushhillchurch.org
SUMMARY:Sacrament Church Worship Service
DESCRIPTION:Sacrament Church\, who shares our space\, worships in our fellowship hall at this time. Learn more about Sacrament Church here: https://www.sacramentchurch.com/
URL:https://brushhillchurch.org/event/sacrament-church-worship-service/2029-09-30/
LOCATION:Brush Hill Cumberland Presbyterian Church\, 3705 Brush Hill Road\, Nashville\, TN\, 37216\, United States
CATEGORIES:Rentals
END:VEVENT
BEGIN:VEVENT
DTSTART;TZID=America/Chicago:20291007T103000
DTEND;TZID=America/Chicago:20291007T120000
DTSTAMP:20260419T195218
CREATED:20250703T164633Z
LAST-MODIFIED:20250703T164633Z
UID:10004386-1886063400-1886068800@brushhillchurch.org
SUMMARY:Sacrament Church Worship Service
DESCRIPTION:Sacrament Church\, who shares our space\, worships in our fellowship hall at this time. Learn more about Sacrament Church here: https://www.sacramentchurch.com/
URL:https://brushhillchurch.org/event/sacrament-church-worship-service/2029-10-07/
LOCATION:Brush Hill Cumberland Presbyterian Church\, 3705 Brush Hill Road\, Nashville\, TN\, 37216\, United States
CATEGORIES:Rentals
END:VEVENT
BEGIN:VEVENT
DTSTART;TZID=America/Chicago:20291014T103000
DTEND;TZID=America/Chicago:20291014T120000
DTSTAMP:20260419T195218
CREATED:20250703T164633Z
LAST-MODIFIED:20250703T164633Z
UID:10004387-1886668200-1886673600@brushhillchurch.org
SUMMARY:Sacrament Church Worship Service
DESCRIPTION:Sacrament Church\, who shares our space\, worships in our fellowship hall at this time. Learn more about Sacrament Church here: https://www.sacramentchurch.com/
URL:https://brushhillchurch.org/event/sacrament-church-worship-service/2029-10-14/
LOCATION:Brush Hill Cumberland Presbyterian Church\, 3705 Brush Hill Road\, Nashville\, TN\, 37216\, United States
CATEGORIES:Rentals
END:VEVENT
BEGIN:VEVENT
DTSTART;TZID=America/Chicago:20291021T103000
DTEND;TZID=America/Chicago:20291021T120000
DTSTAMP:20260419T195218
CREATED:20250703T164633Z
LAST-MODIFIED:20250703T164633Z
UID:10004388-1887273000-1887278400@brushhillchurch.org
SUMMARY:Sacrament Church Worship Service
DESCRIPTION:Sacrament Church\, who shares our space\, worships in our fellowship hall at this time. Learn more about Sacrament Church here: https://www.sacramentchurch.com/
URL:https://brushhillchurch.org/event/sacrament-church-worship-service/2029-10-21/
LOCATION:Brush Hill Cumberland Presbyterian Church\, 3705 Brush Hill Road\, Nashville\, TN\, 37216\, United States
CATEGORIES:Rentals
END:VEVENT
BEGIN:VEVENT
DTSTART;TZID=America/Chicago:20291028T103000
DTEND;TZID=America/Chicago:20291028T120000
DTSTAMP:20260419T195218
CREATED:20250703T164633Z
LAST-MODIFIED:20250703T164633Z
UID:10004389-1887877800-1887883200@brushhillchurch.org
SUMMARY:Sacrament Church Worship Service
DESCRIPTION:Sacrament Church\, who shares our space\, worships in our fellowship hall at this time. Learn more about Sacrament Church here: https://www.sacramentchurch.com/
URL:https://brushhillchurch.org/event/sacrament-church-worship-service/2029-10-28/
LOCATION:Brush Hill Cumberland Presbyterian Church\, 3705 Brush Hill Road\, Nashville\, TN\, 37216\, United States
CATEGORIES:Rentals
END:VEVENT
BEGIN:VEVENT
DTSTART;TZID=America/Chicago:20291104T103000
DTEND;TZID=America/Chicago:20291104T120000
DTSTAMP:20260419T195218
CREATED:20250703T164633Z
LAST-MODIFIED:20250703T164633Z
UID:10004390-1888482600-1888488000@brushhillchurch.org
SUMMARY:Sacrament Church Worship Service
DESCRIPTION:Sacrament Church\, who shares our space\, worships in our fellowship hall at this time. Learn more about Sacrament Church here: https://www.sacramentchurch.com/
URL:https://brushhillchurch.org/event/sacrament-church-worship-service/2029-11-04/
LOCATION:Brush Hill Cumberland Presbyterian Church\, 3705 Brush Hill Road\, Nashville\, TN\, 37216\, United States
CATEGORIES:Rentals
END:VEVENT
BEGIN:VEVENT
DTSTART;TZID=America/Chicago:20291111T103000
DTEND;TZID=America/Chicago:20291111T120000
DTSTAMP:20260419T195218
CREATED:20250703T164633Z
LAST-MODIFIED:20250703T164633Z
UID:10004391-1889087400-1889092800@brushhillchurch.org
SUMMARY:Sacrament Church Worship Service
DESCRIPTION:Sacrament Church\, who shares our space\, worships in our fellowship hall at this time. Learn more about Sacrament Church here: https://www.sacramentchurch.com/
URL:https://brushhillchurch.org/event/sacrament-church-worship-service/2029-11-11/
LOCATION:Brush Hill Cumberland Presbyterian Church\, 3705 Brush Hill Road\, Nashville\, TN\, 37216\, United States
CATEGORIES:Rentals
END:VEVENT
BEGIN:VEVENT
DTSTART;TZID=America/Chicago:20291118T103000
DTEND;TZID=America/Chicago:20291118T120000
DTSTAMP:20260419T195218
CREATED:20250703T164633Z
LAST-MODIFIED:20250703T164633Z
UID:10004392-1889692200-1889697600@brushhillchurch.org
SUMMARY:Sacrament Church Worship Service
DESCRIPTION:Sacrament Church\, who shares our space\, worships in our fellowship hall at this time. Learn more about Sacrament Church here: https://www.sacramentchurch.com/
URL:https://brushhillchurch.org/event/sacrament-church-worship-service/2029-11-18/
LOCATION:Brush Hill Cumberland Presbyterian Church\, 3705 Brush Hill Road\, Nashville\, TN\, 37216\, United States
CATEGORIES:Rentals
END:VEVENT
BEGIN:VEVENT
DTSTART;TZID=America/Chicago:20291125T103000
DTEND;TZID=America/Chicago:20291125T120000
DTSTAMP:20260419T195218
CREATED:20250703T164633Z
LAST-MODIFIED:20250703T164633Z
UID:10004393-1890297000-1890302400@brushhillchurch.org
SUMMARY:Sacrament Church Worship Service
DESCRIPTION:Sacrament Church\, who shares our space\, worships in our fellowship hall at this time. Learn more about Sacrament Church here: https://www.sacramentchurch.com/
URL:https://brushhillchurch.org/event/sacrament-church-worship-service/2029-11-25/
LOCATION:Brush Hill Cumberland Presbyterian Church\, 3705 Brush Hill Road\, Nashville\, TN\, 37216\, United States
CATEGORIES:Rentals
END:VEVENT
BEGIN:VEVENT
DTSTART;TZID=America/Chicago:20291202T103000
DTEND;TZID=America/Chicago:20291202T120000
DTSTAMP:20260419T195218
CREATED:20250703T164633Z
LAST-MODIFIED:20250703T164633Z
UID:10004394-1890901800-1890907200@brushhillchurch.org
SUMMARY:Sacrament Church Worship Service
DESCRIPTION:Sacrament Church\, who shares our space\, worships in our fellowship hall at this time. Learn more about Sacrament Church here: https://www.sacramentchurch.com/
URL:https://brushhillchurch.org/event/sacrament-church-worship-service/2029-12-02/
LOCATION:Brush Hill Cumberland Presbyterian Church\, 3705 Brush Hill Road\, Nashville\, TN\, 37216\, United States
CATEGORIES:Rentals
END:VEVENT
BEGIN:VEVENT
DTSTART;TZID=America/Chicago:20291209T103000
DTEND;TZID=America/Chicago:20291209T120000
DTSTAMP:20260419T195218
CREATED:20250703T164633Z
LAST-MODIFIED:20250703T164633Z
UID:10004395-1891506600-1891512000@brushhillchurch.org
SUMMARY:Sacrament Church Worship Service
DESCRIPTION:Sacrament Church\, who shares our space\, worships in our fellowship hall at this time. Learn more about Sacrament Church here: https://www.sacramentchurch.com/
URL:https://brushhillchurch.org/event/sacrament-church-worship-service/2029-12-09/
LOCATION:Brush Hill Cumberland Presbyterian Church\, 3705 Brush Hill Road\, Nashville\, TN\, 37216\, United States
CATEGORIES:Rentals
END:VEVENT
BEGIN:VEVENT
DTSTART;TZID=America/Chicago:20291216T103000
DTEND;TZID=America/Chicago:20291216T120000
DTSTAMP:20260419T195218
CREATED:20250703T164633Z
LAST-MODIFIED:20250703T164633Z
UID:10004396-1892111400-1892116800@brushhillchurch.org
SUMMARY:Sacrament Church Worship Service
DESCRIPTION:Sacrament Church\, who shares our space\, worships in our fellowship hall at this time. Learn more about Sacrament Church here: https://www.sacramentchurch.com/
URL:https://brushhillchurch.org/event/sacrament-church-worship-service/2029-12-16/
LOCATION:Brush Hill Cumberland Presbyterian Church\, 3705 Brush Hill Road\, Nashville\, TN\, 37216\, United States
CATEGORIES:Rentals
END:VEVENT
BEGIN:VEVENT
DTSTART;TZID=America/Chicago:20291223T103000
DTEND;TZID=America/Chicago:20291223T120000
DTSTAMP:20260419T195218
CREATED:20250703T164633Z
LAST-MODIFIED:20250703T164633Z
UID:10004397-1892716200-1892721600@brushhillchurch.org
SUMMARY:Sacrament Church Worship Service
DESCRIPTION:Sacrament Church\, who shares our space\, worships in our fellowship hall at this time. Learn more about Sacrament Church here: https://www.sacramentchurch.com/
URL:https://brushhillchurch.org/event/sacrament-church-worship-service/2029-12-23/
LOCATION:Brush Hill Cumberland Presbyterian Church\, 3705 Brush Hill Road\, Nashville\, TN\, 37216\, United States
CATEGORIES:Rentals
END:VEVENT
BEGIN:VEVENT
DTSTART;TZID=America/Chicago:20291230T103000
DTEND;TZID=America/Chicago:20291230T120000
DTSTAMP:20260419T195218
CREATED:20250703T164633Z
LAST-MODIFIED:20250703T164633Z
UID:10004398-1893321000-1893326400@brushhillchurch.org
SUMMARY:Sacrament Church Worship Service
DESCRIPTION:Sacrament Church\, who shares our space\, worships in our fellowship hall at this time. Learn more about Sacrament Church here: https://www.sacramentchurch.com/
URL:https://brushhillchurch.org/event/sacrament-church-worship-service/2029-12-30/
LOCATION:Brush Hill Cumberland Presbyterian Church\, 3705 Brush Hill Road\, Nashville\, TN\, 37216\, United States
CATEGORIES:Rentals
END:VEVENT
BEGIN:VEVENT
DTSTART;TZID=America/Chicago:20300106T103000
DTEND;TZID=America/Chicago:20300106T120000
DTSTAMP:20260419T195218
CREATED:20250703T164633Z
LAST-MODIFIED:20250703T164633Z
UID:10004399-1893925800-1893931200@brushhillchurch.org
SUMMARY:Sacrament Church Worship Service
DESCRIPTION:Sacrament Church\, who shares our space\, worships in our fellowship hall at this time. Learn more about Sacrament Church here: https://www.sacramentchurch.com/
URL:https://brushhillchurch.org/event/sacrament-church-worship-service/2030-01-06/
LOCATION:Brush Hill Cumberland Presbyterian Church\, 3705 Brush Hill Road\, Nashville\, TN\, 37216\, United States
CATEGORIES:Rentals
END:VEVENT
BEGIN:VEVENT
DTSTART;TZID=America/Chicago:20300113T103000
DTEND;TZID=America/Chicago:20300113T120000
DTSTAMP:20260419T195218
CREATED:20250703T164633Z
LAST-MODIFIED:20250703T164633Z
UID:10004400-1894530600-1894536000@brushhillchurch.org
SUMMARY:Sacrament Church Worship Service
DESCRIPTION:Sacrament Church\, who shares our space\, worships in our fellowship hall at this time. Learn more about Sacrament Church here: https://www.sacramentchurch.com/
URL:https://brushhillchurch.org/event/sacrament-church-worship-service/2030-01-13/
LOCATION:Brush Hill Cumberland Presbyterian Church\, 3705 Brush Hill Road\, Nashville\, TN\, 37216\, United States
CATEGORIES:Rentals
END:VEVENT
BEGIN:VEVENT
DTSTART;TZID=America/Chicago:20300120T103000
DTEND;TZID=America/Chicago:20300120T120000
DTSTAMP:20260419T195218
CREATED:20250703T164633Z
LAST-MODIFIED:20250703T164633Z
UID:10004401-1895135400-1895140800@brushhillchurch.org
SUMMARY:Sacrament Church Worship Service
DESCRIPTION:Sacrament Church\, who shares our space\, worships in our fellowship hall at this time. Learn more about Sacrament Church here: https://www.sacramentchurch.com/
URL:https://brushhillchurch.org/event/sacrament-church-worship-service/2030-01-20/
LOCATION:Brush Hill Cumberland Presbyterian Church\, 3705 Brush Hill Road\, Nashville\, TN\, 37216\, United States
CATEGORIES:Rentals
END:VEVENT
BEGIN:VEVENT
DTSTART;TZID=America/Chicago:20300127T103000
DTEND;TZID=America/Chicago:20300127T120000
DTSTAMP:20260419T195218
CREATED:20250703T164633Z
LAST-MODIFIED:20250703T164633Z
UID:10004402-1895740200-1895745600@brushhillchurch.org
SUMMARY:Sacrament Church Worship Service
DESCRIPTION:Sacrament Church\, who shares our space\, worships in our fellowship hall at this time. Learn more about Sacrament Church here: https://www.sacramentchurch.com/
URL:https://brushhillchurch.org/event/sacrament-church-worship-service/2030-01-27/
LOCATION:Brush Hill Cumberland Presbyterian Church\, 3705 Brush Hill Road\, Nashville\, TN\, 37216\, United States
CATEGORIES:Rentals
END:VEVENT
BEGIN:VEVENT
DTSTART;TZID=America/Chicago:20300203T103000
DTEND;TZID=America/Chicago:20300203T120000
DTSTAMP:20260419T195218
CREATED:20250703T164633Z
LAST-MODIFIED:20250703T164633Z
UID:10004403-1896345000-1896350400@brushhillchurch.org
SUMMARY:Sacrament Church Worship Service
DESCRIPTION:Sacrament Church\, who shares our space\, worships in our fellowship hall at this time. Learn more about Sacrament Church here: https://www.sacramentchurch.com/
URL:https://brushhillchurch.org/event/sacrament-church-worship-service/2030-02-03/
LOCATION:Brush Hill Cumberland Presbyterian Church\, 3705 Brush Hill Road\, Nashville\, TN\, 37216\, United States
CATEGORIES:Rentals
END:VEVENT
BEGIN:VEVENT
DTSTART;TZID=America/Chicago:20300210T103000
DTEND;TZID=America/Chicago:20300210T120000
DTSTAMP:20260419T195218
CREATED:20250703T164633Z
LAST-MODIFIED:20250703T164633Z
UID:10004404-1896949800-1896955200@brushhillchurch.org
SUMMARY:Sacrament Church Worship Service
DESCRIPTION:Sacrament Church\, who shares our space\, worships in our fellowship hall at this time. Learn more about Sacrament Church here: https://www.sacramentchurch.com/
URL:https://brushhillchurch.org/event/sacrament-church-worship-service/2030-02-10/
LOCATION:Brush Hill Cumberland Presbyterian Church\, 3705 Brush Hill Road\, Nashville\, TN\, 37216\, United States
CATEGORIES:Rentals
END:VEVENT
BEGIN:VEVENT
DTSTART;TZID=America/Chicago:20300217T103000
DTEND;TZID=America/Chicago:20300217T120000
DTSTAMP:20260419T195218
CREATED:20250703T164633Z
LAST-MODIFIED:20250703T164633Z
UID:10004405-1897554600-1897560000@brushhillchurch.org
SUMMARY:Sacrament Church Worship Service
DESCRIPTION:Sacrament Church\, who shares our space\, worships in our fellowship hall at this time. Learn more about Sacrament Church here: https://www.sacramentchurch.com/
URL:https://brushhillchurch.org/event/sacrament-church-worship-service/2030-02-17/
LOCATION:Brush Hill Cumberland Presbyterian Church\, 3705 Brush Hill Road\, Nashville\, TN\, 37216\, United States
CATEGORIES:Rentals
END:VEVENT
BEGIN:VEVENT
DTSTART;TZID=America/Chicago:20300224T103000
DTEND;TZID=America/Chicago:20300224T120000
DTSTAMP:20260419T195218
CREATED:20250703T164633Z
LAST-MODIFIED:20250703T164633Z
UID:10004406-1898159400-1898164800@brushhillchurch.org
SUMMARY:Sacrament Church Worship Service
DESCRIPTION:Sacrament Church\, who shares our space\, worships in our fellowship hall at this time. Learn more about Sacrament Church here: https://www.sacramentchurch.com/
URL:https://brushhillchurch.org/event/sacrament-church-worship-service/2030-02-24/
LOCATION:Brush Hill Cumberland Presbyterian Church\, 3705 Brush Hill Road\, Nashville\, TN\, 37216\, United States
CATEGORIES:Rentals
END:VEVENT
BEGIN:VEVENT
DTSTART;TZID=America/Chicago:20300303T103000
DTEND;TZID=America/Chicago:20300303T120000
DTSTAMP:20260419T195218
CREATED:20250703T164633Z
LAST-MODIFIED:20250703T164633Z
UID:10004407-1898764200-1898769600@brushhillchurch.org
SUMMARY:Sacrament Church Worship Service
DESCRIPTION:Sacrament Church\, who shares our space\, worships in our fellowship hall at this time. Learn more about Sacrament Church here: https://www.sacramentchurch.com/
URL:https://brushhillchurch.org/event/sacrament-church-worship-service/2030-03-03/
LOCATION:Brush Hill Cumberland Presbyterian Church\, 3705 Brush Hill Road\, Nashville\, TN\, 37216\, United States
CATEGORIES:Rentals
END:VEVENT
BEGIN:VEVENT
DTSTART;TZID=America/Chicago:20300310T103000
DTEND;TZID=America/Chicago:20300310T120000
DTSTAMP:20260419T195218
CREATED:20250703T164633Z
LAST-MODIFIED:20250703T164633Z
UID:10004408-1899369000-1899374400@brushhillchurch.org
SUMMARY:Sacrament Church Worship Service
DESCRIPTION:Sacrament Church\, who shares our space\, worships in our fellowship hall at this time. Learn more about Sacrament Church here: https://www.sacramentchurch.com/
URL:https://brushhillchurch.org/event/sacrament-church-worship-service/2030-03-10/
LOCATION:Brush Hill Cumberland Presbyterian Church\, 3705 Brush Hill Road\, Nashville\, TN\, 37216\, United States
CATEGORIES:Rentals
END:VEVENT
BEGIN:VEVENT
DTSTART;TZID=America/Chicago:20300317T103000
DTEND;TZID=America/Chicago:20300317T120000
DTSTAMP:20260419T195218
CREATED:20250703T164633Z
LAST-MODIFIED:20250703T164633Z
UID:10004409-1899973800-1899979200@brushhillchurch.org
SUMMARY:Sacrament Church Worship Service
DESCRIPTION:Sacrament Church\, who shares our space\, worships in our fellowship hall at this time. Learn more about Sacrament Church here: https://www.sacramentchurch.com/
URL:https://brushhillchurch.org/event/sacrament-church-worship-service/2030-03-17/
LOCATION:Brush Hill Cumberland Presbyterian Church\, 3705 Brush Hill Road\, Nashville\, TN\, 37216\, United States
CATEGORIES:Rentals
END:VEVENT
BEGIN:VEVENT
DTSTART;TZID=America/Chicago:20300324T103000
DTEND;TZID=America/Chicago:20300324T120000
DTSTAMP:20260419T195218
CREATED:20250703T164633Z
LAST-MODIFIED:20250703T164633Z
UID:10004410-1900578600-1900584000@brushhillchurch.org
SUMMARY:Sacrament Church Worship Service
DESCRIPTION:Sacrament Church\, who shares our space\, worships in our fellowship hall at this time. Learn more about Sacrament Church here: https://www.sacramentchurch.com/
URL:https://brushhillchurch.org/event/sacrament-church-worship-service/2030-03-24/
LOCATION:Brush Hill Cumberland Presbyterian Church\, 3705 Brush Hill Road\, Nashville\, TN\, 37216\, United States
CATEGORIES:Rentals
END:VEVENT
BEGIN:VEVENT
DTSTART;TZID=America/Chicago:20300331T103000
DTEND;TZID=America/Chicago:20300331T120000
DTSTAMP:20260419T195218
CREATED:20250703T164633Z
LAST-MODIFIED:20250703T164633Z
UID:10004411-1901183400-1901188800@brushhillchurch.org
SUMMARY:Sacrament Church Worship Service
DESCRIPTION:Sacrament Church\, who shares our space\, worships in our fellowship hall at this time. Learn more about Sacrament Church here: https://www.sacramentchurch.com/
URL:https://brushhillchurch.org/event/sacrament-church-worship-service/2030-03-31/
LOCATION:Brush Hill Cumberland Presbyterian Church\, 3705 Brush Hill Road\, Nashville\, TN\, 37216\, United States
CATEGORIES:Rentals
END:VEVENT
BEGIN:VEVENT
DTSTART;TZID=America/Chicago:20300407T103000
DTEND;TZID=America/Chicago:20300407T120000
DTSTAMP:20260419T195218
CREATED:20250703T164633Z
LAST-MODIFIED:20250703T164633Z
UID:10004412-1901788200-1901793600@brushhillchurch.org
SUMMARY:Sacrament Church Worship Service
DESCRIPTION:Sacrament Church\, who shares our space\, worships in our fellowship hall at this time. Learn more about Sacrament Church here: https://www.sacramentchurch.com/
URL:https://brushhillchurch.org/event/sacrament-church-worship-service/2030-04-07/
LOCATION:Brush Hill Cumberland Presbyterian Church\, 3705 Brush Hill Road\, Nashville\, TN\, 37216\, United States
CATEGORIES:Rentals
END:VEVENT
BEGIN:VEVENT
DTSTART;TZID=America/Chicago:20300414T103000
DTEND;TZID=America/Chicago:20300414T120000
DTSTAMP:20260419T195219
CREATED:20250703T164633Z
LAST-MODIFIED:20250703T164633Z
UID:10004413-1902393000-1902398400@brushhillchurch.org
SUMMARY:Sacrament Church Worship Service
DESCRIPTION:Sacrament Church\, who shares our space\, worships in our fellowship hall at this time. Learn more about Sacrament Church here: https://www.sacramentchurch.com/
URL:https://brushhillchurch.org/event/sacrament-church-worship-service/2030-04-14/
LOCATION:Brush Hill Cumberland Presbyterian Church\, 3705 Brush Hill Road\, Nashville\, TN\, 37216\, United States
CATEGORIES:Rentals
END:VEVENT
END:VCALENDAR