BEGIN:VCALENDAR
VERSION:2.0
PRODID:-//Brush Hill Cumberland Presbyterian Church - ECPv6.15.20//NONSGML v1.0//EN
CALSCALE:GREGORIAN
METHOD:PUBLISH
X-ORIGINAL-URL:https://brushhillchurch.org
X-WR-CALDESC:Events for Brush Hill Cumberland Presbyterian Church
REFRESH-INTERVAL;VALUE=DURATION:PT1H
X-Robots-Tag:noindex
X-PUBLISHED-TTL:PT1H
BEGIN:VTIMEZONE
TZID:America/Chicago
BEGIN:DAYLIGHT
TZOFFSETFROM:-0600
TZOFFSETTO:-0500
TZNAME:CDT
DTSTART:20270314T080000
END:DAYLIGHT
BEGIN:STANDARD
TZOFFSETFROM:-0500
TZOFFSETTO:-0600
TZNAME:CST
DTSTART:20271107T070000
END:STANDARD
BEGIN:DAYLIGHT
TZOFFSETFROM:-0600
TZOFFSETTO:-0500
TZNAME:CDT
DTSTART:20280312T080000
END:DAYLIGHT
BEGIN:STANDARD
TZOFFSETFROM:-0500
TZOFFSETTO:-0600
TZNAME:CST
DTSTART:20281105T070000
END:STANDARD
BEGIN:DAYLIGHT
TZOFFSETFROM:-0600
TZOFFSETTO:-0500
TZNAME:CDT
DTSTART:20290311T080000
END:DAYLIGHT
BEGIN:STANDARD
TZOFFSETFROM:-0500
TZOFFSETTO:-0600
TZNAME:CST
DTSTART:20291104T070000
END:STANDARD
BEGIN:DAYLIGHT
TZOFFSETFROM:-0600
TZOFFSETTO:-0500
TZNAME:CDT
DTSTART:20300310T080000
END:DAYLIGHT
BEGIN:STANDARD
TZOFFSETFROM:-0500
TZOFFSETTO:-0600
TZNAME:CST
DTSTART:20301103T070000
END:STANDARD
END:VTIMEZONE
BEGIN:VEVENT
DTSTART;TZID=America/Chicago:20281022T090000
DTEND;TZID=America/Chicago:20281022T100000
DTSTAMP:20260422T230047
CREATED:20250930T163730Z
LAST-MODIFIED:20260310T232420Z
UID:10005056-1855818000-1855821600@brushhillchurch.org
SUMMARY:Community Hour
DESCRIPTION:Starting Sunday\, October 5\, 2025\, Brush Hill will be beginning a Community Hour at 9:00 am each Sunday for all those interested in learning more about one another and deepening our friendships as sisters and brothers in Christ. This time together will not be a Bible study\, though there will certainly be elements of our faith throughout it. It will be more focused on sharing our lives with one another. If you are curious about learning more\, please reach out to Megan Sanderson via email at sanderson.megan13@gmail.com.
URL:https://brushhillchurch.org/event/community-hour/2028-10-22/
LOCATION:Brush Hill Cumberland Presbyterian Church\, 3705 Brush Hill Road\, Nashville\, TN\, 37216\, United States
CATEGORIES:Church Groups,Worship
END:VEVENT
BEGIN:VEVENT
DTSTART;TZID=America/Chicago:20281022T100000
DTEND;TZID=America/Chicago:20281022T113000
DTSTAMP:20260422T230047
CREATED:20210705T021500Z
LAST-MODIFIED:20250703T164318Z
UID:10004075-1855821600-1855827000@brushhillchurch.org
SUMMARY:Sunday Worship Service
DESCRIPTION:Each Sunday we worship God through songs\, prayer\, sermons\, and more. Our services are open to all.
URL:https://brushhillchurch.org/event/sunday-worship-service/2028-10-22/
LOCATION:Brush Hill Cumberland Presbyterian Church\, 3705 Brush Hill Road\, Nashville\, TN\, 37216\, United States
CATEGORIES:Worship
ATTACH;FMTTYPE=image/jpeg:https://brushhillchurch.org/wp-content/uploads/2021/07/DSC_0263-scaled.jpg
END:VEVENT
BEGIN:VEVENT
DTSTART;TZID=America/Chicago:20281029T090000
DTEND;TZID=America/Chicago:20281029T100000
DTSTAMP:20260422T230047
CREATED:20250930T163730Z
LAST-MODIFIED:20260310T232420Z
UID:10005057-1856422800-1856426400@brushhillchurch.org
SUMMARY:Community Hour
DESCRIPTION:Starting Sunday\, October 5\, 2025\, Brush Hill will be beginning a Community Hour at 9:00 am each Sunday for all those interested in learning more about one another and deepening our friendships as sisters and brothers in Christ. This time together will not be a Bible study\, though there will certainly be elements of our faith throughout it. It will be more focused on sharing our lives with one another. If you are curious about learning more\, please reach out to Megan Sanderson via email at sanderson.megan13@gmail.com.
URL:https://brushhillchurch.org/event/community-hour/2028-10-29/
LOCATION:Brush Hill Cumberland Presbyterian Church\, 3705 Brush Hill Road\, Nashville\, TN\, 37216\, United States
CATEGORIES:Church Groups,Worship
END:VEVENT
BEGIN:VEVENT
DTSTART;TZID=America/Chicago:20281029T100000
DTEND;TZID=America/Chicago:20281029T113000
DTSTAMP:20260422T230047
CREATED:20210705T021500Z
LAST-MODIFIED:20250703T164318Z
UID:10004076-1856426400-1856431800@brushhillchurch.org
SUMMARY:Sunday Worship Service
DESCRIPTION:Each Sunday we worship God through songs\, prayer\, sermons\, and more. Our services are open to all.
URL:https://brushhillchurch.org/event/sunday-worship-service/2028-10-29/
LOCATION:Brush Hill Cumberland Presbyterian Church\, 3705 Brush Hill Road\, Nashville\, TN\, 37216\, United States
CATEGORIES:Worship
ATTACH;FMTTYPE=image/jpeg:https://brushhillchurch.org/wp-content/uploads/2021/07/DSC_0263-scaled.jpg
END:VEVENT
BEGIN:VEVENT
DTSTART;TZID=America/Chicago:20281105T090000
DTEND;TZID=America/Chicago:20281105T100000
DTSTAMP:20260422T230047
CREATED:20250930T163730Z
LAST-MODIFIED:20260310T232420Z
UID:10005058-1857027600-1857031200@brushhillchurch.org
SUMMARY:Community Hour
DESCRIPTION:Starting Sunday\, October 5\, 2025\, Brush Hill will be beginning a Community Hour at 9:00 am each Sunday for all those interested in learning more about one another and deepening our friendships as sisters and brothers in Christ. This time together will not be a Bible study\, though there will certainly be elements of our faith throughout it. It will be more focused on sharing our lives with one another. If you are curious about learning more\, please reach out to Megan Sanderson via email at sanderson.megan13@gmail.com.
URL:https://brushhillchurch.org/event/community-hour/2028-11-05/
LOCATION:Brush Hill Cumberland Presbyterian Church\, 3705 Brush Hill Road\, Nashville\, TN\, 37216\, United States
CATEGORIES:Church Groups,Worship
END:VEVENT
BEGIN:VEVENT
DTSTART;TZID=America/Chicago:20281105T100000
DTEND;TZID=America/Chicago:20281105T113000
DTSTAMP:20260422T230047
CREATED:20210705T021500Z
LAST-MODIFIED:20250703T164318Z
UID:10004077-1857031200-1857036600@brushhillchurch.org
SUMMARY:Sunday Worship Service
DESCRIPTION:Each Sunday we worship God through songs\, prayer\, sermons\, and more. Our services are open to all.
URL:https://brushhillchurch.org/event/sunday-worship-service/2028-11-05/
LOCATION:Brush Hill Cumberland Presbyterian Church\, 3705 Brush Hill Road\, Nashville\, TN\, 37216\, United States
CATEGORIES:Worship
ATTACH;FMTTYPE=image/jpeg:https://brushhillchurch.org/wp-content/uploads/2021/07/DSC_0263-scaled.jpg
END:VEVENT
BEGIN:VEVENT
DTSTART;TZID=America/Chicago:20281112T090000
DTEND;TZID=America/Chicago:20281112T100000
DTSTAMP:20260422T230047
CREATED:20250930T163730Z
LAST-MODIFIED:20260310T232420Z
UID:10005059-1857632400-1857636000@brushhillchurch.org
SUMMARY:Community Hour
DESCRIPTION:Starting Sunday\, October 5\, 2025\, Brush Hill will be beginning a Community Hour at 9:00 am each Sunday for all those interested in learning more about one another and deepening our friendships as sisters and brothers in Christ. This time together will not be a Bible study\, though there will certainly be elements of our faith throughout it. It will be more focused on sharing our lives with one another. If you are curious about learning more\, please reach out to Megan Sanderson via email at sanderson.megan13@gmail.com.
URL:https://brushhillchurch.org/event/community-hour/2028-11-12/
LOCATION:Brush Hill Cumberland Presbyterian Church\, 3705 Brush Hill Road\, Nashville\, TN\, 37216\, United States
CATEGORIES:Church Groups,Worship
END:VEVENT
BEGIN:VEVENT
DTSTART;TZID=America/Chicago:20281112T100000
DTEND;TZID=America/Chicago:20281112T113000
DTSTAMP:20260422T230047
CREATED:20210705T021500Z
LAST-MODIFIED:20250703T164318Z
UID:10004078-1857636000-1857641400@brushhillchurch.org
SUMMARY:Sunday Worship Service
DESCRIPTION:Each Sunday we worship God through songs\, prayer\, sermons\, and more. Our services are open to all.
URL:https://brushhillchurch.org/event/sunday-worship-service/2028-11-12/
LOCATION:Brush Hill Cumberland Presbyterian Church\, 3705 Brush Hill Road\, Nashville\, TN\, 37216\, United States
CATEGORIES:Worship
ATTACH;FMTTYPE=image/jpeg:https://brushhillchurch.org/wp-content/uploads/2021/07/DSC_0263-scaled.jpg
END:VEVENT
BEGIN:VEVENT
DTSTART;TZID=America/Chicago:20281119T090000
DTEND;TZID=America/Chicago:20281119T100000
DTSTAMP:20260422T230047
CREATED:20250930T163730Z
LAST-MODIFIED:20260310T232420Z
UID:10005060-1858237200-1858240800@brushhillchurch.org
SUMMARY:Community Hour
DESCRIPTION:Starting Sunday\, October 5\, 2025\, Brush Hill will be beginning a Community Hour at 9:00 am each Sunday for all those interested in learning more about one another and deepening our friendships as sisters and brothers in Christ. This time together will not be a Bible study\, though there will certainly be elements of our faith throughout it. It will be more focused on sharing our lives with one another. If you are curious about learning more\, please reach out to Megan Sanderson via email at sanderson.megan13@gmail.com.
URL:https://brushhillchurch.org/event/community-hour/2028-11-19/
LOCATION:Brush Hill Cumberland Presbyterian Church\, 3705 Brush Hill Road\, Nashville\, TN\, 37216\, United States
CATEGORIES:Church Groups,Worship
END:VEVENT
BEGIN:VEVENT
DTSTART;TZID=America/Chicago:20281119T100000
DTEND;TZID=America/Chicago:20281119T113000
DTSTAMP:20260422T230047
CREATED:20210705T021500Z
LAST-MODIFIED:20250703T164318Z
UID:10004079-1858240800-1858246200@brushhillchurch.org
SUMMARY:Sunday Worship Service
DESCRIPTION:Each Sunday we worship God through songs\, prayer\, sermons\, and more. Our services are open to all.
URL:https://brushhillchurch.org/event/sunday-worship-service/2028-11-19/
LOCATION:Brush Hill Cumberland Presbyterian Church\, 3705 Brush Hill Road\, Nashville\, TN\, 37216\, United States
CATEGORIES:Worship
ATTACH;FMTTYPE=image/jpeg:https://brushhillchurch.org/wp-content/uploads/2021/07/DSC_0263-scaled.jpg
END:VEVENT
BEGIN:VEVENT
DTSTART;TZID=America/Chicago:20281126T090000
DTEND;TZID=America/Chicago:20281126T100000
DTSTAMP:20260422T230047
CREATED:20250930T163730Z
LAST-MODIFIED:20260310T232420Z
UID:10005061-1858842000-1858845600@brushhillchurch.org
SUMMARY:Community Hour
DESCRIPTION:Starting Sunday\, October 5\, 2025\, Brush Hill will be beginning a Community Hour at 9:00 am each Sunday for all those interested in learning more about one another and deepening our friendships as sisters and brothers in Christ. This time together will not be a Bible study\, though there will certainly be elements of our faith throughout it. It will be more focused on sharing our lives with one another. If you are curious about learning more\, please reach out to Megan Sanderson via email at sanderson.megan13@gmail.com.
URL:https://brushhillchurch.org/event/community-hour/2028-11-26/
LOCATION:Brush Hill Cumberland Presbyterian Church\, 3705 Brush Hill Road\, Nashville\, TN\, 37216\, United States
CATEGORIES:Church Groups,Worship
END:VEVENT
BEGIN:VEVENT
DTSTART;TZID=America/Chicago:20281126T100000
DTEND;TZID=America/Chicago:20281126T113000
DTSTAMP:20260422T230047
CREATED:20210705T021500Z
LAST-MODIFIED:20250703T164318Z
UID:10004080-1858845600-1858851000@brushhillchurch.org
SUMMARY:Sunday Worship Service
DESCRIPTION:Each Sunday we worship God through songs\, prayer\, sermons\, and more. Our services are open to all.
URL:https://brushhillchurch.org/event/sunday-worship-service/2028-11-26/
LOCATION:Brush Hill Cumberland Presbyterian Church\, 3705 Brush Hill Road\, Nashville\, TN\, 37216\, United States
CATEGORIES:Worship
ATTACH;FMTTYPE=image/jpeg:https://brushhillchurch.org/wp-content/uploads/2021/07/DSC_0263-scaled.jpg
END:VEVENT
BEGIN:VEVENT
DTSTART;TZID=America/Chicago:20281203T090000
DTEND;TZID=America/Chicago:20281203T100000
DTSTAMP:20260422T230047
CREATED:20250930T163730Z
LAST-MODIFIED:20260310T232420Z
UID:10005062-1859446800-1859450400@brushhillchurch.org
SUMMARY:Community Hour
DESCRIPTION:Starting Sunday\, October 5\, 2025\, Brush Hill will be beginning a Community Hour at 9:00 am each Sunday for all those interested in learning more about one another and deepening our friendships as sisters and brothers in Christ. This time together will not be a Bible study\, though there will certainly be elements of our faith throughout it. It will be more focused on sharing our lives with one another. If you are curious about learning more\, please reach out to Megan Sanderson via email at sanderson.megan13@gmail.com.
URL:https://brushhillchurch.org/event/community-hour/2028-12-03/
LOCATION:Brush Hill Cumberland Presbyterian Church\, 3705 Brush Hill Road\, Nashville\, TN\, 37216\, United States
CATEGORIES:Church Groups,Worship
END:VEVENT
BEGIN:VEVENT
DTSTART;TZID=America/Chicago:20281203T100000
DTEND;TZID=America/Chicago:20281203T113000
DTSTAMP:20260422T230047
CREATED:20210705T021500Z
LAST-MODIFIED:20250703T164318Z
UID:10004081-1859450400-1859455800@brushhillchurch.org
SUMMARY:Sunday Worship Service
DESCRIPTION:Each Sunday we worship God through songs\, prayer\, sermons\, and more. Our services are open to all.
URL:https://brushhillchurch.org/event/sunday-worship-service/2028-12-03/
LOCATION:Brush Hill Cumberland Presbyterian Church\, 3705 Brush Hill Road\, Nashville\, TN\, 37216\, United States
CATEGORIES:Worship
ATTACH;FMTTYPE=image/jpeg:https://brushhillchurch.org/wp-content/uploads/2021/07/DSC_0263-scaled.jpg
END:VEVENT
BEGIN:VEVENT
DTSTART;TZID=America/Chicago:20281210T090000
DTEND;TZID=America/Chicago:20281210T100000
DTSTAMP:20260422T230047
CREATED:20250930T163730Z
LAST-MODIFIED:20260310T232420Z
UID:10005063-1860051600-1860055200@brushhillchurch.org
SUMMARY:Community Hour
DESCRIPTION:Starting Sunday\, October 5\, 2025\, Brush Hill will be beginning a Community Hour at 9:00 am each Sunday for all those interested in learning more about one another and deepening our friendships as sisters and brothers in Christ. This time together will not be a Bible study\, though there will certainly be elements of our faith throughout it. It will be more focused on sharing our lives with one another. If you are curious about learning more\, please reach out to Megan Sanderson via email at sanderson.megan13@gmail.com.
URL:https://brushhillchurch.org/event/community-hour/2028-12-10/
LOCATION:Brush Hill Cumberland Presbyterian Church\, 3705 Brush Hill Road\, Nashville\, TN\, 37216\, United States
CATEGORIES:Church Groups,Worship
END:VEVENT
BEGIN:VEVENT
DTSTART;TZID=America/Chicago:20281210T100000
DTEND;TZID=America/Chicago:20281210T113000
DTSTAMP:20260422T230048
CREATED:20210705T021500Z
LAST-MODIFIED:20250703T164318Z
UID:10004082-1860055200-1860060600@brushhillchurch.org
SUMMARY:Sunday Worship Service
DESCRIPTION:Each Sunday we worship God through songs\, prayer\, sermons\, and more. Our services are open to all.
URL:https://brushhillchurch.org/event/sunday-worship-service/2028-12-10/
LOCATION:Brush Hill Cumberland Presbyterian Church\, 3705 Brush Hill Road\, Nashville\, TN\, 37216\, United States
CATEGORIES:Worship
ATTACH;FMTTYPE=image/jpeg:https://brushhillchurch.org/wp-content/uploads/2021/07/DSC_0263-scaled.jpg
END:VEVENT
BEGIN:VEVENT
DTSTART;TZID=America/Chicago:20281217T090000
DTEND;TZID=America/Chicago:20281217T100000
DTSTAMP:20260422T230048
CREATED:20250930T163730Z
LAST-MODIFIED:20260310T232420Z
UID:10005064-1860656400-1860660000@brushhillchurch.org
SUMMARY:Community Hour
DESCRIPTION:Starting Sunday\, October 5\, 2025\, Brush Hill will be beginning a Community Hour at 9:00 am each Sunday for all those interested in learning more about one another and deepening our friendships as sisters and brothers in Christ. This time together will not be a Bible study\, though there will certainly be elements of our faith throughout it. It will be more focused on sharing our lives with one another. If you are curious about learning more\, please reach out to Megan Sanderson via email at sanderson.megan13@gmail.com.
URL:https://brushhillchurch.org/event/community-hour/2028-12-17/
LOCATION:Brush Hill Cumberland Presbyterian Church\, 3705 Brush Hill Road\, Nashville\, TN\, 37216\, United States
CATEGORIES:Church Groups,Worship
END:VEVENT
BEGIN:VEVENT
DTSTART;TZID=America/Chicago:20281217T100000
DTEND;TZID=America/Chicago:20281217T113000
DTSTAMP:20260422T230048
CREATED:20210705T021500Z
LAST-MODIFIED:20250703T164318Z
UID:10004083-1860660000-1860665400@brushhillchurch.org
SUMMARY:Sunday Worship Service
DESCRIPTION:Each Sunday we worship God through songs\, prayer\, sermons\, and more. Our services are open to all.
URL:https://brushhillchurch.org/event/sunday-worship-service/2028-12-17/
LOCATION:Brush Hill Cumberland Presbyterian Church\, 3705 Brush Hill Road\, Nashville\, TN\, 37216\, United States
CATEGORIES:Worship
ATTACH;FMTTYPE=image/jpeg:https://brushhillchurch.org/wp-content/uploads/2021/07/DSC_0263-scaled.jpg
END:VEVENT
BEGIN:VEVENT
DTSTART;TZID=America/Chicago:20281224T090000
DTEND;TZID=America/Chicago:20281224T100000
DTSTAMP:20260422T230048
CREATED:20250930T163730Z
LAST-MODIFIED:20260310T232420Z
UID:10005065-1861261200-1861264800@brushhillchurch.org
SUMMARY:Community Hour
DESCRIPTION:Starting Sunday\, October 5\, 2025\, Brush Hill will be beginning a Community Hour at 9:00 am each Sunday for all those interested in learning more about one another and deepening our friendships as sisters and brothers in Christ. This time together will not be a Bible study\, though there will certainly be elements of our faith throughout it. It will be more focused on sharing our lives with one another. If you are curious about learning more\, please reach out to Megan Sanderson via email at sanderson.megan13@gmail.com.
URL:https://brushhillchurch.org/event/community-hour/2028-12-24/
LOCATION:Brush Hill Cumberland Presbyterian Church\, 3705 Brush Hill Road\, Nashville\, TN\, 37216\, United States
CATEGORIES:Church Groups,Worship
END:VEVENT
BEGIN:VEVENT
DTSTART;TZID=America/Chicago:20281224T100000
DTEND;TZID=America/Chicago:20281224T113000
DTSTAMP:20260422T230048
CREATED:20210705T021500Z
LAST-MODIFIED:20250703T164318Z
UID:10004084-1861264800-1861270200@brushhillchurch.org
SUMMARY:Sunday Worship Service
DESCRIPTION:Each Sunday we worship God through songs\, prayer\, sermons\, and more. Our services are open to all.
URL:https://brushhillchurch.org/event/sunday-worship-service/2028-12-24/
LOCATION:Brush Hill Cumberland Presbyterian Church\, 3705 Brush Hill Road\, Nashville\, TN\, 37216\, United States
CATEGORIES:Worship
ATTACH;FMTTYPE=image/jpeg:https://brushhillchurch.org/wp-content/uploads/2021/07/DSC_0263-scaled.jpg
END:VEVENT
BEGIN:VEVENT
DTSTART;TZID=America/Chicago:20281231T090000
DTEND;TZID=America/Chicago:20281231T100000
DTSTAMP:20260422T230048
CREATED:20250930T163730Z
LAST-MODIFIED:20260310T232420Z
UID:10005066-1861866000-1861869600@brushhillchurch.org
SUMMARY:Community Hour
DESCRIPTION:Starting Sunday\, October 5\, 2025\, Brush Hill will be beginning a Community Hour at 9:00 am each Sunday for all those interested in learning more about one another and deepening our friendships as sisters and brothers in Christ. This time together will not be a Bible study\, though there will certainly be elements of our faith throughout it. It will be more focused on sharing our lives with one another. If you are curious about learning more\, please reach out to Megan Sanderson via email at sanderson.megan13@gmail.com.
URL:https://brushhillchurch.org/event/community-hour/2028-12-31/
LOCATION:Brush Hill Cumberland Presbyterian Church\, 3705 Brush Hill Road\, Nashville\, TN\, 37216\, United States
CATEGORIES:Church Groups,Worship
END:VEVENT
BEGIN:VEVENT
DTSTART;TZID=America/Chicago:20281231T100000
DTEND;TZID=America/Chicago:20281231T113000
DTSTAMP:20260422T230048
CREATED:20210705T021500Z
LAST-MODIFIED:20250703T164318Z
UID:10004085-1861869600-1861875000@brushhillchurch.org
SUMMARY:Sunday Worship Service
DESCRIPTION:Each Sunday we worship God through songs\, prayer\, sermons\, and more. Our services are open to all.
URL:https://brushhillchurch.org/event/sunday-worship-service/2028-12-31/
LOCATION:Brush Hill Cumberland Presbyterian Church\, 3705 Brush Hill Road\, Nashville\, TN\, 37216\, United States
CATEGORIES:Worship
ATTACH;FMTTYPE=image/jpeg:https://brushhillchurch.org/wp-content/uploads/2021/07/DSC_0263-scaled.jpg
END:VEVENT
BEGIN:VEVENT
DTSTART;TZID=America/Chicago:20290107T090000
DTEND;TZID=America/Chicago:20290107T100000
DTSTAMP:20260422T230048
CREATED:20250930T163730Z
LAST-MODIFIED:20260310T232420Z
UID:10005067-1862470800-1862474400@brushhillchurch.org
SUMMARY:Community Hour
DESCRIPTION:Starting Sunday\, October 5\, 2025\, Brush Hill will be beginning a Community Hour at 9:00 am each Sunday for all those interested in learning more about one another and deepening our friendships as sisters and brothers in Christ. This time together will not be a Bible study\, though there will certainly be elements of our faith throughout it. It will be more focused on sharing our lives with one another. If you are curious about learning more\, please reach out to Megan Sanderson via email at sanderson.megan13@gmail.com.
URL:https://brushhillchurch.org/event/community-hour/2029-01-07/
LOCATION:Brush Hill Cumberland Presbyterian Church\, 3705 Brush Hill Road\, Nashville\, TN\, 37216\, United States
CATEGORIES:Church Groups,Worship
END:VEVENT
BEGIN:VEVENT
DTSTART;TZID=America/Chicago:20290107T100000
DTEND;TZID=America/Chicago:20290107T113000
DTSTAMP:20260422T230048
CREATED:20210705T021500Z
LAST-MODIFIED:20250703T164318Z
UID:10004086-1862474400-1862479800@brushhillchurch.org
SUMMARY:Sunday Worship Service
DESCRIPTION:Each Sunday we worship God through songs\, prayer\, sermons\, and more. Our services are open to all.
URL:https://brushhillchurch.org/event/sunday-worship-service/2029-01-07/
LOCATION:Brush Hill Cumberland Presbyterian Church\, 3705 Brush Hill Road\, Nashville\, TN\, 37216\, United States
CATEGORIES:Worship
ATTACH;FMTTYPE=image/jpeg:https://brushhillchurch.org/wp-content/uploads/2021/07/DSC_0263-scaled.jpg
END:VEVENT
BEGIN:VEVENT
DTSTART;TZID=America/Chicago:20290114T090000
DTEND;TZID=America/Chicago:20290114T100000
DTSTAMP:20260422T230048
CREATED:20250930T163730Z
LAST-MODIFIED:20260310T232420Z
UID:10005068-1863075600-1863079200@brushhillchurch.org
SUMMARY:Community Hour
DESCRIPTION:Starting Sunday\, October 5\, 2025\, Brush Hill will be beginning a Community Hour at 9:00 am each Sunday for all those interested in learning more about one another and deepening our friendships as sisters and brothers in Christ. This time together will not be a Bible study\, though there will certainly be elements of our faith throughout it. It will be more focused on sharing our lives with one another. If you are curious about learning more\, please reach out to Megan Sanderson via email at sanderson.megan13@gmail.com.
URL:https://brushhillchurch.org/event/community-hour/2029-01-14/
LOCATION:Brush Hill Cumberland Presbyterian Church\, 3705 Brush Hill Road\, Nashville\, TN\, 37216\, United States
CATEGORIES:Church Groups,Worship
END:VEVENT
BEGIN:VEVENT
DTSTART;TZID=America/Chicago:20290114T100000
DTEND;TZID=America/Chicago:20290114T113000
DTSTAMP:20260422T230048
CREATED:20210705T021500Z
LAST-MODIFIED:20250703T164318Z
UID:10004087-1863079200-1863084600@brushhillchurch.org
SUMMARY:Sunday Worship Service
DESCRIPTION:Each Sunday we worship God through songs\, prayer\, sermons\, and more. Our services are open to all.
URL:https://brushhillchurch.org/event/sunday-worship-service/2029-01-14/
LOCATION:Brush Hill Cumberland Presbyterian Church\, 3705 Brush Hill Road\, Nashville\, TN\, 37216\, United States
CATEGORIES:Worship
ATTACH;FMTTYPE=image/jpeg:https://brushhillchurch.org/wp-content/uploads/2021/07/DSC_0263-scaled.jpg
END:VEVENT
BEGIN:VEVENT
DTSTART;TZID=America/Chicago:20290121T090000
DTEND;TZID=America/Chicago:20290121T100000
DTSTAMP:20260422T230048
CREATED:20250930T163730Z
LAST-MODIFIED:20260310T232420Z
UID:10005069-1863680400-1863684000@brushhillchurch.org
SUMMARY:Community Hour
DESCRIPTION:Starting Sunday\, October 5\, 2025\, Brush Hill will be beginning a Community Hour at 9:00 am each Sunday for all those interested in learning more about one another and deepening our friendships as sisters and brothers in Christ. This time together will not be a Bible study\, though there will certainly be elements of our faith throughout it. It will be more focused on sharing our lives with one another. If you are curious about learning more\, please reach out to Megan Sanderson via email at sanderson.megan13@gmail.com.
URL:https://brushhillchurch.org/event/community-hour/2029-01-21/
LOCATION:Brush Hill Cumberland Presbyterian Church\, 3705 Brush Hill Road\, Nashville\, TN\, 37216\, United States
CATEGORIES:Church Groups,Worship
END:VEVENT
BEGIN:VEVENT
DTSTART;TZID=America/Chicago:20290121T100000
DTEND;TZID=America/Chicago:20290121T113000
DTSTAMP:20260422T230048
CREATED:20210705T021500Z
LAST-MODIFIED:20250703T164318Z
UID:10004088-1863684000-1863689400@brushhillchurch.org
SUMMARY:Sunday Worship Service
DESCRIPTION:Each Sunday we worship God through songs\, prayer\, sermons\, and more. Our services are open to all.
URL:https://brushhillchurch.org/event/sunday-worship-service/2029-01-21/
LOCATION:Brush Hill Cumberland Presbyterian Church\, 3705 Brush Hill Road\, Nashville\, TN\, 37216\, United States
CATEGORIES:Worship
ATTACH;FMTTYPE=image/jpeg:https://brushhillchurch.org/wp-content/uploads/2021/07/DSC_0263-scaled.jpg
END:VEVENT
BEGIN:VEVENT
DTSTART;TZID=America/Chicago:20290128T090000
DTEND;TZID=America/Chicago:20290128T100000
DTSTAMP:20260422T230048
CREATED:20250930T163730Z
LAST-MODIFIED:20260310T232420Z
UID:10005070-1864285200-1864288800@brushhillchurch.org
SUMMARY:Community Hour
DESCRIPTION:Starting Sunday\, October 5\, 2025\, Brush Hill will be beginning a Community Hour at 9:00 am each Sunday for all those interested in learning more about one another and deepening our friendships as sisters and brothers in Christ. This time together will not be a Bible study\, though there will certainly be elements of our faith throughout it. It will be more focused on sharing our lives with one another. If you are curious about learning more\, please reach out to Megan Sanderson via email at sanderson.megan13@gmail.com.
URL:https://brushhillchurch.org/event/community-hour/2029-01-28/
LOCATION:Brush Hill Cumberland Presbyterian Church\, 3705 Brush Hill Road\, Nashville\, TN\, 37216\, United States
CATEGORIES:Church Groups,Worship
END:VEVENT
BEGIN:VEVENT
DTSTART;TZID=America/Chicago:20290128T100000
DTEND;TZID=America/Chicago:20290128T113000
DTSTAMP:20260422T230048
CREATED:20210705T021500Z
LAST-MODIFIED:20250703T164318Z
UID:10004089-1864288800-1864294200@brushhillchurch.org
SUMMARY:Sunday Worship Service
DESCRIPTION:Each Sunday we worship God through songs\, prayer\, sermons\, and more. Our services are open to all.
URL:https://brushhillchurch.org/event/sunday-worship-service/2029-01-28/
LOCATION:Brush Hill Cumberland Presbyterian Church\, 3705 Brush Hill Road\, Nashville\, TN\, 37216\, United States
CATEGORIES:Worship
ATTACH;FMTTYPE=image/jpeg:https://brushhillchurch.org/wp-content/uploads/2021/07/DSC_0263-scaled.jpg
END:VEVENT
END:VCALENDAR