BEGIN:VCALENDAR
VERSION:2.0
PRODID:-//Brush Hill Cumberland Presbyterian Church - ECPv6.15.20//NONSGML v1.0//EN
CALSCALE:GREGORIAN
METHOD:PUBLISH
X-ORIGINAL-URL:https://brushhillchurch.org
X-WR-CALDESC:Events for Brush Hill Cumberland Presbyterian Church
REFRESH-INTERVAL;VALUE=DURATION:PT1H
X-Robots-Tag:noindex
X-PUBLISHED-TTL:PT1H
BEGIN:VTIMEZONE
TZID:America/Chicago
BEGIN:DAYLIGHT
TZOFFSETFROM:-0600
TZOFFSETTO:-0500
TZNAME:CDT
DTSTART:20240310T080000
END:DAYLIGHT
BEGIN:STANDARD
TZOFFSETFROM:-0500
TZOFFSETTO:-0600
TZNAME:CST
DTSTART:20241103T070000
END:STANDARD
BEGIN:DAYLIGHT
TZOFFSETFROM:-0600
TZOFFSETTO:-0500
TZNAME:CDT
DTSTART:20250309T080000
END:DAYLIGHT
BEGIN:STANDARD
TZOFFSETFROM:-0500
TZOFFSETTO:-0600
TZNAME:CST
DTSTART:20251102T070000
END:STANDARD
BEGIN:DAYLIGHT
TZOFFSETFROM:-0600
TZOFFSETTO:-0500
TZNAME:CDT
DTSTART:20260308T080000
END:DAYLIGHT
BEGIN:STANDARD
TZOFFSETFROM:-0500
TZOFFSETTO:-0600
TZNAME:CST
DTSTART:20261101T070000
END:STANDARD
END:VTIMEZONE
BEGIN:VEVENT
DTSTART;TZID=America/Chicago:20251228T100000
DTEND;TZID=America/Chicago:20251228T113000
DTSTAMP:20260419T081032
CREATED:20210705T021500Z
LAST-MODIFIED:20250703T164318Z
UID:10001709-1766916000-1766921400@brushhillchurch.org
SUMMARY:Sunday Worship Service
DESCRIPTION:Each Sunday we worship God through songs\, prayer\, sermons\, and more. Our services are open to all.
URL:https://brushhillchurch.org/event/sunday-worship-service/2025-12-28/
LOCATION:Brush Hill Cumberland Presbyterian Church\, 3705 Brush Hill Road\, Nashville\, TN\, 37216\, United States
CATEGORIES:Worship
ATTACH;FMTTYPE=image/jpeg:https://brushhillchurch.org/wp-content/uploads/2021/07/DSC_0263-scaled.jpg
END:VEVENT
BEGIN:VEVENT
DTSTART;TZID=America/Chicago:20251228T090000
DTEND;TZID=America/Chicago:20251228T100000
DTSTAMP:20260419T081032
CREATED:20250930T163730Z
LAST-MODIFIED:20260310T232420Z
UID:10004909-1766912400-1766916000@brushhillchurch.org
SUMMARY:Community Hour
DESCRIPTION:Starting Sunday\, October 5\, 2025\, Brush Hill will be beginning a Community Hour at 9:00 am each Sunday for all those interested in learning more about one another and deepening our friendships as sisters and brothers in Christ. This time together will not be a Bible study\, though there will certainly be elements of our faith throughout it. It will be more focused on sharing our lives with one another. If you are curious about learning more\, please reach out to Megan Sanderson via email at sanderson.megan13@gmail.com.
URL:https://brushhillchurch.org/event/community-hour/2025-12-28/
LOCATION:Brush Hill Cumberland Presbyterian Church\, 3705 Brush Hill Road\, Nashville\, TN\, 37216\, United States
CATEGORIES:Church Groups,Worship
END:VEVENT
BEGIN:VEVENT
DTSTART;TZID=America/Chicago:20251228T090000
DTEND;TZID=America/Chicago:20251228T100000
DTSTAMP:20260419T081032
CREATED:20210705T021650Z
LAST-MODIFIED:20250703T164246Z
UID:10002035-1766912400-1766916000@brushhillchurch.org
SUMMARY:Sunday School
DESCRIPTION:We currently have one adult and one toddler class meeting each Sunday to learn more about God together! All are welcome to join!
URL:https://brushhillchurch.org/event/sunday-school/2025-12-28/
LOCATION:Brush Hill Cumberland Presbyterian Church\, 3705 Brush Hill Road\, Nashville\, TN\, 37216\, United States
END:VEVENT
BEGIN:VEVENT
DTSTART;TZID=America/Chicago:20251224T160000
DTEND;TZID=America/Chicago:20251224T170000
DTSTAMP:20260419T081032
CREATED:20251217T175645Z
LAST-MODIFIED:20251217T175645Z
UID:10005178-1766592000-1766595600@brushhillchurch.org
SUMMARY:Christmas Eve Communion
DESCRIPTION:Join us for music\, a journey through the Scriptures\, and Holy Communion as we remember our Lord Jesus Christ\, whom Christmas is all about.
URL:https://brushhillchurch.org/event/christmas-eve-communion-2025/
LOCATION:Brush Hill Cumberland Presbyterian Church\, 3705 Brush Hill Road\, Nashville\, TN\, 37216\, United States
CATEGORIES:Holidays,Worship
ATTACH;FMTTYPE=image/png:https://brushhillchurch.org/wp-content/uploads/2025/12/communion.png
END:VEVENT
BEGIN:VEVENT
DTSTART;TZID=America/Chicago:20251224T090000
DTEND;TZID=America/Chicago:20251224T100000
DTSTAMP:20260419T081032
CREATED:20251217T180847Z
LAST-MODIFIED:20251217T180847Z
UID:10005181-1766566800-1766570400@brushhillchurch.org
SUMMARY:Sacrament Church Christmas Eve Service
DESCRIPTION:Sacrament Church will be holding their Christmas Eve service in the sanctuary.
URL:https://brushhillchurch.org/event/sacrament-church-christmas-eve-service/
LOCATION:Brush Hill Cumberland Presbyterian Church\, 3705 Brush Hill Road\, Nashville\, TN\, 37216\, United States
CATEGORIES:Worship
END:VEVENT
BEGIN:VEVENT
DTSTART;TZID=America/Chicago:20251222T133000
DTEND;TZID=America/Chicago:20251222T150000
DTSTAMP:20260419T081032
CREATED:20250703T164927Z
LAST-MODIFIED:20250703T164927Z
UID:10004449-1766410200-1766415600@brushhillchurch.org
SUMMARY:Manna Monday
DESCRIPTION:Manna Monday is a food ministry of our church that cooks and delivers food to the sick\, elderly\, and others in need of a meal on Monday evenings. If you would like to participate as a cook\, deliver meals\, or receive a meal\, please contact the church office.
URL:https://brushhillchurch.org/event/manna-monday-12/2025-12-22/
LOCATION:Brush Hill Cumberland Presbyterian Church\, 3705 Brush Hill Road\, Nashville\, TN\, 37216\, United States
CATEGORIES:Community Ministry
END:VEVENT
BEGIN:VEVENT
DTSTART;TZID=America/Chicago:20251221T190000
DTEND;TZID=America/Chicago:20251221T200000
DTSTAMP:20260419T081032
CREATED:20251217T180716Z
LAST-MODIFIED:20251217T180716Z
UID:10005180-1766343600-1766347200@brushhillchurch.org
SUMMARY:Longest Night Service
DESCRIPTION:Sacrament Church will be holding their Longest Night service in the sanctuary.
URL:https://brushhillchurch.org/event/longest-night-service-2025/
LOCATION:Brush Hill Cumberland Presbyterian Church\, 3705 Brush Hill Road\, Nashville\, TN\, 37216\, United States
CATEGORIES:Worship
END:VEVENT
BEGIN:VEVENT
DTSTART;TZID=America/Chicago:20251221T170000
DTEND;TZID=America/Chicago:20251221T200000
DTSTAMP:20260419T081032
CREATED:20251217T180509Z
LAST-MODIFIED:20251217T180510Z
UID:10005179-1766336400-1766347200@brushhillchurch.org
SUMMARY:Christmas Party
DESCRIPTION:Join us on Sunday evening\, December 21 at 5:00pm for a Christmas Party in our fellowship hall! Bring some finger foods or desserts to share as we enjoy a time of Christmas cheer together! We will be singing Christmas carols\, watching a movie\, and celebrating a year of faithful ministry together! Santa will be busy preparing for Christmas Eve and will not be attending the party\, so be sure to come to Breakfast with Santa this weekend!
URL:https://brushhillchurch.org/event/christmas-party-2025/
LOCATION:Brush Hill Cumberland Presbyterian Church\, 3705 Brush Hill Road\, Nashville\, TN\, 37216\, United States
CATEGORIES:Holidays
ATTACH;FMTTYPE=image/jpeg:https://brushhillchurch.org/wp-content/uploads/2025/12/christmas-party.jpg
END:VEVENT
BEGIN:VEVENT
DTSTART;TZID=America/Chicago:20251221T103000
DTEND;TZID=America/Chicago:20251221T120000
DTSTAMP:20260419T081032
CREATED:20250703T164633Z
LAST-MODIFIED:20250703T164633Z
UID:10004188-1766313000-1766318400@brushhillchurch.org
SUMMARY:Sacrament Church Worship Service
DESCRIPTION:Sacrament Church\, who shares our space\, worships in our fellowship hall at this time. Learn more about Sacrament Church here: https://www.sacramentchurch.com/
URL:https://brushhillchurch.org/event/sacrament-church-worship-service/2025-12-21/
LOCATION:Brush Hill Cumberland Presbyterian Church\, 3705 Brush Hill Road\, Nashville\, TN\, 37216\, United States
CATEGORIES:Rentals
END:VEVENT
BEGIN:VEVENT
DTSTART;TZID=America/Chicago:20251221T100000
DTEND;TZID=America/Chicago:20251221T113000
DTSTAMP:20260419T081032
CREATED:20210705T021500Z
LAST-MODIFIED:20250703T164318Z
UID:10001708-1766311200-1766316600@brushhillchurch.org
SUMMARY:Sunday Worship Service
DESCRIPTION:Each Sunday we worship God through songs\, prayer\, sermons\, and more. Our services are open to all.
URL:https://brushhillchurch.org/event/sunday-worship-service/2025-12-21/
LOCATION:Brush Hill Cumberland Presbyterian Church\, 3705 Brush Hill Road\, Nashville\, TN\, 37216\, United States
CATEGORIES:Worship
ATTACH;FMTTYPE=image/jpeg:https://brushhillchurch.org/wp-content/uploads/2021/07/DSC_0263-scaled.jpg
END:VEVENT
BEGIN:VEVENT
DTSTART;TZID=America/Chicago:20251221T090000
DTEND;TZID=America/Chicago:20251221T100000
DTSTAMP:20260419T081032
CREATED:20250930T163730Z
LAST-MODIFIED:20260310T232420Z
UID:10004908-1766307600-1766311200@brushhillchurch.org
SUMMARY:Community Hour
DESCRIPTION:Starting Sunday\, October 5\, 2025\, Brush Hill will be beginning a Community Hour at 9:00 am each Sunday for all those interested in learning more about one another and deepening our friendships as sisters and brothers in Christ. This time together will not be a Bible study\, though there will certainly be elements of our faith throughout it. It will be more focused on sharing our lives with one another. If you are curious about learning more\, please reach out to Megan Sanderson via email at sanderson.megan13@gmail.com.
URL:https://brushhillchurch.org/event/community-hour/2025-12-21/
LOCATION:Brush Hill Cumberland Presbyterian Church\, 3705 Brush Hill Road\, Nashville\, TN\, 37216\, United States
CATEGORIES:Church Groups,Worship
END:VEVENT
BEGIN:VEVENT
DTSTART;TZID=America/Chicago:20251221T090000
DTEND;TZID=America/Chicago:20251221T100000
DTSTAMP:20260419T081032
CREATED:20210705T021650Z
LAST-MODIFIED:20250703T164246Z
UID:10002034-1766307600-1766311200@brushhillchurch.org
SUMMARY:Sunday School
DESCRIPTION:We currently have one adult and one toddler class meeting each Sunday to learn more about God together! All are welcome to join!
URL:https://brushhillchurch.org/event/sunday-school/2025-12-21/
LOCATION:Brush Hill Cumberland Presbyterian Church\, 3705 Brush Hill Road\, Nashville\, TN\, 37216\, United States
END:VEVENT
BEGIN:VEVENT
DTSTART;TZID=America/Chicago:20251217T170000
DTEND;TZID=America/Chicago:20251217T200000
DTSTAMP:20260419T081032
CREATED:20250825T193452Z
LAST-MODIFIED:20251217T180115Z
UID:10004828-1765990800-1766001600@brushhillchurch.org
SUMMARY:Field Reserved
DESCRIPTION:Field reserved for Girls Only Soccer League.
URL:https://brushhillchurch.org/event/field-reserved/2025-12-17/
LOCATION:Brush Hill Cumberland Presbyterian Church\, 3705 Brush Hill Road\, Nashville\, TN\, 37216\, United States
CATEGORIES:Rentals
END:VEVENT
BEGIN:VEVENT
DTSTART;TZID=America/Chicago:20251216T170000
DTEND;TZID=America/Chicago:20251216T200000
DTSTAMP:20260419T081032
CREATED:20250825T193452Z
LAST-MODIFIED:20251217T180115Z
UID:10004827-1765904400-1765915200@brushhillchurch.org
SUMMARY:Field Reserved
DESCRIPTION:Field reserved for Girls Only Soccer League.
URL:https://brushhillchurch.org/event/field-reserved/2025-12-16/
LOCATION:Brush Hill Cumberland Presbyterian Church\, 3705 Brush Hill Road\, Nashville\, TN\, 37216\, United States
CATEGORIES:Rentals
END:VEVENT
BEGIN:VEVENT
DTSTART;TZID=America/Chicago:20251215T170000
DTEND;TZID=America/Chicago:20251215T200000
DTSTAMP:20260419T081032
CREATED:20250825T193452Z
LAST-MODIFIED:20251217T180115Z
UID:10004826-1765818000-1765828800@brushhillchurch.org
SUMMARY:Field Reserved
DESCRIPTION:Field reserved for Girls Only Soccer League.
URL:https://brushhillchurch.org/event/field-reserved/2025-12-15/
LOCATION:Brush Hill Cumberland Presbyterian Church\, 3705 Brush Hill Road\, Nashville\, TN\, 37216\, United States
CATEGORIES:Rentals
END:VEVENT
BEGIN:VEVENT
DTSTART;TZID=America/Chicago:20251215T133000
DTEND;TZID=America/Chicago:20251215T150000
DTSTAMP:20260419T081032
CREATED:20250703T164927Z
LAST-MODIFIED:20250703T164927Z
UID:10004448-1765805400-1765810800@brushhillchurch.org
SUMMARY:Manna Monday
DESCRIPTION:Manna Monday is a food ministry of our church that cooks and delivers food to the sick\, elderly\, and others in need of a meal on Monday evenings. If you would like to participate as a cook\, deliver meals\, or receive a meal\, please contact the church office.
URL:https://brushhillchurch.org/event/manna-monday-12/2025-12-15/
LOCATION:Brush Hill Cumberland Presbyterian Church\, 3705 Brush Hill Road\, Nashville\, TN\, 37216\, United States
CATEGORIES:Community Ministry
END:VEVENT
BEGIN:VEVENT
DTSTART;TZID=America/Chicago:20251214T103000
DTEND;TZID=America/Chicago:20251214T120000
DTSTAMP:20260419T081032
CREATED:20250703T164633Z
LAST-MODIFIED:20250703T164633Z
UID:10004187-1765708200-1765713600@brushhillchurch.org
SUMMARY:Sacrament Church Worship Service
DESCRIPTION:Sacrament Church\, who shares our space\, worships in our fellowship hall at this time. Learn more about Sacrament Church here: https://www.sacramentchurch.com/
URL:https://brushhillchurch.org/event/sacrament-church-worship-service/2025-12-14/
LOCATION:Brush Hill Cumberland Presbyterian Church\, 3705 Brush Hill Road\, Nashville\, TN\, 37216\, United States
CATEGORIES:Rentals
END:VEVENT
BEGIN:VEVENT
DTSTART;TZID=America/Chicago:20251214T100000
DTEND;TZID=America/Chicago:20251214T113000
DTSTAMP:20260419T081032
CREATED:20210705T021500Z
LAST-MODIFIED:20250703T164318Z
UID:10001707-1765706400-1765711800@brushhillchurch.org
SUMMARY:Sunday Worship Service
DESCRIPTION:Each Sunday we worship God through songs\, prayer\, sermons\, and more. Our services are open to all.
URL:https://brushhillchurch.org/event/sunday-worship-service/2025-12-14/
LOCATION:Brush Hill Cumberland Presbyterian Church\, 3705 Brush Hill Road\, Nashville\, TN\, 37216\, United States
CATEGORIES:Worship
ATTACH;FMTTYPE=image/jpeg:https://brushhillchurch.org/wp-content/uploads/2021/07/DSC_0263-scaled.jpg
END:VEVENT
BEGIN:VEVENT
DTSTART;TZID=America/Chicago:20251214T090000
DTEND;TZID=America/Chicago:20251214T100000
DTSTAMP:20260419T081032
CREATED:20250930T163730Z
LAST-MODIFIED:20260310T232420Z
UID:10004907-1765702800-1765706400@brushhillchurch.org
SUMMARY:Community Hour
DESCRIPTION:Starting Sunday\, October 5\, 2025\, Brush Hill will be beginning a Community Hour at 9:00 am each Sunday for all those interested in learning more about one another and deepening our friendships as sisters and brothers in Christ. This time together will not be a Bible study\, though there will certainly be elements of our faith throughout it. It will be more focused on sharing our lives with one another. If you are curious about learning more\, please reach out to Megan Sanderson via email at sanderson.megan13@gmail.com.
URL:https://brushhillchurch.org/event/community-hour/2025-12-14/
LOCATION:Brush Hill Cumberland Presbyterian Church\, 3705 Brush Hill Road\, Nashville\, TN\, 37216\, United States
CATEGORIES:Church Groups,Worship
END:VEVENT
BEGIN:VEVENT
DTSTART;TZID=America/Chicago:20251214T090000
DTEND;TZID=America/Chicago:20251214T100000
DTSTAMP:20260419T081032
CREATED:20210705T021650Z
LAST-MODIFIED:20250703T164246Z
UID:10002033-1765702800-1765706400@brushhillchurch.org
SUMMARY:Sunday School
DESCRIPTION:We currently have one adult and one toddler class meeting each Sunday to learn more about God together! All are welcome to join!
URL:https://brushhillchurch.org/event/sunday-school/2025-12-14/
LOCATION:Brush Hill Cumberland Presbyterian Church\, 3705 Brush Hill Road\, Nashville\, TN\, 37216\, United States
END:VEVENT
BEGIN:VEVENT
DTSTART;TZID=America/Chicago:20251213T080000
DTEND;TZID=America/Chicago:20251213T091500
DTSTAMP:20260419T081032
CREATED:20251129T220230Z
LAST-MODIFIED:20251129T220231Z
UID:10005163-1765612800-1765617300@brushhillchurch.org
SUMMARY:Breakfast with Santa
DESCRIPTION:Our Breakfast with Santa church fundraiser is taking place on Saturday\, December 13 from 8:00 am to 9:15 am. During Breakfast with Santa families and individuals will enjoy a pancake breakfast and a visit Santa as they enjoy the Christmas season! The cost is $10 per adult and $5 per child. All proceeds from this event will go toward the church. If you would like to volunteer for this event\, contact Tiffany Kelly (Kellyfam1614@comcast.net).
URL:https://brushhillchurch.org/event/breakfast-with-santa-2025/
LOCATION:Brush Hill Cumberland Presbyterian Church\, 3705 Brush Hill Road\, Nashville\, TN\, 37216\, United States
CATEGORIES:Holidays
ATTACH;FMTTYPE=image/jpeg:https://brushhillchurch.org/wp-content/uploads/2025/11/santa.jpg
END:VEVENT
BEGIN:VEVENT
DTSTART;TZID=America/Chicago:20251210T170000
DTEND;TZID=America/Chicago:20251210T200000
DTSTAMP:20260419T081032
CREATED:20250825T193452Z
LAST-MODIFIED:20251217T180115Z
UID:10004825-1765386000-1765396800@brushhillchurch.org
SUMMARY:Field Reserved
DESCRIPTION:Field reserved for Girls Only Soccer League.
URL:https://brushhillchurch.org/event/field-reserved/2025-12-10/
LOCATION:Brush Hill Cumberland Presbyterian Church\, 3705 Brush Hill Road\, Nashville\, TN\, 37216\, United States
CATEGORIES:Rentals
END:VEVENT
BEGIN:VEVENT
DTSTART;TZID=America/Chicago:20251210T080000
DTEND;TZID=America/Chicago:20251210T170000
DTSTAMP:20260419T081032
CREATED:20250825T193156Z
LAST-MODIFIED:20251217T175739Z
UID:10004766-1765353600-1765386000@brushhillchurch.org
SUMMARY:Girl Scouts
DESCRIPTION:The Girl Scouts will be utilizing the meeting space during the school year.
URL:https://brushhillchurch.org/event/girl-scouts-4/2025-12-10/
LOCATION:Brush Hill Cumberland Presbyterian Church\, 3705 Brush Hill Road\, Nashville\, TN\, 37216\, United States
CATEGORIES:Rentals
END:VEVENT
BEGIN:VEVENT
DTSTART;TZID=America/Chicago:20251209T170000
DTEND;TZID=America/Chicago:20251209T200000
DTSTAMP:20260419T081032
CREATED:20250825T193452Z
LAST-MODIFIED:20251217T180115Z
UID:10004824-1765299600-1765310400@brushhillchurch.org
SUMMARY:Field Reserved
DESCRIPTION:Field reserved for Girls Only Soccer League.
URL:https://brushhillchurch.org/event/field-reserved/2025-12-09/
LOCATION:Brush Hill Cumberland Presbyterian Church\, 3705 Brush Hill Road\, Nashville\, TN\, 37216\, United States
CATEGORIES:Rentals
END:VEVENT
BEGIN:VEVENT
DTSTART;TZID=America/Chicago:20251208T170000
DTEND;TZID=America/Chicago:20251208T200000
DTSTAMP:20260419T081032
CREATED:20250825T193452Z
LAST-MODIFIED:20251217T180115Z
UID:10004823-1765213200-1765224000@brushhillchurch.org
SUMMARY:Field Reserved
DESCRIPTION:Field reserved for Girls Only Soccer League.
URL:https://brushhillchurch.org/event/field-reserved/2025-12-08/
LOCATION:Brush Hill Cumberland Presbyterian Church\, 3705 Brush Hill Road\, Nashville\, TN\, 37216\, United States
CATEGORIES:Rentals
END:VEVENT
BEGIN:VEVENT
DTSTART;TZID=America/Chicago:20251208T133000
DTEND;TZID=America/Chicago:20251208T150000
DTSTAMP:20260419T081032
CREATED:20250703T164927Z
LAST-MODIFIED:20250703T164927Z
UID:10004447-1765200600-1765206000@brushhillchurch.org
SUMMARY:Manna Monday
DESCRIPTION:Manna Monday is a food ministry of our church that cooks and delivers food to the sick\, elderly\, and others in need of a meal on Monday evenings. If you would like to participate as a cook\, deliver meals\, or receive a meal\, please contact the church office.
URL:https://brushhillchurch.org/event/manna-monday-12/2025-12-08/
LOCATION:Brush Hill Cumberland Presbyterian Church\, 3705 Brush Hill Road\, Nashville\, TN\, 37216\, United States
CATEGORIES:Community Ministry
END:VEVENT
BEGIN:VEVENT
DTSTART;TZID=America/Chicago:20251207T133000
DTEND;TZID=America/Chicago:20251207T143000
DTSTAMP:20260419T081032
CREATED:20250825T190434Z
LAST-MODIFIED:20250825T190434Z
UID:10004713-1765114200-1765117800@brushhillchurch.org
SUMMARY:Food and Faith Class
DESCRIPTION:Sacrament Church has invited Brush Hill to join them as they host a class entitled Food and Faith. Here is a short description of the class: \nFood is one of the most basic and necessary ways that we can love God\, love ourselves\, and love our neighbors as ourselves. The Eucharist invites us into abundant life as followers of Christ… that we would “taste and see that the Lord is good.” This class explores the intersection of faithful eating\, our Nashville food system\, and falling in love with the land we live on as a part of our discipleship. \nIn this class\, we will learn and eat together\, hear compelling stories of good work being done\, and tour farms. With the challenges of land in Middle Tennessee being quickly developed for housing and commercial interests as well as rising farming input expenses\, Middle Tennessee farmers need support as they care for the land and grow nutritious food that supports the local food system. Additionally\, food insecurity and food justice issues are pervasive in Nashville. \nThe class will be held each Sunday in September at 1:30pm. \n\nSunday\, September 7 – Teaching on Food and Faith in Nashville\nSunday\, September 14 – Visit to Brooklyn Heights Community Garden\nSunday\, September 21 – Visit to Welcome Garden\nSunday\, September 28 – Potluck meal and Eucharist\n\nTo learn more and sign up for the class\, go to www.sacramentchurch.com/food-faith.
URL:https://brushhillchurch.org/event/food-and-faith-class/2025-12-07/
LOCATION:Brush Hill Cumberland Presbyterian Church\, 3705 Brush Hill Road\, Nashville\, TN\, 37216\, United States
CATEGORIES:Church Groups,Misc. Events
ATTACH;FMTTYPE=image/jpeg:https://brushhillchurch.org/wp-content/uploads/2025/08/megan-thomas-xMh_ww8HN_Q-unsplash.jpg
END:VEVENT
BEGIN:VEVENT
DTSTART;TZID=America/Chicago:20251207T103000
DTEND;TZID=America/Chicago:20251207T120000
DTSTAMP:20260419T081032
CREATED:20250703T164633Z
LAST-MODIFIED:20250703T164633Z
UID:10004186-1765103400-1765108800@brushhillchurch.org
SUMMARY:Sacrament Church Worship Service
DESCRIPTION:Sacrament Church\, who shares our space\, worships in our fellowship hall at this time. Learn more about Sacrament Church here: https://www.sacramentchurch.com/
URL:https://brushhillchurch.org/event/sacrament-church-worship-service/2025-12-07/
LOCATION:Brush Hill Cumberland Presbyterian Church\, 3705 Brush Hill Road\, Nashville\, TN\, 37216\, United States
CATEGORIES:Rentals
END:VEVENT
BEGIN:VEVENT
DTSTART;TZID=America/Chicago:20251207T100000
DTEND;TZID=America/Chicago:20251207T113000
DTSTAMP:20260419T081032
CREATED:20210705T021500Z
LAST-MODIFIED:20250703T164318Z
UID:10001706-1765101600-1765107000@brushhillchurch.org
SUMMARY:Sunday Worship Service
DESCRIPTION:Each Sunday we worship God through songs\, prayer\, sermons\, and more. Our services are open to all.
URL:https://brushhillchurch.org/event/sunday-worship-service/2025-12-07/
LOCATION:Brush Hill Cumberland Presbyterian Church\, 3705 Brush Hill Road\, Nashville\, TN\, 37216\, United States
CATEGORIES:Worship
ATTACH;FMTTYPE=image/jpeg:https://brushhillchurch.org/wp-content/uploads/2021/07/DSC_0263-scaled.jpg
END:VEVENT
BEGIN:VEVENT
DTSTART;TZID=America/Chicago:20251207T090000
DTEND;TZID=America/Chicago:20251207T100000
DTSTAMP:20260419T081032
CREATED:20250930T163730Z
LAST-MODIFIED:20260310T232420Z
UID:10004906-1765098000-1765101600@brushhillchurch.org
SUMMARY:Community Hour
DESCRIPTION:Starting Sunday\, October 5\, 2025\, Brush Hill will be beginning a Community Hour at 9:00 am each Sunday for all those interested in learning more about one another and deepening our friendships as sisters and brothers in Christ. This time together will not be a Bible study\, though there will certainly be elements of our faith throughout it. It will be more focused on sharing our lives with one another. If you are curious about learning more\, please reach out to Megan Sanderson via email at sanderson.megan13@gmail.com.
URL:https://brushhillchurch.org/event/community-hour/2025-12-07/
LOCATION:Brush Hill Cumberland Presbyterian Church\, 3705 Brush Hill Road\, Nashville\, TN\, 37216\, United States
CATEGORIES:Church Groups,Worship
END:VEVENT
END:VCALENDAR