BEGIN:VCALENDAR
VERSION:2.0
PRODID:-//Brush Hill Cumberland Presbyterian Church - ECPv6.15.20//NONSGML v1.0//EN
CALSCALE:GREGORIAN
METHOD:PUBLISH
X-WR-CALNAME:Brush Hill Cumberland Presbyterian Church
X-ORIGINAL-URL:https://brushhillchurch.org
X-WR-CALDESC:Events for Brush Hill Cumberland Presbyterian Church
REFRESH-INTERVAL;VALUE=DURATION:PT1H
X-Robots-Tag:noindex
X-PUBLISHED-TTL:PT1H
BEGIN:VTIMEZONE
TZID:America/Chicago
BEGIN:DAYLIGHT
TZOFFSETFROM:-0600
TZOFFSETTO:-0500
TZNAME:CDT
DTSTART:20230312T080000
END:DAYLIGHT
BEGIN:STANDARD
TZOFFSETFROM:-0500
TZOFFSETTO:-0600
TZNAME:CST
DTSTART:20231105T070000
END:STANDARD
BEGIN:DAYLIGHT
TZOFFSETFROM:-0600
TZOFFSETTO:-0500
TZNAME:CDT
DTSTART:20240310T080000
END:DAYLIGHT
BEGIN:STANDARD
TZOFFSETFROM:-0500
TZOFFSETTO:-0600
TZNAME:CST
DTSTART:20241103T070000
END:STANDARD
BEGIN:DAYLIGHT
TZOFFSETFROM:-0600
TZOFFSETTO:-0500
TZNAME:CDT
DTSTART:20250309T080000
END:DAYLIGHT
BEGIN:STANDARD
TZOFFSETFROM:-0500
TZOFFSETTO:-0600
TZNAME:CST
DTSTART:20251102T070000
END:STANDARD
END:VTIMEZONE
BEGIN:VEVENT
DTSTART;TZID=America/Chicago:20241201T090000
DTEND;TZID=America/Chicago:20241201T100000
DTSTAMP:20260419T215408
CREATED:20210705T021650Z
LAST-MODIFIED:20250703T164246Z
UID:10001979-1733043600-1733047200@brushhillchurch.org
SUMMARY:Sunday School
DESCRIPTION:We currently have one adult and one toddler class meeting each Sunday to learn more about God together! All are welcome to join!
URL:https://brushhillchurch.org/event/sunday-school/2024-12-01/
LOCATION:Brush Hill Cumberland Presbyterian Church\, 3705 Brush Hill Road\, Nashville\, TN\, 37216\, United States
END:VEVENT
BEGIN:VEVENT
DTSTART;TZID=America/Chicago:20241208T090000
DTEND;TZID=America/Chicago:20241208T100000
DTSTAMP:20260419T215408
CREATED:20210705T021650Z
LAST-MODIFIED:20250703T164246Z
UID:10001980-1733648400-1733652000@brushhillchurch.org
SUMMARY:Sunday School
DESCRIPTION:We currently have one adult and one toddler class meeting each Sunday to learn more about God together! All are welcome to join!
URL:https://brushhillchurch.org/event/sunday-school/2024-12-08/
LOCATION:Brush Hill Cumberland Presbyterian Church\, 3705 Brush Hill Road\, Nashville\, TN\, 37216\, United States
END:VEVENT
BEGIN:VEVENT
DTSTART;TZID=America/Chicago:20241215T090000
DTEND;TZID=America/Chicago:20241215T100000
DTSTAMP:20260419T215408
CREATED:20210705T021650Z
LAST-MODIFIED:20250703T164246Z
UID:10001981-1734253200-1734256800@brushhillchurch.org
SUMMARY:Sunday School
DESCRIPTION:We currently have one adult and one toddler class meeting each Sunday to learn more about God together! All are welcome to join!
URL:https://brushhillchurch.org/event/sunday-school/2024-12-15/
LOCATION:Brush Hill Cumberland Presbyterian Church\, 3705 Brush Hill Road\, Nashville\, TN\, 37216\, United States
END:VEVENT
BEGIN:VEVENT
DTSTART;TZID=America/Chicago:20241222T090000
DTEND;TZID=America/Chicago:20241222T100000
DTSTAMP:20260419T215408
CREATED:20210705T021650Z
LAST-MODIFIED:20250703T164246Z
UID:10001982-1734858000-1734861600@brushhillchurch.org
SUMMARY:Sunday School
DESCRIPTION:We currently have one adult and one toddler class meeting each Sunday to learn more about God together! All are welcome to join!
URL:https://brushhillchurch.org/event/sunday-school/2024-12-22/
LOCATION:Brush Hill Cumberland Presbyterian Church\, 3705 Brush Hill Road\, Nashville\, TN\, 37216\, United States
END:VEVENT
BEGIN:VEVENT
DTSTART;TZID=America/Chicago:20241229T090000
DTEND;TZID=America/Chicago:20241229T100000
DTSTAMP:20260419T215408
CREATED:20210705T021650Z
LAST-MODIFIED:20250703T164246Z
UID:10001983-1735462800-1735466400@brushhillchurch.org
SUMMARY:Sunday School
DESCRIPTION:We currently have one adult and one toddler class meeting each Sunday to learn more about God together! All are welcome to join!
URL:https://brushhillchurch.org/event/sunday-school/2024-12-29/
LOCATION:Brush Hill Cumberland Presbyterian Church\, 3705 Brush Hill Road\, Nashville\, TN\, 37216\, United States
END:VEVENT
END:VCALENDAR