BEGIN:VCALENDAR
VERSION:2.0
PRODID:-//Brush Hill Cumberland Presbyterian Church - ECPv6.15.20//NONSGML v1.0//EN
CALSCALE:GREGORIAN
METHOD:PUBLISH
X-WR-CALNAME:Brush Hill Cumberland Presbyterian Church
X-ORIGINAL-URL:https://brushhillchurch.org
X-WR-CALDESC:Events for Brush Hill Cumberland Presbyterian Church
REFRESH-INTERVAL;VALUE=DURATION:PT1H
X-Robots-Tag:noindex
X-PUBLISHED-TTL:PT1H
BEGIN:VTIMEZONE
TZID:America/Chicago
BEGIN:DAYLIGHT
TZOFFSETFROM:-0600
TZOFFSETTO:-0500
TZNAME:CDT
DTSTART:20270314T080000
END:DAYLIGHT
BEGIN:STANDARD
TZOFFSETFROM:-0500
TZOFFSETTO:-0600
TZNAME:CST
DTSTART:20271107T070000
END:STANDARD
BEGIN:DAYLIGHT
TZOFFSETFROM:-0600
TZOFFSETTO:-0500
TZNAME:CDT
DTSTART:20280312T080000
END:DAYLIGHT
BEGIN:STANDARD
TZOFFSETFROM:-0500
TZOFFSETTO:-0600
TZNAME:CST
DTSTART:20281105T070000
END:STANDARD
BEGIN:DAYLIGHT
TZOFFSETFROM:-0600
TZOFFSETTO:-0500
TZNAME:CDT
DTSTART:20290311T080000
END:DAYLIGHT
BEGIN:STANDARD
TZOFFSETFROM:-0500
TZOFFSETTO:-0600
TZNAME:CST
DTSTART:20291104T070000
END:STANDARD
BEGIN:DAYLIGHT
TZOFFSETFROM:-0600
TZOFFSETTO:-0500
TZNAME:CDT
DTSTART:20300310T080000
END:DAYLIGHT
BEGIN:STANDARD
TZOFFSETFROM:-0500
TZOFFSETTO:-0600
TZNAME:CST
DTSTART:20301103T070000
END:STANDARD
END:VTIMEZONE
BEGIN:VEVENT
DTSTART;TZID=America/Chicago:20280813T090000
DTEND;TZID=America/Chicago:20280813T100000
DTSTAMP:20260419T114035
CREATED:20210705T021650Z
LAST-MODIFIED:20250703T164246Z
UID:10003921-1849770000-1849773600@brushhillchurch.org
SUMMARY:Sunday School
DESCRIPTION:We currently have one adult and one toddler class meeting each Sunday to learn more about God together! All are welcome to join!
URL:https://brushhillchurch.org/event/sunday-school/2028-08-13/
LOCATION:Brush Hill Cumberland Presbyterian Church\, 3705 Brush Hill Road\, Nashville\, TN\, 37216\, United States
END:VEVENT
BEGIN:VEVENT
DTSTART;TZID=America/Chicago:20280820T090000
DTEND;TZID=America/Chicago:20280820T100000
DTSTAMP:20260419T114035
CREATED:20210705T021650Z
LAST-MODIFIED:20250703T164246Z
UID:10003922-1850374800-1850378400@brushhillchurch.org
SUMMARY:Sunday School
DESCRIPTION:We currently have one adult and one toddler class meeting each Sunday to learn more about God together! All are welcome to join!
URL:https://brushhillchurch.org/event/sunday-school/2028-08-20/
LOCATION:Brush Hill Cumberland Presbyterian Church\, 3705 Brush Hill Road\, Nashville\, TN\, 37216\, United States
END:VEVENT
BEGIN:VEVENT
DTSTART;TZID=America/Chicago:20280827T090000
DTEND;TZID=America/Chicago:20280827T100000
DTSTAMP:20260419T114035
CREATED:20210705T021650Z
LAST-MODIFIED:20250703T164246Z
UID:10003923-1850979600-1850983200@brushhillchurch.org
SUMMARY:Sunday School
DESCRIPTION:We currently have one adult and one toddler class meeting each Sunday to learn more about God together! All are welcome to join!
URL:https://brushhillchurch.org/event/sunday-school/2028-08-27/
LOCATION:Brush Hill Cumberland Presbyterian Church\, 3705 Brush Hill Road\, Nashville\, TN\, 37216\, United States
END:VEVENT
BEGIN:VEVENT
DTSTART;TZID=America/Chicago:20280903T090000
DTEND;TZID=America/Chicago:20280903T100000
DTSTAMP:20260419T114035
CREATED:20210705T021650Z
LAST-MODIFIED:20250703T164246Z
UID:10003924-1851584400-1851588000@brushhillchurch.org
SUMMARY:Sunday School
DESCRIPTION:We currently have one adult and one toddler class meeting each Sunday to learn more about God together! All are welcome to join!
URL:https://brushhillchurch.org/event/sunday-school/2028-09-03/
LOCATION:Brush Hill Cumberland Presbyterian Church\, 3705 Brush Hill Road\, Nashville\, TN\, 37216\, United States
END:VEVENT
BEGIN:VEVENT
DTSTART;TZID=America/Chicago:20280910T090000
DTEND;TZID=America/Chicago:20280910T100000
DTSTAMP:20260419T114035
CREATED:20210705T021650Z
LAST-MODIFIED:20250703T164246Z
UID:10003925-1852189200-1852192800@brushhillchurch.org
SUMMARY:Sunday School
DESCRIPTION:We currently have one adult and one toddler class meeting each Sunday to learn more about God together! All are welcome to join!
URL:https://brushhillchurch.org/event/sunday-school/2028-09-10/
LOCATION:Brush Hill Cumberland Presbyterian Church\, 3705 Brush Hill Road\, Nashville\, TN\, 37216\, United States
END:VEVENT
BEGIN:VEVENT
DTSTART;TZID=America/Chicago:20280917T090000
DTEND;TZID=America/Chicago:20280917T100000
DTSTAMP:20260419T114035
CREATED:20210705T021650Z
LAST-MODIFIED:20250703T164246Z
UID:10003926-1852794000-1852797600@brushhillchurch.org
SUMMARY:Sunday School
DESCRIPTION:We currently have one adult and one toddler class meeting each Sunday to learn more about God together! All are welcome to join!
URL:https://brushhillchurch.org/event/sunday-school/2028-09-17/
LOCATION:Brush Hill Cumberland Presbyterian Church\, 3705 Brush Hill Road\, Nashville\, TN\, 37216\, United States
END:VEVENT
BEGIN:VEVENT
DTSTART;TZID=America/Chicago:20280924T090000
DTEND;TZID=America/Chicago:20280924T100000
DTSTAMP:20260419T114035
CREATED:20210705T021650Z
LAST-MODIFIED:20250703T164246Z
UID:10003927-1853398800-1853402400@brushhillchurch.org
SUMMARY:Sunday School
DESCRIPTION:We currently have one adult and one toddler class meeting each Sunday to learn more about God together! All are welcome to join!
URL:https://brushhillchurch.org/event/sunday-school/2028-09-24/
LOCATION:Brush Hill Cumberland Presbyterian Church\, 3705 Brush Hill Road\, Nashville\, TN\, 37216\, United States
END:VEVENT
BEGIN:VEVENT
DTSTART;TZID=America/Chicago:20281001T090000
DTEND;TZID=America/Chicago:20281001T100000
DTSTAMP:20260419T114035
CREATED:20210705T021650Z
LAST-MODIFIED:20250703T164246Z
UID:10003928-1854003600-1854007200@brushhillchurch.org
SUMMARY:Sunday School
DESCRIPTION:We currently have one adult and one toddler class meeting each Sunday to learn more about God together! All are welcome to join!
URL:https://brushhillchurch.org/event/sunday-school/2028-10-01/
LOCATION:Brush Hill Cumberland Presbyterian Church\, 3705 Brush Hill Road\, Nashville\, TN\, 37216\, United States
END:VEVENT
BEGIN:VEVENT
DTSTART;TZID=America/Chicago:20281008T090000
DTEND;TZID=America/Chicago:20281008T100000
DTSTAMP:20260419T114035
CREATED:20210705T021650Z
LAST-MODIFIED:20250703T164246Z
UID:10003929-1854608400-1854612000@brushhillchurch.org
SUMMARY:Sunday School
DESCRIPTION:We currently have one adult and one toddler class meeting each Sunday to learn more about God together! All are welcome to join!
URL:https://brushhillchurch.org/event/sunday-school/2028-10-08/
LOCATION:Brush Hill Cumberland Presbyterian Church\, 3705 Brush Hill Road\, Nashville\, TN\, 37216\, United States
END:VEVENT
BEGIN:VEVENT
DTSTART;TZID=America/Chicago:20281015T090000
DTEND;TZID=America/Chicago:20281015T100000
DTSTAMP:20260419T114035
CREATED:20210705T021650Z
LAST-MODIFIED:20250703T164246Z
UID:10003930-1855213200-1855216800@brushhillchurch.org
SUMMARY:Sunday School
DESCRIPTION:We currently have one adult and one toddler class meeting each Sunday to learn more about God together! All are welcome to join!
URL:https://brushhillchurch.org/event/sunday-school/2028-10-15/
LOCATION:Brush Hill Cumberland Presbyterian Church\, 3705 Brush Hill Road\, Nashville\, TN\, 37216\, United States
END:VEVENT
BEGIN:VEVENT
DTSTART;TZID=America/Chicago:20281022T090000
DTEND;TZID=America/Chicago:20281022T100000
DTSTAMP:20260419T114035
CREATED:20210705T021650Z
LAST-MODIFIED:20250703T164246Z
UID:10003931-1855818000-1855821600@brushhillchurch.org
SUMMARY:Sunday School
DESCRIPTION:We currently have one adult and one toddler class meeting each Sunday to learn more about God together! All are welcome to join!
URL:https://brushhillchurch.org/event/sunday-school/2028-10-22/
LOCATION:Brush Hill Cumberland Presbyterian Church\, 3705 Brush Hill Road\, Nashville\, TN\, 37216\, United States
END:VEVENT
BEGIN:VEVENT
DTSTART;TZID=America/Chicago:20281029T090000
DTEND;TZID=America/Chicago:20281029T100000
DTSTAMP:20260419T114035
CREATED:20210705T021650Z
LAST-MODIFIED:20250703T164246Z
UID:10003932-1856422800-1856426400@brushhillchurch.org
SUMMARY:Sunday School
DESCRIPTION:We currently have one adult and one toddler class meeting each Sunday to learn more about God together! All are welcome to join!
URL:https://brushhillchurch.org/event/sunday-school/2028-10-29/
LOCATION:Brush Hill Cumberland Presbyterian Church\, 3705 Brush Hill Road\, Nashville\, TN\, 37216\, United States
END:VEVENT
BEGIN:VEVENT
DTSTART;TZID=America/Chicago:20281105T090000
DTEND;TZID=America/Chicago:20281105T100000
DTSTAMP:20260419T114035
CREATED:20210705T021650Z
LAST-MODIFIED:20250703T164246Z
UID:10003933-1857027600-1857031200@brushhillchurch.org
SUMMARY:Sunday School
DESCRIPTION:We currently have one adult and one toddler class meeting each Sunday to learn more about God together! All are welcome to join!
URL:https://brushhillchurch.org/event/sunday-school/2028-11-05/
LOCATION:Brush Hill Cumberland Presbyterian Church\, 3705 Brush Hill Road\, Nashville\, TN\, 37216\, United States
END:VEVENT
BEGIN:VEVENT
DTSTART;TZID=America/Chicago:20281112T090000
DTEND;TZID=America/Chicago:20281112T100000
DTSTAMP:20260419T114035
CREATED:20210705T021650Z
LAST-MODIFIED:20250703T164246Z
UID:10003934-1857632400-1857636000@brushhillchurch.org
SUMMARY:Sunday School
DESCRIPTION:We currently have one adult and one toddler class meeting each Sunday to learn more about God together! All are welcome to join!
URL:https://brushhillchurch.org/event/sunday-school/2028-11-12/
LOCATION:Brush Hill Cumberland Presbyterian Church\, 3705 Brush Hill Road\, Nashville\, TN\, 37216\, United States
END:VEVENT
BEGIN:VEVENT
DTSTART;TZID=America/Chicago:20281119T090000
DTEND;TZID=America/Chicago:20281119T100000
DTSTAMP:20260419T114035
CREATED:20210705T021650Z
LAST-MODIFIED:20250703T164246Z
UID:10003935-1858237200-1858240800@brushhillchurch.org
SUMMARY:Sunday School
DESCRIPTION:We currently have one adult and one toddler class meeting each Sunday to learn more about God together! All are welcome to join!
URL:https://brushhillchurch.org/event/sunday-school/2028-11-19/
LOCATION:Brush Hill Cumberland Presbyterian Church\, 3705 Brush Hill Road\, Nashville\, TN\, 37216\, United States
END:VEVENT
BEGIN:VEVENT
DTSTART;TZID=America/Chicago:20281126T090000
DTEND;TZID=America/Chicago:20281126T100000
DTSTAMP:20260419T114035
CREATED:20210705T021650Z
LAST-MODIFIED:20250703T164246Z
UID:10003936-1858842000-1858845600@brushhillchurch.org
SUMMARY:Sunday School
DESCRIPTION:We currently have one adult and one toddler class meeting each Sunday to learn more about God together! All are welcome to join!
URL:https://brushhillchurch.org/event/sunday-school/2028-11-26/
LOCATION:Brush Hill Cumberland Presbyterian Church\, 3705 Brush Hill Road\, Nashville\, TN\, 37216\, United States
END:VEVENT
BEGIN:VEVENT
DTSTART;TZID=America/Chicago:20281203T090000
DTEND;TZID=America/Chicago:20281203T100000
DTSTAMP:20260419T114035
CREATED:20210705T021650Z
LAST-MODIFIED:20250703T164246Z
UID:10003937-1859446800-1859450400@brushhillchurch.org
SUMMARY:Sunday School
DESCRIPTION:We currently have one adult and one toddler class meeting each Sunday to learn more about God together! All are welcome to join!
URL:https://brushhillchurch.org/event/sunday-school/2028-12-03/
LOCATION:Brush Hill Cumberland Presbyterian Church\, 3705 Brush Hill Road\, Nashville\, TN\, 37216\, United States
END:VEVENT
BEGIN:VEVENT
DTSTART;TZID=America/Chicago:20281210T090000
DTEND;TZID=America/Chicago:20281210T100000
DTSTAMP:20260419T114035
CREATED:20210705T021650Z
LAST-MODIFIED:20250703T164246Z
UID:10003938-1860051600-1860055200@brushhillchurch.org
SUMMARY:Sunday School
DESCRIPTION:We currently have one adult and one toddler class meeting each Sunday to learn more about God together! All are welcome to join!
URL:https://brushhillchurch.org/event/sunday-school/2028-12-10/
LOCATION:Brush Hill Cumberland Presbyterian Church\, 3705 Brush Hill Road\, Nashville\, TN\, 37216\, United States
END:VEVENT
BEGIN:VEVENT
DTSTART;TZID=America/Chicago:20281217T090000
DTEND;TZID=America/Chicago:20281217T100000
DTSTAMP:20260419T114035
CREATED:20210705T021650Z
LAST-MODIFIED:20250703T164246Z
UID:10003939-1860656400-1860660000@brushhillchurch.org
SUMMARY:Sunday School
DESCRIPTION:We currently have one adult and one toddler class meeting each Sunday to learn more about God together! All are welcome to join!
URL:https://brushhillchurch.org/event/sunday-school/2028-12-17/
LOCATION:Brush Hill Cumberland Presbyterian Church\, 3705 Brush Hill Road\, Nashville\, TN\, 37216\, United States
END:VEVENT
BEGIN:VEVENT
DTSTART;TZID=America/Chicago:20281224T090000
DTEND;TZID=America/Chicago:20281224T100000
DTSTAMP:20260419T114035
CREATED:20210705T021650Z
LAST-MODIFIED:20250703T164246Z
UID:10003940-1861261200-1861264800@brushhillchurch.org
SUMMARY:Sunday School
DESCRIPTION:We currently have one adult and one toddler class meeting each Sunday to learn more about God together! All are welcome to join!
URL:https://brushhillchurch.org/event/sunday-school/2028-12-24/
LOCATION:Brush Hill Cumberland Presbyterian Church\, 3705 Brush Hill Road\, Nashville\, TN\, 37216\, United States
END:VEVENT
BEGIN:VEVENT
DTSTART;TZID=America/Chicago:20281231T090000
DTEND;TZID=America/Chicago:20281231T100000
DTSTAMP:20260419T114035
CREATED:20210705T021650Z
LAST-MODIFIED:20250703T164246Z
UID:10003941-1861866000-1861869600@brushhillchurch.org
SUMMARY:Sunday School
DESCRIPTION:We currently have one adult and one toddler class meeting each Sunday to learn more about God together! All are welcome to join!
URL:https://brushhillchurch.org/event/sunday-school/2028-12-31/
LOCATION:Brush Hill Cumberland Presbyterian Church\, 3705 Brush Hill Road\, Nashville\, TN\, 37216\, United States
END:VEVENT
BEGIN:VEVENT
DTSTART;TZID=America/Chicago:20290107T090000
DTEND;TZID=America/Chicago:20290107T100000
DTSTAMP:20260419T114035
CREATED:20210705T021650Z
LAST-MODIFIED:20250703T164246Z
UID:10003942-1862470800-1862474400@brushhillchurch.org
SUMMARY:Sunday School
DESCRIPTION:We currently have one adult and one toddler class meeting each Sunday to learn more about God together! All are welcome to join!
URL:https://brushhillchurch.org/event/sunday-school/2029-01-07/
LOCATION:Brush Hill Cumberland Presbyterian Church\, 3705 Brush Hill Road\, Nashville\, TN\, 37216\, United States
END:VEVENT
BEGIN:VEVENT
DTSTART;TZID=America/Chicago:20290114T090000
DTEND;TZID=America/Chicago:20290114T100000
DTSTAMP:20260419T114035
CREATED:20210705T021650Z
LAST-MODIFIED:20250703T164246Z
UID:10003943-1863075600-1863079200@brushhillchurch.org
SUMMARY:Sunday School
DESCRIPTION:We currently have one adult and one toddler class meeting each Sunday to learn more about God together! All are welcome to join!
URL:https://brushhillchurch.org/event/sunday-school/2029-01-14/
LOCATION:Brush Hill Cumberland Presbyterian Church\, 3705 Brush Hill Road\, Nashville\, TN\, 37216\, United States
END:VEVENT
BEGIN:VEVENT
DTSTART;TZID=America/Chicago:20290121T090000
DTEND;TZID=America/Chicago:20290121T100000
DTSTAMP:20260419T114035
CREATED:20210705T021650Z
LAST-MODIFIED:20250703T164246Z
UID:10003944-1863680400-1863684000@brushhillchurch.org
SUMMARY:Sunday School
DESCRIPTION:We currently have one adult and one toddler class meeting each Sunday to learn more about God together! All are welcome to join!
URL:https://brushhillchurch.org/event/sunday-school/2029-01-21/
LOCATION:Brush Hill Cumberland Presbyterian Church\, 3705 Brush Hill Road\, Nashville\, TN\, 37216\, United States
END:VEVENT
BEGIN:VEVENT
DTSTART;TZID=America/Chicago:20290128T090000
DTEND;TZID=America/Chicago:20290128T100000
DTSTAMP:20260419T114035
CREATED:20210705T021650Z
LAST-MODIFIED:20250703T164246Z
UID:10003945-1864285200-1864288800@brushhillchurch.org
SUMMARY:Sunday School
DESCRIPTION:We currently have one adult and one toddler class meeting each Sunday to learn more about God together! All are welcome to join!
URL:https://brushhillchurch.org/event/sunday-school/2029-01-28/
LOCATION:Brush Hill Cumberland Presbyterian Church\, 3705 Brush Hill Road\, Nashville\, TN\, 37216\, United States
END:VEVENT
BEGIN:VEVENT
DTSTART;TZID=America/Chicago:20290204T090000
DTEND;TZID=America/Chicago:20290204T100000
DTSTAMP:20260419T114035
CREATED:20210705T021650Z
LAST-MODIFIED:20250703T164246Z
UID:10003946-1864890000-1864893600@brushhillchurch.org
SUMMARY:Sunday School
DESCRIPTION:We currently have one adult and one toddler class meeting each Sunday to learn more about God together! All are welcome to join!
URL:https://brushhillchurch.org/event/sunday-school/2029-02-04/
LOCATION:Brush Hill Cumberland Presbyterian Church\, 3705 Brush Hill Road\, Nashville\, TN\, 37216\, United States
END:VEVENT
BEGIN:VEVENT
DTSTART;TZID=America/Chicago:20290211T090000
DTEND;TZID=America/Chicago:20290211T100000
DTSTAMP:20260419T114035
CREATED:20210705T021650Z
LAST-MODIFIED:20250703T164246Z
UID:10003947-1865494800-1865498400@brushhillchurch.org
SUMMARY:Sunday School
DESCRIPTION:We currently have one adult and one toddler class meeting each Sunday to learn more about God together! All are welcome to join!
URL:https://brushhillchurch.org/event/sunday-school/2029-02-11/
LOCATION:Brush Hill Cumberland Presbyterian Church\, 3705 Brush Hill Road\, Nashville\, TN\, 37216\, United States
END:VEVENT
BEGIN:VEVENT
DTSTART;TZID=America/Chicago:20290218T090000
DTEND;TZID=America/Chicago:20290218T100000
DTSTAMP:20260419T114035
CREATED:20210705T021650Z
LAST-MODIFIED:20250703T164246Z
UID:10003948-1866099600-1866103200@brushhillchurch.org
SUMMARY:Sunday School
DESCRIPTION:We currently have one adult and one toddler class meeting each Sunday to learn more about God together! All are welcome to join!
URL:https://brushhillchurch.org/event/sunday-school/2029-02-18/
LOCATION:Brush Hill Cumberland Presbyterian Church\, 3705 Brush Hill Road\, Nashville\, TN\, 37216\, United States
END:VEVENT
BEGIN:VEVENT
DTSTART;TZID=America/Chicago:20290225T090000
DTEND;TZID=America/Chicago:20290225T100000
DTSTAMP:20260419T114035
CREATED:20210705T021650Z
LAST-MODIFIED:20250703T164246Z
UID:10003949-1866704400-1866708000@brushhillchurch.org
SUMMARY:Sunday School
DESCRIPTION:We currently have one adult and one toddler class meeting each Sunday to learn more about God together! All are welcome to join!
URL:https://brushhillchurch.org/event/sunday-school/2029-02-25/
LOCATION:Brush Hill Cumberland Presbyterian Church\, 3705 Brush Hill Road\, Nashville\, TN\, 37216\, United States
END:VEVENT
BEGIN:VEVENT
DTSTART;TZID=America/Chicago:20290304T090000
DTEND;TZID=America/Chicago:20290304T100000
DTSTAMP:20260419T114035
CREATED:20210705T021650Z
LAST-MODIFIED:20250703T164246Z
UID:10003950-1867309200-1867312800@brushhillchurch.org
SUMMARY:Sunday School
DESCRIPTION:We currently have one adult and one toddler class meeting each Sunday to learn more about God together! All are welcome to join!
URL:https://brushhillchurch.org/event/sunday-school/2029-03-04/
LOCATION:Brush Hill Cumberland Presbyterian Church\, 3705 Brush Hill Road\, Nashville\, TN\, 37216\, United States
END:VEVENT
END:VCALENDAR