BEGIN:VCALENDAR
VERSION:2.0
PRODID:-//Brush Hill Cumberland Presbyterian Church - ECPv6.15.20//NONSGML v1.0//EN
CALSCALE:GREGORIAN
METHOD:PUBLISH
X-WR-CALNAME:Brush Hill Cumberland Presbyterian Church
X-ORIGINAL-URL:https://brushhillchurch.org
X-WR-CALDESC:Events for Brush Hill Cumberland Presbyterian Church
REFRESH-INTERVAL;VALUE=DURATION:PT1H
X-Robots-Tag:noindex
X-PUBLISHED-TTL:PT1H
BEGIN:VTIMEZONE
TZID:America/Chicago
BEGIN:DAYLIGHT
TZOFFSETFROM:-0600
TZOFFSETTO:-0500
TZNAME:CDT
DTSTART:20280312T080000
END:DAYLIGHT
BEGIN:STANDARD
TZOFFSETFROM:-0500
TZOFFSETTO:-0600
TZNAME:CST
DTSTART:20281105T070000
END:STANDARD
BEGIN:DAYLIGHT
TZOFFSETFROM:-0600
TZOFFSETTO:-0500
TZNAME:CDT
DTSTART:20290311T080000
END:DAYLIGHT
BEGIN:STANDARD
TZOFFSETFROM:-0500
TZOFFSETTO:-0600
TZNAME:CST
DTSTART:20291104T070000
END:STANDARD
BEGIN:DAYLIGHT
TZOFFSETFROM:-0600
TZOFFSETTO:-0500
TZNAME:CDT
DTSTART:20300310T080000
END:DAYLIGHT
BEGIN:STANDARD
TZOFFSETFROM:-0500
TZOFFSETTO:-0600
TZNAME:CST
DTSTART:20301103T070000
END:STANDARD
END:VTIMEZONE
BEGIN:VEVENT
DTSTART;TZID=America/Chicago:20290311T090000
DTEND;TZID=America/Chicago:20290311T100000
DTSTAMP:20260419T193324
CREATED:20210705T021650Z
LAST-MODIFIED:20250703T164246Z
UID:10003951-1867914000-1867917600@brushhillchurch.org
SUMMARY:Sunday School
DESCRIPTION:We currently have one adult and one toddler class meeting each Sunday to learn more about God together! All are welcome to join!
URL:https://brushhillchurch.org/event/sunday-school/2029-03-11/
LOCATION:Brush Hill Cumberland Presbyterian Church\, 3705 Brush Hill Road\, Nashville\, TN\, 37216\, United States
END:VEVENT
BEGIN:VEVENT
DTSTART;TZID=America/Chicago:20290318T090000
DTEND;TZID=America/Chicago:20290318T100000
DTSTAMP:20260419T193324
CREATED:20210705T021650Z
LAST-MODIFIED:20250703T164246Z
UID:10003952-1868518800-1868522400@brushhillchurch.org
SUMMARY:Sunday School
DESCRIPTION:We currently have one adult and one toddler class meeting each Sunday to learn more about God together! All are welcome to join!
URL:https://brushhillchurch.org/event/sunday-school/2029-03-18/
LOCATION:Brush Hill Cumberland Presbyterian Church\, 3705 Brush Hill Road\, Nashville\, TN\, 37216\, United States
END:VEVENT
BEGIN:VEVENT
DTSTART;TZID=America/Chicago:20290325T090000
DTEND;TZID=America/Chicago:20290325T100000
DTSTAMP:20260419T193324
CREATED:20210705T021650Z
LAST-MODIFIED:20250703T164246Z
UID:10003953-1869123600-1869127200@brushhillchurch.org
SUMMARY:Sunday School
DESCRIPTION:We currently have one adult and one toddler class meeting each Sunday to learn more about God together! All are welcome to join!
URL:https://brushhillchurch.org/event/sunday-school/2029-03-25/
LOCATION:Brush Hill Cumberland Presbyterian Church\, 3705 Brush Hill Road\, Nashville\, TN\, 37216\, United States
END:VEVENT
BEGIN:VEVENT
DTSTART;TZID=America/Chicago:20290401T090000
DTEND;TZID=America/Chicago:20290401T100000
DTSTAMP:20260419T193324
CREATED:20210705T021650Z
LAST-MODIFIED:20250703T164246Z
UID:10003954-1869728400-1869732000@brushhillchurch.org
SUMMARY:Sunday School
DESCRIPTION:We currently have one adult and one toddler class meeting each Sunday to learn more about God together! All are welcome to join!
URL:https://brushhillchurch.org/event/sunday-school/2029-04-01/
LOCATION:Brush Hill Cumberland Presbyterian Church\, 3705 Brush Hill Road\, Nashville\, TN\, 37216\, United States
END:VEVENT
BEGIN:VEVENT
DTSTART;TZID=America/Chicago:20290408T090000
DTEND;TZID=America/Chicago:20290408T100000
DTSTAMP:20260419T193324
CREATED:20210705T021650Z
LAST-MODIFIED:20250703T164246Z
UID:10003955-1870333200-1870336800@brushhillchurch.org
SUMMARY:Sunday School
DESCRIPTION:We currently have one adult and one toddler class meeting each Sunday to learn more about God together! All are welcome to join!
URL:https://brushhillchurch.org/event/sunday-school/2029-04-08/
LOCATION:Brush Hill Cumberland Presbyterian Church\, 3705 Brush Hill Road\, Nashville\, TN\, 37216\, United States
END:VEVENT
BEGIN:VEVENT
DTSTART;TZID=America/Chicago:20290415T090000
DTEND;TZID=America/Chicago:20290415T100000
DTSTAMP:20260419T193324
CREATED:20210705T021650Z
LAST-MODIFIED:20250703T164246Z
UID:10003956-1870938000-1870941600@brushhillchurch.org
SUMMARY:Sunday School
DESCRIPTION:We currently have one adult and one toddler class meeting each Sunday to learn more about God together! All are welcome to join!
URL:https://brushhillchurch.org/event/sunday-school/2029-04-15/
LOCATION:Brush Hill Cumberland Presbyterian Church\, 3705 Brush Hill Road\, Nashville\, TN\, 37216\, United States
END:VEVENT
BEGIN:VEVENT
DTSTART;TZID=America/Chicago:20290422T090000
DTEND;TZID=America/Chicago:20290422T100000
DTSTAMP:20260419T193324
CREATED:20210705T021650Z
LAST-MODIFIED:20250703T164246Z
UID:10003957-1871542800-1871546400@brushhillchurch.org
SUMMARY:Sunday School
DESCRIPTION:We currently have one adult and one toddler class meeting each Sunday to learn more about God together! All are welcome to join!
URL:https://brushhillchurch.org/event/sunday-school/2029-04-22/
LOCATION:Brush Hill Cumberland Presbyterian Church\, 3705 Brush Hill Road\, Nashville\, TN\, 37216\, United States
END:VEVENT
BEGIN:VEVENT
DTSTART;TZID=America/Chicago:20290429T090000
DTEND;TZID=America/Chicago:20290429T100000
DTSTAMP:20260419T193324
CREATED:20210705T021650Z
LAST-MODIFIED:20250703T164246Z
UID:10003958-1872147600-1872151200@brushhillchurch.org
SUMMARY:Sunday School
DESCRIPTION:We currently have one adult and one toddler class meeting each Sunday to learn more about God together! All are welcome to join!
URL:https://brushhillchurch.org/event/sunday-school/2029-04-29/
LOCATION:Brush Hill Cumberland Presbyterian Church\, 3705 Brush Hill Road\, Nashville\, TN\, 37216\, United States
END:VEVENT
BEGIN:VEVENT
DTSTART;TZID=America/Chicago:20290506T090000
DTEND;TZID=America/Chicago:20290506T100000
DTSTAMP:20260419T193324
CREATED:20210705T021650Z
LAST-MODIFIED:20250703T164246Z
UID:10003959-1872752400-1872756000@brushhillchurch.org
SUMMARY:Sunday School
DESCRIPTION:We currently have one adult and one toddler class meeting each Sunday to learn more about God together! All are welcome to join!
URL:https://brushhillchurch.org/event/sunday-school/2029-05-06/
LOCATION:Brush Hill Cumberland Presbyterian Church\, 3705 Brush Hill Road\, Nashville\, TN\, 37216\, United States
END:VEVENT
BEGIN:VEVENT
DTSTART;TZID=America/Chicago:20290513T090000
DTEND;TZID=America/Chicago:20290513T100000
DTSTAMP:20260419T193324
CREATED:20210705T021650Z
LAST-MODIFIED:20250703T164246Z
UID:10003960-1873357200-1873360800@brushhillchurch.org
SUMMARY:Sunday School
DESCRIPTION:We currently have one adult and one toddler class meeting each Sunday to learn more about God together! All are welcome to join!
URL:https://brushhillchurch.org/event/sunday-school/2029-05-13/
LOCATION:Brush Hill Cumberland Presbyterian Church\, 3705 Brush Hill Road\, Nashville\, TN\, 37216\, United States
END:VEVENT
BEGIN:VEVENT
DTSTART;TZID=America/Chicago:20290520T090000
DTEND;TZID=America/Chicago:20290520T100000
DTSTAMP:20260419T193324
CREATED:20210705T021650Z
LAST-MODIFIED:20250703T164246Z
UID:10003961-1873962000-1873965600@brushhillchurch.org
SUMMARY:Sunday School
DESCRIPTION:We currently have one adult and one toddler class meeting each Sunday to learn more about God together! All are welcome to join!
URL:https://brushhillchurch.org/event/sunday-school/2029-05-20/
LOCATION:Brush Hill Cumberland Presbyterian Church\, 3705 Brush Hill Road\, Nashville\, TN\, 37216\, United States
END:VEVENT
BEGIN:VEVENT
DTSTART;TZID=America/Chicago:20290527T090000
DTEND;TZID=America/Chicago:20290527T100000
DTSTAMP:20260419T193324
CREATED:20210705T021650Z
LAST-MODIFIED:20250703T164246Z
UID:10003962-1874566800-1874570400@brushhillchurch.org
SUMMARY:Sunday School
DESCRIPTION:We currently have one adult and one toddler class meeting each Sunday to learn more about God together! All are welcome to join!
URL:https://brushhillchurch.org/event/sunday-school/2029-05-27/
LOCATION:Brush Hill Cumberland Presbyterian Church\, 3705 Brush Hill Road\, Nashville\, TN\, 37216\, United States
END:VEVENT
BEGIN:VEVENT
DTSTART;TZID=America/Chicago:20290603T090000
DTEND;TZID=America/Chicago:20290603T100000
DTSTAMP:20260419T193324
CREATED:20210705T021650Z
LAST-MODIFIED:20250703T164246Z
UID:10003963-1875171600-1875175200@brushhillchurch.org
SUMMARY:Sunday School
DESCRIPTION:We currently have one adult and one toddler class meeting each Sunday to learn more about God together! All are welcome to join!
URL:https://brushhillchurch.org/event/sunday-school/2029-06-03/
LOCATION:Brush Hill Cumberland Presbyterian Church\, 3705 Brush Hill Road\, Nashville\, TN\, 37216\, United States
END:VEVENT
BEGIN:VEVENT
DTSTART;TZID=America/Chicago:20290610T090000
DTEND;TZID=America/Chicago:20290610T100000
DTSTAMP:20260419T193324
CREATED:20210705T021650Z
LAST-MODIFIED:20250703T164246Z
UID:10003964-1875776400-1875780000@brushhillchurch.org
SUMMARY:Sunday School
DESCRIPTION:We currently have one adult and one toddler class meeting each Sunday to learn more about God together! All are welcome to join!
URL:https://brushhillchurch.org/event/sunday-school/2029-06-10/
LOCATION:Brush Hill Cumberland Presbyterian Church\, 3705 Brush Hill Road\, Nashville\, TN\, 37216\, United States
END:VEVENT
BEGIN:VEVENT
DTSTART;TZID=America/Chicago:20290617T090000
DTEND;TZID=America/Chicago:20290617T100000
DTSTAMP:20260419T193324
CREATED:20210705T021650Z
LAST-MODIFIED:20250703T164246Z
UID:10003965-1876381200-1876384800@brushhillchurch.org
SUMMARY:Sunday School
DESCRIPTION:We currently have one adult and one toddler class meeting each Sunday to learn more about God together! All are welcome to join!
URL:https://brushhillchurch.org/event/sunday-school/2029-06-17/
LOCATION:Brush Hill Cumberland Presbyterian Church\, 3705 Brush Hill Road\, Nashville\, TN\, 37216\, United States
END:VEVENT
BEGIN:VEVENT
DTSTART;TZID=America/Chicago:20290624T090000
DTEND;TZID=America/Chicago:20290624T100000
DTSTAMP:20260419T193324
CREATED:20210705T021650Z
LAST-MODIFIED:20250703T164246Z
UID:10003966-1876986000-1876989600@brushhillchurch.org
SUMMARY:Sunday School
DESCRIPTION:We currently have one adult and one toddler class meeting each Sunday to learn more about God together! All are welcome to join!
URL:https://brushhillchurch.org/event/sunday-school/2029-06-24/
LOCATION:Brush Hill Cumberland Presbyterian Church\, 3705 Brush Hill Road\, Nashville\, TN\, 37216\, United States
END:VEVENT
BEGIN:VEVENT
DTSTART;TZID=America/Chicago:20290701T090000
DTEND;TZID=America/Chicago:20290701T100000
DTSTAMP:20260419T193324
CREATED:20210705T021650Z
LAST-MODIFIED:20250703T164246Z
UID:10003967-1877590800-1877594400@brushhillchurch.org
SUMMARY:Sunday School
DESCRIPTION:We currently have one adult and one toddler class meeting each Sunday to learn more about God together! All are welcome to join!
URL:https://brushhillchurch.org/event/sunday-school/2029-07-01/
LOCATION:Brush Hill Cumberland Presbyterian Church\, 3705 Brush Hill Road\, Nashville\, TN\, 37216\, United States
END:VEVENT
BEGIN:VEVENT
DTSTART;TZID=America/Chicago:20290708T090000
DTEND;TZID=America/Chicago:20290708T100000
DTSTAMP:20260419T193324
CREATED:20210705T021650Z
LAST-MODIFIED:20250703T164246Z
UID:10003968-1878195600-1878199200@brushhillchurch.org
SUMMARY:Sunday School
DESCRIPTION:We currently have one adult and one toddler class meeting each Sunday to learn more about God together! All are welcome to join!
URL:https://brushhillchurch.org/event/sunday-school/2029-07-08/
LOCATION:Brush Hill Cumberland Presbyterian Church\, 3705 Brush Hill Road\, Nashville\, TN\, 37216\, United States
END:VEVENT
BEGIN:VEVENT
DTSTART;TZID=America/Chicago:20290715T090000
DTEND;TZID=America/Chicago:20290715T100000
DTSTAMP:20260419T193324
CREATED:20210705T021650Z
LAST-MODIFIED:20250703T164246Z
UID:10003969-1878800400-1878804000@brushhillchurch.org
SUMMARY:Sunday School
DESCRIPTION:We currently have one adult and one toddler class meeting each Sunday to learn more about God together! All are welcome to join!
URL:https://brushhillchurch.org/event/sunday-school/2029-07-15/
LOCATION:Brush Hill Cumberland Presbyterian Church\, 3705 Brush Hill Road\, Nashville\, TN\, 37216\, United States
END:VEVENT
BEGIN:VEVENT
DTSTART;TZID=America/Chicago:20290722T090000
DTEND;TZID=America/Chicago:20290722T100000
DTSTAMP:20260419T193324
CREATED:20210705T021650Z
LAST-MODIFIED:20250703T164246Z
UID:10003970-1879405200-1879408800@brushhillchurch.org
SUMMARY:Sunday School
DESCRIPTION:We currently have one adult and one toddler class meeting each Sunday to learn more about God together! All are welcome to join!
URL:https://brushhillchurch.org/event/sunday-school/2029-07-22/
LOCATION:Brush Hill Cumberland Presbyterian Church\, 3705 Brush Hill Road\, Nashville\, TN\, 37216\, United States
END:VEVENT
BEGIN:VEVENT
DTSTART;TZID=America/Chicago:20290729T090000
DTEND;TZID=America/Chicago:20290729T100000
DTSTAMP:20260419T193324
CREATED:20210705T021650Z
LAST-MODIFIED:20250703T164246Z
UID:10003971-1880010000-1880013600@brushhillchurch.org
SUMMARY:Sunday School
DESCRIPTION:We currently have one adult and one toddler class meeting each Sunday to learn more about God together! All are welcome to join!
URL:https://brushhillchurch.org/event/sunday-school/2029-07-29/
LOCATION:Brush Hill Cumberland Presbyterian Church\, 3705 Brush Hill Road\, Nashville\, TN\, 37216\, United States
END:VEVENT
BEGIN:VEVENT
DTSTART;TZID=America/Chicago:20290805T090000
DTEND;TZID=America/Chicago:20290805T100000
DTSTAMP:20260419T193324
CREATED:20210705T021650Z
LAST-MODIFIED:20250703T164246Z
UID:10003972-1880614800-1880618400@brushhillchurch.org
SUMMARY:Sunday School
DESCRIPTION:We currently have one adult and one toddler class meeting each Sunday to learn more about God together! All are welcome to join!
URL:https://brushhillchurch.org/event/sunday-school/2029-08-05/
LOCATION:Brush Hill Cumberland Presbyterian Church\, 3705 Brush Hill Road\, Nashville\, TN\, 37216\, United States
END:VEVENT
BEGIN:VEVENT
DTSTART;TZID=America/Chicago:20290812T090000
DTEND;TZID=America/Chicago:20290812T100000
DTSTAMP:20260419T193324
CREATED:20210705T021650Z
LAST-MODIFIED:20250703T164246Z
UID:10003973-1881219600-1881223200@brushhillchurch.org
SUMMARY:Sunday School
DESCRIPTION:We currently have one adult and one toddler class meeting each Sunday to learn more about God together! All are welcome to join!
URL:https://brushhillchurch.org/event/sunday-school/2029-08-12/
LOCATION:Brush Hill Cumberland Presbyterian Church\, 3705 Brush Hill Road\, Nashville\, TN\, 37216\, United States
END:VEVENT
BEGIN:VEVENT
DTSTART;TZID=America/Chicago:20290819T090000
DTEND;TZID=America/Chicago:20290819T100000
DTSTAMP:20260419T193324
CREATED:20210705T021650Z
LAST-MODIFIED:20250703T164246Z
UID:10003974-1881824400-1881828000@brushhillchurch.org
SUMMARY:Sunday School
DESCRIPTION:We currently have one adult and one toddler class meeting each Sunday to learn more about God together! All are welcome to join!
URL:https://brushhillchurch.org/event/sunday-school/2029-08-19/
LOCATION:Brush Hill Cumberland Presbyterian Church\, 3705 Brush Hill Road\, Nashville\, TN\, 37216\, United States
END:VEVENT
BEGIN:VEVENT
DTSTART;TZID=America/Chicago:20290826T090000
DTEND;TZID=America/Chicago:20290826T100000
DTSTAMP:20260419T193324
CREATED:20210705T021650Z
LAST-MODIFIED:20250703T164246Z
UID:10003975-1882429200-1882432800@brushhillchurch.org
SUMMARY:Sunday School
DESCRIPTION:We currently have one adult and one toddler class meeting each Sunday to learn more about God together! All are welcome to join!
URL:https://brushhillchurch.org/event/sunday-school/2029-08-26/
LOCATION:Brush Hill Cumberland Presbyterian Church\, 3705 Brush Hill Road\, Nashville\, TN\, 37216\, United States
END:VEVENT
BEGIN:VEVENT
DTSTART;TZID=America/Chicago:20290902T090000
DTEND;TZID=America/Chicago:20290902T100000
DTSTAMP:20260419T193324
CREATED:20210705T021650Z
LAST-MODIFIED:20250703T164246Z
UID:10003976-1883034000-1883037600@brushhillchurch.org
SUMMARY:Sunday School
DESCRIPTION:We currently have one adult and one toddler class meeting each Sunday to learn more about God together! All are welcome to join!
URL:https://brushhillchurch.org/event/sunday-school/2029-09-02/
LOCATION:Brush Hill Cumberland Presbyterian Church\, 3705 Brush Hill Road\, Nashville\, TN\, 37216\, United States
END:VEVENT
BEGIN:VEVENT
DTSTART;TZID=America/Chicago:20290909T090000
DTEND;TZID=America/Chicago:20290909T100000
DTSTAMP:20260419T193324
CREATED:20210705T021650Z
LAST-MODIFIED:20250703T164246Z
UID:10003977-1883638800-1883642400@brushhillchurch.org
SUMMARY:Sunday School
DESCRIPTION:We currently have one adult and one toddler class meeting each Sunday to learn more about God together! All are welcome to join!
URL:https://brushhillchurch.org/event/sunday-school/2029-09-09/
LOCATION:Brush Hill Cumberland Presbyterian Church\, 3705 Brush Hill Road\, Nashville\, TN\, 37216\, United States
END:VEVENT
BEGIN:VEVENT
DTSTART;TZID=America/Chicago:20290916T090000
DTEND;TZID=America/Chicago:20290916T100000
DTSTAMP:20260419T193324
CREATED:20210705T021650Z
LAST-MODIFIED:20250703T164246Z
UID:10003978-1884243600-1884247200@brushhillchurch.org
SUMMARY:Sunday School
DESCRIPTION:We currently have one adult and one toddler class meeting each Sunday to learn more about God together! All are welcome to join!
URL:https://brushhillchurch.org/event/sunday-school/2029-09-16/
LOCATION:Brush Hill Cumberland Presbyterian Church\, 3705 Brush Hill Road\, Nashville\, TN\, 37216\, United States
END:VEVENT
BEGIN:VEVENT
DTSTART;TZID=America/Chicago:20290923T090000
DTEND;TZID=America/Chicago:20290923T100000
DTSTAMP:20260419T193324
CREATED:20210705T021650Z
LAST-MODIFIED:20250703T164246Z
UID:10003979-1884848400-1884852000@brushhillchurch.org
SUMMARY:Sunday School
DESCRIPTION:We currently have one adult and one toddler class meeting each Sunday to learn more about God together! All are welcome to join!
URL:https://brushhillchurch.org/event/sunday-school/2029-09-23/
LOCATION:Brush Hill Cumberland Presbyterian Church\, 3705 Brush Hill Road\, Nashville\, TN\, 37216\, United States
END:VEVENT
BEGIN:VEVENT
DTSTART;TZID=America/Chicago:20290930T090000
DTEND;TZID=America/Chicago:20290930T100000
DTSTAMP:20260419T193324
CREATED:20210705T021650Z
LAST-MODIFIED:20250703T164246Z
UID:10003980-1885453200-1885456800@brushhillchurch.org
SUMMARY:Sunday School
DESCRIPTION:We currently have one adult and one toddler class meeting each Sunday to learn more about God together! All are welcome to join!
URL:https://brushhillchurch.org/event/sunday-school/2029-09-30/
LOCATION:Brush Hill Cumberland Presbyterian Church\, 3705 Brush Hill Road\, Nashville\, TN\, 37216\, United States
END:VEVENT
END:VCALENDAR