BEGIN:VCALENDAR
VERSION:2.0
PRODID:-//Brush Hill Cumberland Presbyterian Church - ECPv6.15.20//NONSGML v1.0//EN
CALSCALE:GREGORIAN
METHOD:PUBLISH
X-WR-CALNAME:Brush Hill Cumberland Presbyterian Church
X-ORIGINAL-URL:https://brushhillchurch.org
X-WR-CALDESC:Events for Brush Hill Cumberland Presbyterian Church
REFRESH-INTERVAL;VALUE=DURATION:PT1H
X-Robots-Tag:noindex
X-PUBLISHED-TTL:PT1H
BEGIN:VTIMEZONE
TZID:America/Chicago
BEGIN:DAYLIGHT
TZOFFSETFROM:-0600
TZOFFSETTO:-0500
TZNAME:CDT
DTSTART:20260308T080000
END:DAYLIGHT
BEGIN:STANDARD
TZOFFSETFROM:-0500
TZOFFSETTO:-0600
TZNAME:CST
DTSTART:20261101T070000
END:STANDARD
BEGIN:DAYLIGHT
TZOFFSETFROM:-0600
TZOFFSETTO:-0500
TZNAME:CDT
DTSTART:20270314T080000
END:DAYLIGHT
BEGIN:STANDARD
TZOFFSETFROM:-0500
TZOFFSETTO:-0600
TZNAME:CST
DTSTART:20271107T070000
END:STANDARD
BEGIN:DAYLIGHT
TZOFFSETFROM:-0600
TZOFFSETTO:-0500
TZNAME:CDT
DTSTART:20280312T080000
END:DAYLIGHT
BEGIN:STANDARD
TZOFFSETFROM:-0500
TZOFFSETTO:-0600
TZNAME:CST
DTSTART:20281105T070000
END:STANDARD
END:VTIMEZONE
BEGIN:VEVENT
DTSTART;TZID=America/Chicago:20270801T100000
DTEND;TZID=America/Chicago:20270801T113000
DTSTAMP:20260419T195222
CREATED:20210705T021500Z
LAST-MODIFIED:20250703T164318Z
UID:10001792-1817114400-1817119800@brushhillchurch.org
SUMMARY:Sunday Worship Service
DESCRIPTION:Each Sunday we worship God through songs\, prayer\, sermons\, and more. Our services are open to all.
URL:https://brushhillchurch.org/event/sunday-worship-service/2027-08-01/
LOCATION:Brush Hill Cumberland Presbyterian Church\, 3705 Brush Hill Road\, Nashville\, TN\, 37216\, United States
CATEGORIES:Worship
ATTACH;FMTTYPE=image/jpeg:https://brushhillchurch.org/wp-content/uploads/2021/07/DSC_0263-scaled.jpg
END:VEVENT
BEGIN:VEVENT
DTSTART;TZID=America/Chicago:20270808T100000
DTEND;TZID=America/Chicago:20270808T113000
DTSTAMP:20260419T195222
CREATED:20210705T021500Z
LAST-MODIFIED:20250703T164318Z
UID:10001793-1817719200-1817724600@brushhillchurch.org
SUMMARY:Sunday Worship Service
DESCRIPTION:Each Sunday we worship God through songs\, prayer\, sermons\, and more. Our services are open to all.
URL:https://brushhillchurch.org/event/sunday-worship-service/2027-08-08/
LOCATION:Brush Hill Cumberland Presbyterian Church\, 3705 Brush Hill Road\, Nashville\, TN\, 37216\, United States
CATEGORIES:Worship
ATTACH;FMTTYPE=image/jpeg:https://brushhillchurch.org/wp-content/uploads/2021/07/DSC_0263-scaled.jpg
END:VEVENT
BEGIN:VEVENT
DTSTART;TZID=America/Chicago:20270815T100000
DTEND;TZID=America/Chicago:20270815T113000
DTSTAMP:20260419T195222
CREATED:20210705T021500Z
LAST-MODIFIED:20250703T164318Z
UID:10001794-1818324000-1818329400@brushhillchurch.org
SUMMARY:Sunday Worship Service
DESCRIPTION:Each Sunday we worship God through songs\, prayer\, sermons\, and more. Our services are open to all.
URL:https://brushhillchurch.org/event/sunday-worship-service/2027-08-15/
LOCATION:Brush Hill Cumberland Presbyterian Church\, 3705 Brush Hill Road\, Nashville\, TN\, 37216\, United States
CATEGORIES:Worship
ATTACH;FMTTYPE=image/jpeg:https://brushhillchurch.org/wp-content/uploads/2021/07/DSC_0263-scaled.jpg
END:VEVENT
BEGIN:VEVENT
DTSTART;TZID=America/Chicago:20270822T100000
DTEND;TZID=America/Chicago:20270822T113000
DTSTAMP:20260419T195222
CREATED:20210705T021500Z
LAST-MODIFIED:20250703T164318Z
UID:10001795-1818928800-1818934200@brushhillchurch.org
SUMMARY:Sunday Worship Service
DESCRIPTION:Each Sunday we worship God through songs\, prayer\, sermons\, and more. Our services are open to all.
URL:https://brushhillchurch.org/event/sunday-worship-service/2027-08-22/
LOCATION:Brush Hill Cumberland Presbyterian Church\, 3705 Brush Hill Road\, Nashville\, TN\, 37216\, United States
CATEGORIES:Worship
ATTACH;FMTTYPE=image/jpeg:https://brushhillchurch.org/wp-content/uploads/2021/07/DSC_0263-scaled.jpg
END:VEVENT
BEGIN:VEVENT
DTSTART;TZID=America/Chicago:20270829T100000
DTEND;TZID=America/Chicago:20270829T113000
DTSTAMP:20260419T195222
CREATED:20210705T021500Z
LAST-MODIFIED:20250703T164318Z
UID:10001796-1819533600-1819539000@brushhillchurch.org
SUMMARY:Sunday Worship Service
DESCRIPTION:Each Sunday we worship God through songs\, prayer\, sermons\, and more. Our services are open to all.
URL:https://brushhillchurch.org/event/sunday-worship-service/2027-08-29/
LOCATION:Brush Hill Cumberland Presbyterian Church\, 3705 Brush Hill Road\, Nashville\, TN\, 37216\, United States
CATEGORIES:Worship
ATTACH;FMTTYPE=image/jpeg:https://brushhillchurch.org/wp-content/uploads/2021/07/DSC_0263-scaled.jpg
END:VEVENT
END:VCALENDAR