BEGIN:VCALENDAR
VERSION:2.0
PRODID:-//Brush Hill Cumberland Presbyterian Church - ECPv6.15.20//NONSGML v1.0//EN
CALSCALE:GREGORIAN
METHOD:PUBLISH
X-WR-CALNAME:Brush Hill Cumberland Presbyterian Church
X-ORIGINAL-URL:https://brushhillchurch.org
X-WR-CALDESC:Events for Brush Hill Cumberland Presbyterian Church
REFRESH-INTERVAL;VALUE=DURATION:PT1H
X-Robots-Tag:noindex
X-PUBLISHED-TTL:PT1H
BEGIN:VTIMEZONE
TZID:America/Chicago
BEGIN:DAYLIGHT
TZOFFSETFROM:-0600
TZOFFSETTO:-0500
TZNAME:CDT
DTSTART:20270314T080000
END:DAYLIGHT
BEGIN:STANDARD
TZOFFSETFROM:-0500
TZOFFSETTO:-0600
TZNAME:CST
DTSTART:20271107T070000
END:STANDARD
BEGIN:DAYLIGHT
TZOFFSETFROM:-0600
TZOFFSETTO:-0500
TZNAME:CDT
DTSTART:20280312T080000
END:DAYLIGHT
BEGIN:STANDARD
TZOFFSETFROM:-0500
TZOFFSETTO:-0600
TZNAME:CST
DTSTART:20281105T070000
END:STANDARD
BEGIN:DAYLIGHT
TZOFFSETFROM:-0600
TZOFFSETTO:-0500
TZNAME:CDT
DTSTART:20290311T080000
END:DAYLIGHT
BEGIN:STANDARD
TZOFFSETFROM:-0500
TZOFFSETTO:-0600
TZNAME:CST
DTSTART:20291104T070000
END:STANDARD
END:VTIMEZONE
BEGIN:VEVENT
DTSTART;TZID=America/Chicago:20280528T100000
DTEND;TZID=America/Chicago:20280528T113000
DTSTAMP:20260419T080548
CREATED:20210705T021500Z
LAST-MODIFIED:20250703T164318Z
UID:10004054-1843120800-1843126200@brushhillchurch.org
SUMMARY:Sunday Worship Service
DESCRIPTION:Each Sunday we worship God through songs\, prayer\, sermons\, and more. Our services are open to all.
URL:https://brushhillchurch.org/event/sunday-worship-service/2028-05-28/
LOCATION:Brush Hill Cumberland Presbyterian Church\, 3705 Brush Hill Road\, Nashville\, TN\, 37216\, United States
CATEGORIES:Worship
ATTACH;FMTTYPE=image/jpeg:https://brushhillchurch.org/wp-content/uploads/2021/07/DSC_0263-scaled.jpg
END:VEVENT
BEGIN:VEVENT
DTSTART;TZID=America/Chicago:20280604T100000
DTEND;TZID=America/Chicago:20280604T113000
DTSTAMP:20260419T080548
CREATED:20210705T021500Z
LAST-MODIFIED:20250703T164318Z
UID:10004055-1843725600-1843731000@brushhillchurch.org
SUMMARY:Sunday Worship Service
DESCRIPTION:Each Sunday we worship God through songs\, prayer\, sermons\, and more. Our services are open to all.
URL:https://brushhillchurch.org/event/sunday-worship-service/2028-06-04/
LOCATION:Brush Hill Cumberland Presbyterian Church\, 3705 Brush Hill Road\, Nashville\, TN\, 37216\, United States
CATEGORIES:Worship
ATTACH;FMTTYPE=image/jpeg:https://brushhillchurch.org/wp-content/uploads/2021/07/DSC_0263-scaled.jpg
END:VEVENT
BEGIN:VEVENT
DTSTART;TZID=America/Chicago:20280611T100000
DTEND;TZID=America/Chicago:20280611T113000
DTSTAMP:20260419T080548
CREATED:20210705T021500Z
LAST-MODIFIED:20250703T164318Z
UID:10004056-1844330400-1844335800@brushhillchurch.org
SUMMARY:Sunday Worship Service
DESCRIPTION:Each Sunday we worship God through songs\, prayer\, sermons\, and more. Our services are open to all.
URL:https://brushhillchurch.org/event/sunday-worship-service/2028-06-11/
LOCATION:Brush Hill Cumberland Presbyterian Church\, 3705 Brush Hill Road\, Nashville\, TN\, 37216\, United States
CATEGORIES:Worship
ATTACH;FMTTYPE=image/jpeg:https://brushhillchurch.org/wp-content/uploads/2021/07/DSC_0263-scaled.jpg
END:VEVENT
BEGIN:VEVENT
DTSTART;TZID=America/Chicago:20280618T100000
DTEND;TZID=America/Chicago:20280618T113000
DTSTAMP:20260419T080548
CREATED:20210705T021500Z
LAST-MODIFIED:20250703T164318Z
UID:10004057-1844935200-1844940600@brushhillchurch.org
SUMMARY:Sunday Worship Service
DESCRIPTION:Each Sunday we worship God through songs\, prayer\, sermons\, and more. Our services are open to all.
URL:https://brushhillchurch.org/event/sunday-worship-service/2028-06-18/
LOCATION:Brush Hill Cumberland Presbyterian Church\, 3705 Brush Hill Road\, Nashville\, TN\, 37216\, United States
CATEGORIES:Worship
ATTACH;FMTTYPE=image/jpeg:https://brushhillchurch.org/wp-content/uploads/2021/07/DSC_0263-scaled.jpg
END:VEVENT
BEGIN:VEVENT
DTSTART;TZID=America/Chicago:20280625T100000
DTEND;TZID=America/Chicago:20280625T113000
DTSTAMP:20260419T080548
CREATED:20210705T021500Z
LAST-MODIFIED:20250703T164318Z
UID:10004058-1845540000-1845545400@brushhillchurch.org
SUMMARY:Sunday Worship Service
DESCRIPTION:Each Sunday we worship God through songs\, prayer\, sermons\, and more. Our services are open to all.
URL:https://brushhillchurch.org/event/sunday-worship-service/2028-06-25/
LOCATION:Brush Hill Cumberland Presbyterian Church\, 3705 Brush Hill Road\, Nashville\, TN\, 37216\, United States
CATEGORIES:Worship
ATTACH;FMTTYPE=image/jpeg:https://brushhillchurch.org/wp-content/uploads/2021/07/DSC_0263-scaled.jpg
END:VEVENT
BEGIN:VEVENT
DTSTART;TZID=America/Chicago:20280702T100000
DTEND;TZID=America/Chicago:20280702T113000
DTSTAMP:20260419T080548
CREATED:20210705T021500Z
LAST-MODIFIED:20250703T164318Z
UID:10004059-1846144800-1846150200@brushhillchurch.org
SUMMARY:Sunday Worship Service
DESCRIPTION:Each Sunday we worship God through songs\, prayer\, sermons\, and more. Our services are open to all.
URL:https://brushhillchurch.org/event/sunday-worship-service/2028-07-02/
LOCATION:Brush Hill Cumberland Presbyterian Church\, 3705 Brush Hill Road\, Nashville\, TN\, 37216\, United States
CATEGORIES:Worship
ATTACH;FMTTYPE=image/jpeg:https://brushhillchurch.org/wp-content/uploads/2021/07/DSC_0263-scaled.jpg
END:VEVENT
BEGIN:VEVENT
DTSTART;TZID=America/Chicago:20280709T100000
DTEND;TZID=America/Chicago:20280709T113000
DTSTAMP:20260419T080548
CREATED:20210705T021500Z
LAST-MODIFIED:20250703T164318Z
UID:10004060-1846749600-1846755000@brushhillchurch.org
SUMMARY:Sunday Worship Service
DESCRIPTION:Each Sunday we worship God through songs\, prayer\, sermons\, and more. Our services are open to all.
URL:https://brushhillchurch.org/event/sunday-worship-service/2028-07-09/
LOCATION:Brush Hill Cumberland Presbyterian Church\, 3705 Brush Hill Road\, Nashville\, TN\, 37216\, United States
CATEGORIES:Worship
ATTACH;FMTTYPE=image/jpeg:https://brushhillchurch.org/wp-content/uploads/2021/07/DSC_0263-scaled.jpg
END:VEVENT
BEGIN:VEVENT
DTSTART;TZID=America/Chicago:20280716T100000
DTEND;TZID=America/Chicago:20280716T113000
DTSTAMP:20260419T080548
CREATED:20210705T021500Z
LAST-MODIFIED:20250703T164318Z
UID:10004061-1847354400-1847359800@brushhillchurch.org
SUMMARY:Sunday Worship Service
DESCRIPTION:Each Sunday we worship God through songs\, prayer\, sermons\, and more. Our services are open to all.
URL:https://brushhillchurch.org/event/sunday-worship-service/2028-07-16/
LOCATION:Brush Hill Cumberland Presbyterian Church\, 3705 Brush Hill Road\, Nashville\, TN\, 37216\, United States
CATEGORIES:Worship
ATTACH;FMTTYPE=image/jpeg:https://brushhillchurch.org/wp-content/uploads/2021/07/DSC_0263-scaled.jpg
END:VEVENT
BEGIN:VEVENT
DTSTART;TZID=America/Chicago:20280723T100000
DTEND;TZID=America/Chicago:20280723T113000
DTSTAMP:20260419T080548
CREATED:20210705T021500Z
LAST-MODIFIED:20250703T164318Z
UID:10004062-1847959200-1847964600@brushhillchurch.org
SUMMARY:Sunday Worship Service
DESCRIPTION:Each Sunday we worship God through songs\, prayer\, sermons\, and more. Our services are open to all.
URL:https://brushhillchurch.org/event/sunday-worship-service/2028-07-23/
LOCATION:Brush Hill Cumberland Presbyterian Church\, 3705 Brush Hill Road\, Nashville\, TN\, 37216\, United States
CATEGORIES:Worship
ATTACH;FMTTYPE=image/jpeg:https://brushhillchurch.org/wp-content/uploads/2021/07/DSC_0263-scaled.jpg
END:VEVENT
BEGIN:VEVENT
DTSTART;TZID=America/Chicago:20280730T100000
DTEND;TZID=America/Chicago:20280730T113000
DTSTAMP:20260419T080548
CREATED:20210705T021500Z
LAST-MODIFIED:20250703T164318Z
UID:10004063-1848564000-1848569400@brushhillchurch.org
SUMMARY:Sunday Worship Service
DESCRIPTION:Each Sunday we worship God through songs\, prayer\, sermons\, and more. Our services are open to all.
URL:https://brushhillchurch.org/event/sunday-worship-service/2028-07-30/
LOCATION:Brush Hill Cumberland Presbyterian Church\, 3705 Brush Hill Road\, Nashville\, TN\, 37216\, United States
CATEGORIES:Worship
ATTACH;FMTTYPE=image/jpeg:https://brushhillchurch.org/wp-content/uploads/2021/07/DSC_0263-scaled.jpg
END:VEVENT
BEGIN:VEVENT
DTSTART;TZID=America/Chicago:20280806T100000
DTEND;TZID=America/Chicago:20280806T113000
DTSTAMP:20260419T080548
CREATED:20210705T021500Z
LAST-MODIFIED:20250703T164318Z
UID:10004064-1849168800-1849174200@brushhillchurch.org
SUMMARY:Sunday Worship Service
DESCRIPTION:Each Sunday we worship God through songs\, prayer\, sermons\, and more. Our services are open to all.
URL:https://brushhillchurch.org/event/sunday-worship-service/2028-08-06/
LOCATION:Brush Hill Cumberland Presbyterian Church\, 3705 Brush Hill Road\, Nashville\, TN\, 37216\, United States
CATEGORIES:Worship
ATTACH;FMTTYPE=image/jpeg:https://brushhillchurch.org/wp-content/uploads/2021/07/DSC_0263-scaled.jpg
END:VEVENT
BEGIN:VEVENT
DTSTART;TZID=America/Chicago:20280813T100000
DTEND;TZID=America/Chicago:20280813T113000
DTSTAMP:20260419T080548
CREATED:20210705T021500Z
LAST-MODIFIED:20250703T164318Z
UID:10004065-1849773600-1849779000@brushhillchurch.org
SUMMARY:Sunday Worship Service
DESCRIPTION:Each Sunday we worship God through songs\, prayer\, sermons\, and more. Our services are open to all.
URL:https://brushhillchurch.org/event/sunday-worship-service/2028-08-13/
LOCATION:Brush Hill Cumberland Presbyterian Church\, 3705 Brush Hill Road\, Nashville\, TN\, 37216\, United States
CATEGORIES:Worship
ATTACH;FMTTYPE=image/jpeg:https://brushhillchurch.org/wp-content/uploads/2021/07/DSC_0263-scaled.jpg
END:VEVENT
BEGIN:VEVENT
DTSTART;TZID=America/Chicago:20280820T100000
DTEND;TZID=America/Chicago:20280820T113000
DTSTAMP:20260419T080548
CREATED:20210705T021500Z
LAST-MODIFIED:20250703T164318Z
UID:10004066-1850378400-1850383800@brushhillchurch.org
SUMMARY:Sunday Worship Service
DESCRIPTION:Each Sunday we worship God through songs\, prayer\, sermons\, and more. Our services are open to all.
URL:https://brushhillchurch.org/event/sunday-worship-service/2028-08-20/
LOCATION:Brush Hill Cumberland Presbyterian Church\, 3705 Brush Hill Road\, Nashville\, TN\, 37216\, United States
CATEGORIES:Worship
ATTACH;FMTTYPE=image/jpeg:https://brushhillchurch.org/wp-content/uploads/2021/07/DSC_0263-scaled.jpg
END:VEVENT
BEGIN:VEVENT
DTSTART;TZID=America/Chicago:20280827T100000
DTEND;TZID=America/Chicago:20280827T113000
DTSTAMP:20260419T080548
CREATED:20210705T021500Z
LAST-MODIFIED:20250703T164318Z
UID:10004067-1850983200-1850988600@brushhillchurch.org
SUMMARY:Sunday Worship Service
DESCRIPTION:Each Sunday we worship God through songs\, prayer\, sermons\, and more. Our services are open to all.
URL:https://brushhillchurch.org/event/sunday-worship-service/2028-08-27/
LOCATION:Brush Hill Cumberland Presbyterian Church\, 3705 Brush Hill Road\, Nashville\, TN\, 37216\, United States
CATEGORIES:Worship
ATTACH;FMTTYPE=image/jpeg:https://brushhillchurch.org/wp-content/uploads/2021/07/DSC_0263-scaled.jpg
END:VEVENT
BEGIN:VEVENT
DTSTART;TZID=America/Chicago:20280903T100000
DTEND;TZID=America/Chicago:20280903T113000
DTSTAMP:20260419T080548
CREATED:20210705T021500Z
LAST-MODIFIED:20250703T164318Z
UID:10004068-1851588000-1851593400@brushhillchurch.org
SUMMARY:Sunday Worship Service
DESCRIPTION:Each Sunday we worship God through songs\, prayer\, sermons\, and more. Our services are open to all.
URL:https://brushhillchurch.org/event/sunday-worship-service/2028-09-03/
LOCATION:Brush Hill Cumberland Presbyterian Church\, 3705 Brush Hill Road\, Nashville\, TN\, 37216\, United States
CATEGORIES:Worship
ATTACH;FMTTYPE=image/jpeg:https://brushhillchurch.org/wp-content/uploads/2021/07/DSC_0263-scaled.jpg
END:VEVENT
BEGIN:VEVENT
DTSTART;TZID=America/Chicago:20280910T100000
DTEND;TZID=America/Chicago:20280910T113000
DTSTAMP:20260419T080548
CREATED:20210705T021500Z
LAST-MODIFIED:20250703T164318Z
UID:10004069-1852192800-1852198200@brushhillchurch.org
SUMMARY:Sunday Worship Service
DESCRIPTION:Each Sunday we worship God through songs\, prayer\, sermons\, and more. Our services are open to all.
URL:https://brushhillchurch.org/event/sunday-worship-service/2028-09-10/
LOCATION:Brush Hill Cumberland Presbyterian Church\, 3705 Brush Hill Road\, Nashville\, TN\, 37216\, United States
CATEGORIES:Worship
ATTACH;FMTTYPE=image/jpeg:https://brushhillchurch.org/wp-content/uploads/2021/07/DSC_0263-scaled.jpg
END:VEVENT
BEGIN:VEVENT
DTSTART;TZID=America/Chicago:20280917T100000
DTEND;TZID=America/Chicago:20280917T113000
DTSTAMP:20260419T080548
CREATED:20210705T021500Z
LAST-MODIFIED:20250703T164318Z
UID:10004070-1852797600-1852803000@brushhillchurch.org
SUMMARY:Sunday Worship Service
DESCRIPTION:Each Sunday we worship God through songs\, prayer\, sermons\, and more. Our services are open to all.
URL:https://brushhillchurch.org/event/sunday-worship-service/2028-09-17/
LOCATION:Brush Hill Cumberland Presbyterian Church\, 3705 Brush Hill Road\, Nashville\, TN\, 37216\, United States
CATEGORIES:Worship
ATTACH;FMTTYPE=image/jpeg:https://brushhillchurch.org/wp-content/uploads/2021/07/DSC_0263-scaled.jpg
END:VEVENT
BEGIN:VEVENT
DTSTART;TZID=America/Chicago:20280924T100000
DTEND;TZID=America/Chicago:20280924T113000
DTSTAMP:20260419T080548
CREATED:20210705T021500Z
LAST-MODIFIED:20250703T164318Z
UID:10004071-1853402400-1853407800@brushhillchurch.org
SUMMARY:Sunday Worship Service
DESCRIPTION:Each Sunday we worship God through songs\, prayer\, sermons\, and more. Our services are open to all.
URL:https://brushhillchurch.org/event/sunday-worship-service/2028-09-24/
LOCATION:Brush Hill Cumberland Presbyterian Church\, 3705 Brush Hill Road\, Nashville\, TN\, 37216\, United States
CATEGORIES:Worship
ATTACH;FMTTYPE=image/jpeg:https://brushhillchurch.org/wp-content/uploads/2021/07/DSC_0263-scaled.jpg
END:VEVENT
BEGIN:VEVENT
DTSTART;TZID=America/Chicago:20281001T100000
DTEND;TZID=America/Chicago:20281001T113000
DTSTAMP:20260419T080548
CREATED:20210705T021500Z
LAST-MODIFIED:20250703T164318Z
UID:10004072-1854007200-1854012600@brushhillchurch.org
SUMMARY:Sunday Worship Service
DESCRIPTION:Each Sunday we worship God through songs\, prayer\, sermons\, and more. Our services are open to all.
URL:https://brushhillchurch.org/event/sunday-worship-service/2028-10-01/
LOCATION:Brush Hill Cumberland Presbyterian Church\, 3705 Brush Hill Road\, Nashville\, TN\, 37216\, United States
CATEGORIES:Worship
ATTACH;FMTTYPE=image/jpeg:https://brushhillchurch.org/wp-content/uploads/2021/07/DSC_0263-scaled.jpg
END:VEVENT
BEGIN:VEVENT
DTSTART;TZID=America/Chicago:20281008T100000
DTEND;TZID=America/Chicago:20281008T113000
DTSTAMP:20260419T080548
CREATED:20210705T021500Z
LAST-MODIFIED:20250703T164318Z
UID:10004073-1854612000-1854617400@brushhillchurch.org
SUMMARY:Sunday Worship Service
DESCRIPTION:Each Sunday we worship God through songs\, prayer\, sermons\, and more. Our services are open to all.
URL:https://brushhillchurch.org/event/sunday-worship-service/2028-10-08/
LOCATION:Brush Hill Cumberland Presbyterian Church\, 3705 Brush Hill Road\, Nashville\, TN\, 37216\, United States
CATEGORIES:Worship
ATTACH;FMTTYPE=image/jpeg:https://brushhillchurch.org/wp-content/uploads/2021/07/DSC_0263-scaled.jpg
END:VEVENT
BEGIN:VEVENT
DTSTART;TZID=America/Chicago:20281015T100000
DTEND;TZID=America/Chicago:20281015T113000
DTSTAMP:20260419T080548
CREATED:20210705T021500Z
LAST-MODIFIED:20250703T164318Z
UID:10004074-1855216800-1855222200@brushhillchurch.org
SUMMARY:Sunday Worship Service
DESCRIPTION:Each Sunday we worship God through songs\, prayer\, sermons\, and more. Our services are open to all.
URL:https://brushhillchurch.org/event/sunday-worship-service/2028-10-15/
LOCATION:Brush Hill Cumberland Presbyterian Church\, 3705 Brush Hill Road\, Nashville\, TN\, 37216\, United States
CATEGORIES:Worship
ATTACH;FMTTYPE=image/jpeg:https://brushhillchurch.org/wp-content/uploads/2021/07/DSC_0263-scaled.jpg
END:VEVENT
BEGIN:VEVENT
DTSTART;TZID=America/Chicago:20281022T100000
DTEND;TZID=America/Chicago:20281022T113000
DTSTAMP:20260419T080548
CREATED:20210705T021500Z
LAST-MODIFIED:20250703T164318Z
UID:10004075-1855821600-1855827000@brushhillchurch.org
SUMMARY:Sunday Worship Service
DESCRIPTION:Each Sunday we worship God through songs\, prayer\, sermons\, and more. Our services are open to all.
URL:https://brushhillchurch.org/event/sunday-worship-service/2028-10-22/
LOCATION:Brush Hill Cumberland Presbyterian Church\, 3705 Brush Hill Road\, Nashville\, TN\, 37216\, United States
CATEGORIES:Worship
ATTACH;FMTTYPE=image/jpeg:https://brushhillchurch.org/wp-content/uploads/2021/07/DSC_0263-scaled.jpg
END:VEVENT
BEGIN:VEVENT
DTSTART;TZID=America/Chicago:20281029T100000
DTEND;TZID=America/Chicago:20281029T113000
DTSTAMP:20260419T080548
CREATED:20210705T021500Z
LAST-MODIFIED:20250703T164318Z
UID:10004076-1856426400-1856431800@brushhillchurch.org
SUMMARY:Sunday Worship Service
DESCRIPTION:Each Sunday we worship God through songs\, prayer\, sermons\, and more. Our services are open to all.
URL:https://brushhillchurch.org/event/sunday-worship-service/2028-10-29/
LOCATION:Brush Hill Cumberland Presbyterian Church\, 3705 Brush Hill Road\, Nashville\, TN\, 37216\, United States
CATEGORIES:Worship
ATTACH;FMTTYPE=image/jpeg:https://brushhillchurch.org/wp-content/uploads/2021/07/DSC_0263-scaled.jpg
END:VEVENT
BEGIN:VEVENT
DTSTART;TZID=America/Chicago:20281105T100000
DTEND;TZID=America/Chicago:20281105T113000
DTSTAMP:20260419T080548
CREATED:20210705T021500Z
LAST-MODIFIED:20250703T164318Z
UID:10004077-1857031200-1857036600@brushhillchurch.org
SUMMARY:Sunday Worship Service
DESCRIPTION:Each Sunday we worship God through songs\, prayer\, sermons\, and more. Our services are open to all.
URL:https://brushhillchurch.org/event/sunday-worship-service/2028-11-05/
LOCATION:Brush Hill Cumberland Presbyterian Church\, 3705 Brush Hill Road\, Nashville\, TN\, 37216\, United States
CATEGORIES:Worship
ATTACH;FMTTYPE=image/jpeg:https://brushhillchurch.org/wp-content/uploads/2021/07/DSC_0263-scaled.jpg
END:VEVENT
BEGIN:VEVENT
DTSTART;TZID=America/Chicago:20281112T100000
DTEND;TZID=America/Chicago:20281112T113000
DTSTAMP:20260419T080548
CREATED:20210705T021500Z
LAST-MODIFIED:20250703T164318Z
UID:10004078-1857636000-1857641400@brushhillchurch.org
SUMMARY:Sunday Worship Service
DESCRIPTION:Each Sunday we worship God through songs\, prayer\, sermons\, and more. Our services are open to all.
URL:https://brushhillchurch.org/event/sunday-worship-service/2028-11-12/
LOCATION:Brush Hill Cumberland Presbyterian Church\, 3705 Brush Hill Road\, Nashville\, TN\, 37216\, United States
CATEGORIES:Worship
ATTACH;FMTTYPE=image/jpeg:https://brushhillchurch.org/wp-content/uploads/2021/07/DSC_0263-scaled.jpg
END:VEVENT
BEGIN:VEVENT
DTSTART;TZID=America/Chicago:20281119T100000
DTEND;TZID=America/Chicago:20281119T113000
DTSTAMP:20260419T080548
CREATED:20210705T021500Z
LAST-MODIFIED:20250703T164318Z
UID:10004079-1858240800-1858246200@brushhillchurch.org
SUMMARY:Sunday Worship Service
DESCRIPTION:Each Sunday we worship God through songs\, prayer\, sermons\, and more. Our services are open to all.
URL:https://brushhillchurch.org/event/sunday-worship-service/2028-11-19/
LOCATION:Brush Hill Cumberland Presbyterian Church\, 3705 Brush Hill Road\, Nashville\, TN\, 37216\, United States
CATEGORIES:Worship
ATTACH;FMTTYPE=image/jpeg:https://brushhillchurch.org/wp-content/uploads/2021/07/DSC_0263-scaled.jpg
END:VEVENT
BEGIN:VEVENT
DTSTART;TZID=America/Chicago:20281126T100000
DTEND;TZID=America/Chicago:20281126T113000
DTSTAMP:20260419T080548
CREATED:20210705T021500Z
LAST-MODIFIED:20250703T164318Z
UID:10004080-1858845600-1858851000@brushhillchurch.org
SUMMARY:Sunday Worship Service
DESCRIPTION:Each Sunday we worship God through songs\, prayer\, sermons\, and more. Our services are open to all.
URL:https://brushhillchurch.org/event/sunday-worship-service/2028-11-26/
LOCATION:Brush Hill Cumberland Presbyterian Church\, 3705 Brush Hill Road\, Nashville\, TN\, 37216\, United States
CATEGORIES:Worship
ATTACH;FMTTYPE=image/jpeg:https://brushhillchurch.org/wp-content/uploads/2021/07/DSC_0263-scaled.jpg
END:VEVENT
BEGIN:VEVENT
DTSTART;TZID=America/Chicago:20281203T100000
DTEND;TZID=America/Chicago:20281203T113000
DTSTAMP:20260419T080548
CREATED:20210705T021500Z
LAST-MODIFIED:20250703T164318Z
UID:10004081-1859450400-1859455800@brushhillchurch.org
SUMMARY:Sunday Worship Service
DESCRIPTION:Each Sunday we worship God through songs\, prayer\, sermons\, and more. Our services are open to all.
URL:https://brushhillchurch.org/event/sunday-worship-service/2028-12-03/
LOCATION:Brush Hill Cumberland Presbyterian Church\, 3705 Brush Hill Road\, Nashville\, TN\, 37216\, United States
CATEGORIES:Worship
ATTACH;FMTTYPE=image/jpeg:https://brushhillchurch.org/wp-content/uploads/2021/07/DSC_0263-scaled.jpg
END:VEVENT
BEGIN:VEVENT
DTSTART;TZID=America/Chicago:20281210T100000
DTEND;TZID=America/Chicago:20281210T113000
DTSTAMP:20260419T080548
CREATED:20210705T021500Z
LAST-MODIFIED:20250703T164318Z
UID:10004082-1860055200-1860060600@brushhillchurch.org
SUMMARY:Sunday Worship Service
DESCRIPTION:Each Sunday we worship God through songs\, prayer\, sermons\, and more. Our services are open to all.
URL:https://brushhillchurch.org/event/sunday-worship-service/2028-12-10/
LOCATION:Brush Hill Cumberland Presbyterian Church\, 3705 Brush Hill Road\, Nashville\, TN\, 37216\, United States
CATEGORIES:Worship
ATTACH;FMTTYPE=image/jpeg:https://brushhillchurch.org/wp-content/uploads/2021/07/DSC_0263-scaled.jpg
END:VEVENT
BEGIN:VEVENT
DTSTART;TZID=America/Chicago:20281217T100000
DTEND;TZID=America/Chicago:20281217T113000
DTSTAMP:20260419T080548
CREATED:20210705T021500Z
LAST-MODIFIED:20250703T164318Z
UID:10004083-1860660000-1860665400@brushhillchurch.org
SUMMARY:Sunday Worship Service
DESCRIPTION:Each Sunday we worship God through songs\, prayer\, sermons\, and more. Our services are open to all.
URL:https://brushhillchurch.org/event/sunday-worship-service/2028-12-17/
LOCATION:Brush Hill Cumberland Presbyterian Church\, 3705 Brush Hill Road\, Nashville\, TN\, 37216\, United States
CATEGORIES:Worship
ATTACH;FMTTYPE=image/jpeg:https://brushhillchurch.org/wp-content/uploads/2021/07/DSC_0263-scaled.jpg
END:VEVENT
END:VCALENDAR