BEGIN:VCALENDAR
VERSION:2.0
PRODID:-//Brush Hill Cumberland Presbyterian Church - ECPv6.15.20//NONSGML v1.0//EN
CALSCALE:GREGORIAN
METHOD:PUBLISH
X-WR-CALNAME:Brush Hill Cumberland Presbyterian Church
X-ORIGINAL-URL:https://brushhillchurch.org
X-WR-CALDESC:Events for Brush Hill Cumberland Presbyterian Church
REFRESH-INTERVAL;VALUE=DURATION:PT1H
X-Robots-Tag:noindex
X-PUBLISHED-TTL:PT1H
BEGIN:VTIMEZONE
TZID:America/Chicago
BEGIN:DAYLIGHT
TZOFFSETFROM:-0600
TZOFFSETTO:-0500
TZNAME:CDT
DTSTART:20270314T080000
END:DAYLIGHT
BEGIN:STANDARD
TZOFFSETFROM:-0500
TZOFFSETTO:-0600
TZNAME:CST
DTSTART:20271107T070000
END:STANDARD
BEGIN:DAYLIGHT
TZOFFSETFROM:-0600
TZOFFSETTO:-0500
TZNAME:CDT
DTSTART:20280312T080000
END:DAYLIGHT
BEGIN:STANDARD
TZOFFSETFROM:-0500
TZOFFSETTO:-0600
TZNAME:CST
DTSTART:20281105T070000
END:STANDARD
BEGIN:DAYLIGHT
TZOFFSETFROM:-0600
TZOFFSETTO:-0500
TZNAME:CDT
DTSTART:20290311T080000
END:DAYLIGHT
BEGIN:STANDARD
TZOFFSETFROM:-0500
TZOFFSETTO:-0600
TZNAME:CST
DTSTART:20291104T070000
END:STANDARD
BEGIN:DAYLIGHT
TZOFFSETFROM:-0600
TZOFFSETTO:-0500
TZNAME:CDT
DTSTART:20300310T080000
END:DAYLIGHT
BEGIN:STANDARD
TZOFFSETFROM:-0500
TZOFFSETTO:-0600
TZNAME:CST
DTSTART:20301103T070000
END:STANDARD
END:VTIMEZONE
BEGIN:VEVENT
DTSTART;TZID=America/Chicago:20281231T100000
DTEND;TZID=America/Chicago:20281231T113000
DTSTAMP:20260419T133552
CREATED:20210705T021500Z
LAST-MODIFIED:20250703T164318Z
UID:10004085-1861869600-1861875000@brushhillchurch.org
SUMMARY:Sunday Worship Service
DESCRIPTION:Each Sunday we worship God through songs\, prayer\, sermons\, and more. Our services are open to all.
URL:https://brushhillchurch.org/event/sunday-worship-service/2028-12-31/
LOCATION:Brush Hill Cumberland Presbyterian Church\, 3705 Brush Hill Road\, Nashville\, TN\, 37216\, United States
CATEGORIES:Worship
ATTACH;FMTTYPE=image/jpeg:https://brushhillchurch.org/wp-content/uploads/2021/07/DSC_0263-scaled.jpg
END:VEVENT
BEGIN:VEVENT
DTSTART;TZID=America/Chicago:20290107T100000
DTEND;TZID=America/Chicago:20290107T113000
DTSTAMP:20260419T133552
CREATED:20210705T021500Z
LAST-MODIFIED:20250703T164318Z
UID:10004086-1862474400-1862479800@brushhillchurch.org
SUMMARY:Sunday Worship Service
DESCRIPTION:Each Sunday we worship God through songs\, prayer\, sermons\, and more. Our services are open to all.
URL:https://brushhillchurch.org/event/sunday-worship-service/2029-01-07/
LOCATION:Brush Hill Cumberland Presbyterian Church\, 3705 Brush Hill Road\, Nashville\, TN\, 37216\, United States
CATEGORIES:Worship
ATTACH;FMTTYPE=image/jpeg:https://brushhillchurch.org/wp-content/uploads/2021/07/DSC_0263-scaled.jpg
END:VEVENT
BEGIN:VEVENT
DTSTART;TZID=America/Chicago:20290114T100000
DTEND;TZID=America/Chicago:20290114T113000
DTSTAMP:20260419T133552
CREATED:20210705T021500Z
LAST-MODIFIED:20250703T164318Z
UID:10004087-1863079200-1863084600@brushhillchurch.org
SUMMARY:Sunday Worship Service
DESCRIPTION:Each Sunday we worship God through songs\, prayer\, sermons\, and more. Our services are open to all.
URL:https://brushhillchurch.org/event/sunday-worship-service/2029-01-14/
LOCATION:Brush Hill Cumberland Presbyterian Church\, 3705 Brush Hill Road\, Nashville\, TN\, 37216\, United States
CATEGORIES:Worship
ATTACH;FMTTYPE=image/jpeg:https://brushhillchurch.org/wp-content/uploads/2021/07/DSC_0263-scaled.jpg
END:VEVENT
BEGIN:VEVENT
DTSTART;TZID=America/Chicago:20290121T100000
DTEND;TZID=America/Chicago:20290121T113000
DTSTAMP:20260419T133552
CREATED:20210705T021500Z
LAST-MODIFIED:20250703T164318Z
UID:10004088-1863684000-1863689400@brushhillchurch.org
SUMMARY:Sunday Worship Service
DESCRIPTION:Each Sunday we worship God through songs\, prayer\, sermons\, and more. Our services are open to all.
URL:https://brushhillchurch.org/event/sunday-worship-service/2029-01-21/
LOCATION:Brush Hill Cumberland Presbyterian Church\, 3705 Brush Hill Road\, Nashville\, TN\, 37216\, United States
CATEGORIES:Worship
ATTACH;FMTTYPE=image/jpeg:https://brushhillchurch.org/wp-content/uploads/2021/07/DSC_0263-scaled.jpg
END:VEVENT
BEGIN:VEVENT
DTSTART;TZID=America/Chicago:20290128T100000
DTEND;TZID=America/Chicago:20290128T113000
DTSTAMP:20260419T133552
CREATED:20210705T021500Z
LAST-MODIFIED:20250703T164318Z
UID:10004089-1864288800-1864294200@brushhillchurch.org
SUMMARY:Sunday Worship Service
DESCRIPTION:Each Sunday we worship God through songs\, prayer\, sermons\, and more. Our services are open to all.
URL:https://brushhillchurch.org/event/sunday-worship-service/2029-01-28/
LOCATION:Brush Hill Cumberland Presbyterian Church\, 3705 Brush Hill Road\, Nashville\, TN\, 37216\, United States
CATEGORIES:Worship
ATTACH;FMTTYPE=image/jpeg:https://brushhillchurch.org/wp-content/uploads/2021/07/DSC_0263-scaled.jpg
END:VEVENT
BEGIN:VEVENT
DTSTART;TZID=America/Chicago:20290204T100000
DTEND;TZID=America/Chicago:20290204T113000
DTSTAMP:20260419T133552
CREATED:20210705T021500Z
LAST-MODIFIED:20250703T164318Z
UID:10004090-1864893600-1864899000@brushhillchurch.org
SUMMARY:Sunday Worship Service
DESCRIPTION:Each Sunday we worship God through songs\, prayer\, sermons\, and more. Our services are open to all.
URL:https://brushhillchurch.org/event/sunday-worship-service/2029-02-04/
LOCATION:Brush Hill Cumberland Presbyterian Church\, 3705 Brush Hill Road\, Nashville\, TN\, 37216\, United States
CATEGORIES:Worship
ATTACH;FMTTYPE=image/jpeg:https://brushhillchurch.org/wp-content/uploads/2021/07/DSC_0263-scaled.jpg
END:VEVENT
BEGIN:VEVENT
DTSTART;TZID=America/Chicago:20290211T100000
DTEND;TZID=America/Chicago:20290211T113000
DTSTAMP:20260419T133552
CREATED:20210705T021500Z
LAST-MODIFIED:20250703T164318Z
UID:10004091-1865498400-1865503800@brushhillchurch.org
SUMMARY:Sunday Worship Service
DESCRIPTION:Each Sunday we worship God through songs\, prayer\, sermons\, and more. Our services are open to all.
URL:https://brushhillchurch.org/event/sunday-worship-service/2029-02-11/
LOCATION:Brush Hill Cumberland Presbyterian Church\, 3705 Brush Hill Road\, Nashville\, TN\, 37216\, United States
CATEGORIES:Worship
ATTACH;FMTTYPE=image/jpeg:https://brushhillchurch.org/wp-content/uploads/2021/07/DSC_0263-scaled.jpg
END:VEVENT
BEGIN:VEVENT
DTSTART;TZID=America/Chicago:20290218T100000
DTEND;TZID=America/Chicago:20290218T113000
DTSTAMP:20260419T133552
CREATED:20210705T021500Z
LAST-MODIFIED:20250703T164318Z
UID:10004092-1866103200-1866108600@brushhillchurch.org
SUMMARY:Sunday Worship Service
DESCRIPTION:Each Sunday we worship God through songs\, prayer\, sermons\, and more. Our services are open to all.
URL:https://brushhillchurch.org/event/sunday-worship-service/2029-02-18/
LOCATION:Brush Hill Cumberland Presbyterian Church\, 3705 Brush Hill Road\, Nashville\, TN\, 37216\, United States
CATEGORIES:Worship
ATTACH;FMTTYPE=image/jpeg:https://brushhillchurch.org/wp-content/uploads/2021/07/DSC_0263-scaled.jpg
END:VEVENT
BEGIN:VEVENT
DTSTART;TZID=America/Chicago:20290225T100000
DTEND;TZID=America/Chicago:20290225T113000
DTSTAMP:20260419T133552
CREATED:20210705T021500Z
LAST-MODIFIED:20250703T164318Z
UID:10004093-1866708000-1866713400@brushhillchurch.org
SUMMARY:Sunday Worship Service
DESCRIPTION:Each Sunday we worship God through songs\, prayer\, sermons\, and more. Our services are open to all.
URL:https://brushhillchurch.org/event/sunday-worship-service/2029-02-25/
LOCATION:Brush Hill Cumberland Presbyterian Church\, 3705 Brush Hill Road\, Nashville\, TN\, 37216\, United States
CATEGORIES:Worship
ATTACH;FMTTYPE=image/jpeg:https://brushhillchurch.org/wp-content/uploads/2021/07/DSC_0263-scaled.jpg
END:VEVENT
BEGIN:VEVENT
DTSTART;TZID=America/Chicago:20290304T100000
DTEND;TZID=America/Chicago:20290304T113000
DTSTAMP:20260419T133552
CREATED:20210705T021500Z
LAST-MODIFIED:20250703T164318Z
UID:10004094-1867312800-1867318200@brushhillchurch.org
SUMMARY:Sunday Worship Service
DESCRIPTION:Each Sunday we worship God through songs\, prayer\, sermons\, and more. Our services are open to all.
URL:https://brushhillchurch.org/event/sunday-worship-service/2029-03-04/
LOCATION:Brush Hill Cumberland Presbyterian Church\, 3705 Brush Hill Road\, Nashville\, TN\, 37216\, United States
CATEGORIES:Worship
ATTACH;FMTTYPE=image/jpeg:https://brushhillchurch.org/wp-content/uploads/2021/07/DSC_0263-scaled.jpg
END:VEVENT
BEGIN:VEVENT
DTSTART;TZID=America/Chicago:20290311T100000
DTEND;TZID=America/Chicago:20290311T113000
DTSTAMP:20260419T133552
CREATED:20210705T021500Z
LAST-MODIFIED:20250703T164318Z
UID:10004095-1867917600-1867923000@brushhillchurch.org
SUMMARY:Sunday Worship Service
DESCRIPTION:Each Sunday we worship God through songs\, prayer\, sermons\, and more. Our services are open to all.
URL:https://brushhillchurch.org/event/sunday-worship-service/2029-03-11/
LOCATION:Brush Hill Cumberland Presbyterian Church\, 3705 Brush Hill Road\, Nashville\, TN\, 37216\, United States
CATEGORIES:Worship
ATTACH;FMTTYPE=image/jpeg:https://brushhillchurch.org/wp-content/uploads/2021/07/DSC_0263-scaled.jpg
END:VEVENT
BEGIN:VEVENT
DTSTART;TZID=America/Chicago:20290318T100000
DTEND;TZID=America/Chicago:20290318T113000
DTSTAMP:20260419T133552
CREATED:20210705T021500Z
LAST-MODIFIED:20250703T164318Z
UID:10004096-1868522400-1868527800@brushhillchurch.org
SUMMARY:Sunday Worship Service
DESCRIPTION:Each Sunday we worship God through songs\, prayer\, sermons\, and more. Our services are open to all.
URL:https://brushhillchurch.org/event/sunday-worship-service/2029-03-18/
LOCATION:Brush Hill Cumberland Presbyterian Church\, 3705 Brush Hill Road\, Nashville\, TN\, 37216\, United States
CATEGORIES:Worship
ATTACH;FMTTYPE=image/jpeg:https://brushhillchurch.org/wp-content/uploads/2021/07/DSC_0263-scaled.jpg
END:VEVENT
BEGIN:VEVENT
DTSTART;TZID=America/Chicago:20290325T100000
DTEND;TZID=America/Chicago:20290325T113000
DTSTAMP:20260419T133552
CREATED:20210705T021500Z
LAST-MODIFIED:20250703T164318Z
UID:10004097-1869127200-1869132600@brushhillchurch.org
SUMMARY:Sunday Worship Service
DESCRIPTION:Each Sunday we worship God through songs\, prayer\, sermons\, and more. Our services are open to all.
URL:https://brushhillchurch.org/event/sunday-worship-service/2029-03-25/
LOCATION:Brush Hill Cumberland Presbyterian Church\, 3705 Brush Hill Road\, Nashville\, TN\, 37216\, United States
CATEGORIES:Worship
ATTACH;FMTTYPE=image/jpeg:https://brushhillchurch.org/wp-content/uploads/2021/07/DSC_0263-scaled.jpg
END:VEVENT
BEGIN:VEVENT
DTSTART;TZID=America/Chicago:20290401T100000
DTEND;TZID=America/Chicago:20290401T113000
DTSTAMP:20260419T133552
CREATED:20210705T021500Z
LAST-MODIFIED:20250703T164318Z
UID:10004098-1869732000-1869737400@brushhillchurch.org
SUMMARY:Sunday Worship Service
DESCRIPTION:Each Sunday we worship God through songs\, prayer\, sermons\, and more. Our services are open to all.
URL:https://brushhillchurch.org/event/sunday-worship-service/2029-04-01/
LOCATION:Brush Hill Cumberland Presbyterian Church\, 3705 Brush Hill Road\, Nashville\, TN\, 37216\, United States
CATEGORIES:Worship
ATTACH;FMTTYPE=image/jpeg:https://brushhillchurch.org/wp-content/uploads/2021/07/DSC_0263-scaled.jpg
END:VEVENT
BEGIN:VEVENT
DTSTART;TZID=America/Chicago:20290408T100000
DTEND;TZID=America/Chicago:20290408T113000
DTSTAMP:20260419T133552
CREATED:20210705T021500Z
LAST-MODIFIED:20250703T164318Z
UID:10004099-1870336800-1870342200@brushhillchurch.org
SUMMARY:Sunday Worship Service
DESCRIPTION:Each Sunday we worship God through songs\, prayer\, sermons\, and more. Our services are open to all.
URL:https://brushhillchurch.org/event/sunday-worship-service/2029-04-08/
LOCATION:Brush Hill Cumberland Presbyterian Church\, 3705 Brush Hill Road\, Nashville\, TN\, 37216\, United States
CATEGORIES:Worship
ATTACH;FMTTYPE=image/jpeg:https://brushhillchurch.org/wp-content/uploads/2021/07/DSC_0263-scaled.jpg
END:VEVENT
BEGIN:VEVENT
DTSTART;TZID=America/Chicago:20290415T100000
DTEND;TZID=America/Chicago:20290415T113000
DTSTAMP:20260419T133552
CREATED:20210705T021500Z
LAST-MODIFIED:20250703T164318Z
UID:10004100-1870941600-1870947000@brushhillchurch.org
SUMMARY:Sunday Worship Service
DESCRIPTION:Each Sunday we worship God through songs\, prayer\, sermons\, and more. Our services are open to all.
URL:https://brushhillchurch.org/event/sunday-worship-service/2029-04-15/
LOCATION:Brush Hill Cumberland Presbyterian Church\, 3705 Brush Hill Road\, Nashville\, TN\, 37216\, United States
CATEGORIES:Worship
ATTACH;FMTTYPE=image/jpeg:https://brushhillchurch.org/wp-content/uploads/2021/07/DSC_0263-scaled.jpg
END:VEVENT
BEGIN:VEVENT
DTSTART;TZID=America/Chicago:20290422T100000
DTEND;TZID=America/Chicago:20290422T113000
DTSTAMP:20260419T133552
CREATED:20210705T021500Z
LAST-MODIFIED:20250703T164318Z
UID:10004101-1871546400-1871551800@brushhillchurch.org
SUMMARY:Sunday Worship Service
DESCRIPTION:Each Sunday we worship God through songs\, prayer\, sermons\, and more. Our services are open to all.
URL:https://brushhillchurch.org/event/sunday-worship-service/2029-04-22/
LOCATION:Brush Hill Cumberland Presbyterian Church\, 3705 Brush Hill Road\, Nashville\, TN\, 37216\, United States
CATEGORIES:Worship
ATTACH;FMTTYPE=image/jpeg:https://brushhillchurch.org/wp-content/uploads/2021/07/DSC_0263-scaled.jpg
END:VEVENT
BEGIN:VEVENT
DTSTART;TZID=America/Chicago:20290429T100000
DTEND;TZID=America/Chicago:20290429T113000
DTSTAMP:20260419T133552
CREATED:20210705T021500Z
LAST-MODIFIED:20250703T164318Z
UID:10004102-1872151200-1872156600@brushhillchurch.org
SUMMARY:Sunday Worship Service
DESCRIPTION:Each Sunday we worship God through songs\, prayer\, sermons\, and more. Our services are open to all.
URL:https://brushhillchurch.org/event/sunday-worship-service/2029-04-29/
LOCATION:Brush Hill Cumberland Presbyterian Church\, 3705 Brush Hill Road\, Nashville\, TN\, 37216\, United States
CATEGORIES:Worship
ATTACH;FMTTYPE=image/jpeg:https://brushhillchurch.org/wp-content/uploads/2021/07/DSC_0263-scaled.jpg
END:VEVENT
BEGIN:VEVENT
DTSTART;TZID=America/Chicago:20290506T100000
DTEND;TZID=America/Chicago:20290506T113000
DTSTAMP:20260419T133552
CREATED:20210705T021500Z
LAST-MODIFIED:20250703T164318Z
UID:10004103-1872756000-1872761400@brushhillchurch.org
SUMMARY:Sunday Worship Service
DESCRIPTION:Each Sunday we worship God through songs\, prayer\, sermons\, and more. Our services are open to all.
URL:https://brushhillchurch.org/event/sunday-worship-service/2029-05-06/
LOCATION:Brush Hill Cumberland Presbyterian Church\, 3705 Brush Hill Road\, Nashville\, TN\, 37216\, United States
CATEGORIES:Worship
ATTACH;FMTTYPE=image/jpeg:https://brushhillchurch.org/wp-content/uploads/2021/07/DSC_0263-scaled.jpg
END:VEVENT
BEGIN:VEVENT
DTSTART;TZID=America/Chicago:20290513T100000
DTEND;TZID=America/Chicago:20290513T113000
DTSTAMP:20260419T133552
CREATED:20210705T021500Z
LAST-MODIFIED:20250703T164318Z
UID:10004104-1873360800-1873366200@brushhillchurch.org
SUMMARY:Sunday Worship Service
DESCRIPTION:Each Sunday we worship God through songs\, prayer\, sermons\, and more. Our services are open to all.
URL:https://brushhillchurch.org/event/sunday-worship-service/2029-05-13/
LOCATION:Brush Hill Cumberland Presbyterian Church\, 3705 Brush Hill Road\, Nashville\, TN\, 37216\, United States
CATEGORIES:Worship
ATTACH;FMTTYPE=image/jpeg:https://brushhillchurch.org/wp-content/uploads/2021/07/DSC_0263-scaled.jpg
END:VEVENT
BEGIN:VEVENT
DTSTART;TZID=America/Chicago:20290520T100000
DTEND;TZID=America/Chicago:20290520T113000
DTSTAMP:20260419T133552
CREATED:20210705T021500Z
LAST-MODIFIED:20250703T164318Z
UID:10004105-1873965600-1873971000@brushhillchurch.org
SUMMARY:Sunday Worship Service
DESCRIPTION:Each Sunday we worship God through songs\, prayer\, sermons\, and more. Our services are open to all.
URL:https://brushhillchurch.org/event/sunday-worship-service/2029-05-20/
LOCATION:Brush Hill Cumberland Presbyterian Church\, 3705 Brush Hill Road\, Nashville\, TN\, 37216\, United States
CATEGORIES:Worship
ATTACH;FMTTYPE=image/jpeg:https://brushhillchurch.org/wp-content/uploads/2021/07/DSC_0263-scaled.jpg
END:VEVENT
BEGIN:VEVENT
DTSTART;TZID=America/Chicago:20290527T100000
DTEND;TZID=America/Chicago:20290527T113000
DTSTAMP:20260419T133552
CREATED:20210705T021500Z
LAST-MODIFIED:20250703T164318Z
UID:10004106-1874570400-1874575800@brushhillchurch.org
SUMMARY:Sunday Worship Service
DESCRIPTION:Each Sunday we worship God through songs\, prayer\, sermons\, and more. Our services are open to all.
URL:https://brushhillchurch.org/event/sunday-worship-service/2029-05-27/
LOCATION:Brush Hill Cumberland Presbyterian Church\, 3705 Brush Hill Road\, Nashville\, TN\, 37216\, United States
CATEGORIES:Worship
ATTACH;FMTTYPE=image/jpeg:https://brushhillchurch.org/wp-content/uploads/2021/07/DSC_0263-scaled.jpg
END:VEVENT
BEGIN:VEVENT
DTSTART;TZID=America/Chicago:20290603T100000
DTEND;TZID=America/Chicago:20290603T113000
DTSTAMP:20260419T133552
CREATED:20210705T021500Z
LAST-MODIFIED:20250703T164318Z
UID:10004107-1875175200-1875180600@brushhillchurch.org
SUMMARY:Sunday Worship Service
DESCRIPTION:Each Sunday we worship God through songs\, prayer\, sermons\, and more. Our services are open to all.
URL:https://brushhillchurch.org/event/sunday-worship-service/2029-06-03/
LOCATION:Brush Hill Cumberland Presbyterian Church\, 3705 Brush Hill Road\, Nashville\, TN\, 37216\, United States
CATEGORIES:Worship
ATTACH;FMTTYPE=image/jpeg:https://brushhillchurch.org/wp-content/uploads/2021/07/DSC_0263-scaled.jpg
END:VEVENT
BEGIN:VEVENT
DTSTART;TZID=America/Chicago:20290610T100000
DTEND;TZID=America/Chicago:20290610T113000
DTSTAMP:20260419T133552
CREATED:20210705T021500Z
LAST-MODIFIED:20250703T164318Z
UID:10004108-1875780000-1875785400@brushhillchurch.org
SUMMARY:Sunday Worship Service
DESCRIPTION:Each Sunday we worship God through songs\, prayer\, sermons\, and more. Our services are open to all.
URL:https://brushhillchurch.org/event/sunday-worship-service/2029-06-10/
LOCATION:Brush Hill Cumberland Presbyterian Church\, 3705 Brush Hill Road\, Nashville\, TN\, 37216\, United States
CATEGORIES:Worship
ATTACH;FMTTYPE=image/jpeg:https://brushhillchurch.org/wp-content/uploads/2021/07/DSC_0263-scaled.jpg
END:VEVENT
BEGIN:VEVENT
DTSTART;TZID=America/Chicago:20290617T100000
DTEND;TZID=America/Chicago:20290617T113000
DTSTAMP:20260419T133552
CREATED:20210705T021500Z
LAST-MODIFIED:20250703T164318Z
UID:10004109-1876384800-1876390200@brushhillchurch.org
SUMMARY:Sunday Worship Service
DESCRIPTION:Each Sunday we worship God through songs\, prayer\, sermons\, and more. Our services are open to all.
URL:https://brushhillchurch.org/event/sunday-worship-service/2029-06-17/
LOCATION:Brush Hill Cumberland Presbyterian Church\, 3705 Brush Hill Road\, Nashville\, TN\, 37216\, United States
CATEGORIES:Worship
ATTACH;FMTTYPE=image/jpeg:https://brushhillchurch.org/wp-content/uploads/2021/07/DSC_0263-scaled.jpg
END:VEVENT
BEGIN:VEVENT
DTSTART;TZID=America/Chicago:20290624T100000
DTEND;TZID=America/Chicago:20290624T113000
DTSTAMP:20260419T133552
CREATED:20210705T021500Z
LAST-MODIFIED:20250703T164318Z
UID:10004110-1876989600-1876995000@brushhillchurch.org
SUMMARY:Sunday Worship Service
DESCRIPTION:Each Sunday we worship God through songs\, prayer\, sermons\, and more. Our services are open to all.
URL:https://brushhillchurch.org/event/sunday-worship-service/2029-06-24/
LOCATION:Brush Hill Cumberland Presbyterian Church\, 3705 Brush Hill Road\, Nashville\, TN\, 37216\, United States
CATEGORIES:Worship
ATTACH;FMTTYPE=image/jpeg:https://brushhillchurch.org/wp-content/uploads/2021/07/DSC_0263-scaled.jpg
END:VEVENT
BEGIN:VEVENT
DTSTART;TZID=America/Chicago:20290701T100000
DTEND;TZID=America/Chicago:20290701T113000
DTSTAMP:20260419T133552
CREATED:20210705T021500Z
LAST-MODIFIED:20250703T164318Z
UID:10004111-1877594400-1877599800@brushhillchurch.org
SUMMARY:Sunday Worship Service
DESCRIPTION:Each Sunday we worship God through songs\, prayer\, sermons\, and more. Our services are open to all.
URL:https://brushhillchurch.org/event/sunday-worship-service/2029-07-01/
LOCATION:Brush Hill Cumberland Presbyterian Church\, 3705 Brush Hill Road\, Nashville\, TN\, 37216\, United States
CATEGORIES:Worship
ATTACH;FMTTYPE=image/jpeg:https://brushhillchurch.org/wp-content/uploads/2021/07/DSC_0263-scaled.jpg
END:VEVENT
BEGIN:VEVENT
DTSTART;TZID=America/Chicago:20290708T100000
DTEND;TZID=America/Chicago:20290708T113000
DTSTAMP:20260419T133552
CREATED:20210705T021500Z
LAST-MODIFIED:20250703T164318Z
UID:10004112-1878199200-1878204600@brushhillchurch.org
SUMMARY:Sunday Worship Service
DESCRIPTION:Each Sunday we worship God through songs\, prayer\, sermons\, and more. Our services are open to all.
URL:https://brushhillchurch.org/event/sunday-worship-service/2029-07-08/
LOCATION:Brush Hill Cumberland Presbyterian Church\, 3705 Brush Hill Road\, Nashville\, TN\, 37216\, United States
CATEGORIES:Worship
ATTACH;FMTTYPE=image/jpeg:https://brushhillchurch.org/wp-content/uploads/2021/07/DSC_0263-scaled.jpg
END:VEVENT
BEGIN:VEVENT
DTSTART;TZID=America/Chicago:20290715T100000
DTEND;TZID=America/Chicago:20290715T113000
DTSTAMP:20260419T133552
CREATED:20210705T021500Z
LAST-MODIFIED:20250703T164318Z
UID:10004113-1878804000-1878809400@brushhillchurch.org
SUMMARY:Sunday Worship Service
DESCRIPTION:Each Sunday we worship God through songs\, prayer\, sermons\, and more. Our services are open to all.
URL:https://brushhillchurch.org/event/sunday-worship-service/2029-07-15/
LOCATION:Brush Hill Cumberland Presbyterian Church\, 3705 Brush Hill Road\, Nashville\, TN\, 37216\, United States
CATEGORIES:Worship
ATTACH;FMTTYPE=image/jpeg:https://brushhillchurch.org/wp-content/uploads/2021/07/DSC_0263-scaled.jpg
END:VEVENT
BEGIN:VEVENT
DTSTART;TZID=America/Chicago:20290722T100000
DTEND;TZID=America/Chicago:20290722T113000
DTSTAMP:20260419T133552
CREATED:20210705T021500Z
LAST-MODIFIED:20250703T164318Z
UID:10004114-1879408800-1879414200@brushhillchurch.org
SUMMARY:Sunday Worship Service
DESCRIPTION:Each Sunday we worship God through songs\, prayer\, sermons\, and more. Our services are open to all.
URL:https://brushhillchurch.org/event/sunday-worship-service/2029-07-22/
LOCATION:Brush Hill Cumberland Presbyterian Church\, 3705 Brush Hill Road\, Nashville\, TN\, 37216\, United States
CATEGORIES:Worship
ATTACH;FMTTYPE=image/jpeg:https://brushhillchurch.org/wp-content/uploads/2021/07/DSC_0263-scaled.jpg
END:VEVENT
END:VCALENDAR