BEGIN:VCALENDAR
VERSION:2.0
PRODID:-//Brush Hill Cumberland Presbyterian Church - ECPv6.15.20//NONSGML v1.0//EN
CALSCALE:GREGORIAN
METHOD:PUBLISH
X-WR-CALNAME:Brush Hill Cumberland Presbyterian Church
X-ORIGINAL-URL:https://brushhillchurch.org
X-WR-CALDESC:Events for Brush Hill Cumberland Presbyterian Church
REFRESH-INTERVAL;VALUE=DURATION:PT1H
X-Robots-Tag:noindex
X-PUBLISHED-TTL:PT1H
BEGIN:VTIMEZONE
TZID:America/Chicago
BEGIN:DAYLIGHT
TZOFFSETFROM:-0600
TZOFFSETTO:-0500
TZNAME:CDT
DTSTART:20260308T080000
END:DAYLIGHT
BEGIN:STANDARD
TZOFFSETFROM:-0500
TZOFFSETTO:-0600
TZNAME:CST
DTSTART:20261101T070000
END:STANDARD
BEGIN:DAYLIGHT
TZOFFSETFROM:-0600
TZOFFSETTO:-0500
TZNAME:CDT
DTSTART:20270314T080000
END:DAYLIGHT
BEGIN:STANDARD
TZOFFSETFROM:-0500
TZOFFSETTO:-0600
TZNAME:CST
DTSTART:20271107T070000
END:STANDARD
BEGIN:DAYLIGHT
TZOFFSETFROM:-0600
TZOFFSETTO:-0500
TZNAME:CDT
DTSTART:20280312T080000
END:DAYLIGHT
BEGIN:STANDARD
TZOFFSETFROM:-0500
TZOFFSETTO:-0600
TZNAME:CST
DTSTART:20281105T070000
END:STANDARD
END:VTIMEZONE
BEGIN:VEVENT
DTSTART;VALUE=DATE:20270126
DTEND;VALUE=DATE:20270127
DTSTAMP:20260419T112740
CREATED:20260416T222459Z
LAST-MODIFIED:20260416T222459Z
UID:10005649-1800921600-1801007999@brushhillchurch.org
SUMMARY:Loads of Love
DESCRIPTION:Sacred Sparks Ministry is a homeless ministry and outreach of Nashville Presbytery of the Cumberland. Loads of Love meets at Brush Hill Tuesday-Thursday to allow members of the ministry to wash clothes and share a meal together.
URL:https://brushhillchurch.org/event/loads-of-love-3/2027-01-26/
LOCATION:Brush Hill Cumberland Presbyterian Church\, 3705 Brush Hill Road\, Nashville\, TN\, 37216\, United States
CATEGORIES:Community Ministry
END:VEVENT
BEGIN:VEVENT
DTSTART;VALUE=DATE:20270127
DTEND;VALUE=DATE:20270128
DTSTAMP:20260419T112740
CREATED:20260416T222459Z
LAST-MODIFIED:20260416T222459Z
UID:10005650-1801008000-1801094399@brushhillchurch.org
SUMMARY:Loads of Love
DESCRIPTION:Sacred Sparks Ministry is a homeless ministry and outreach of Nashville Presbytery of the Cumberland. Loads of Love meets at Brush Hill Tuesday-Thursday to allow members of the ministry to wash clothes and share a meal together.
URL:https://brushhillchurch.org/event/loads-of-love-3/2027-01-27/
LOCATION:Brush Hill Cumberland Presbyterian Church\, 3705 Brush Hill Road\, Nashville\, TN\, 37216\, United States
CATEGORIES:Community Ministry
END:VEVENT
BEGIN:VEVENT
DTSTART;VALUE=DATE:20270128
DTEND;VALUE=DATE:20270129
DTSTAMP:20260419T112740
CREATED:20260416T222459Z
LAST-MODIFIED:20260416T222459Z
UID:10005651-1801094400-1801180799@brushhillchurch.org
SUMMARY:Loads of Love
DESCRIPTION:Sacred Sparks Ministry is a homeless ministry and outreach of Nashville Presbytery of the Cumberland. Loads of Love meets at Brush Hill Tuesday-Thursday to allow members of the ministry to wash clothes and share a meal together.
URL:https://brushhillchurch.org/event/loads-of-love-3/2027-01-28/
LOCATION:Brush Hill Cumberland Presbyterian Church\, 3705 Brush Hill Road\, Nashville\, TN\, 37216\, United States
CATEGORIES:Community Ministry
END:VEVENT
BEGIN:VEVENT
DTSTART;VALUE=DATE:20270202
DTEND;VALUE=DATE:20270203
DTSTAMP:20260419T112740
CREATED:20260416T222459Z
LAST-MODIFIED:20260416T222459Z
UID:10005652-1801526400-1801612799@brushhillchurch.org
SUMMARY:Loads of Love
DESCRIPTION:Sacred Sparks Ministry is a homeless ministry and outreach of Nashville Presbytery of the Cumberland. Loads of Love meets at Brush Hill Tuesday-Thursday to allow members of the ministry to wash clothes and share a meal together.
URL:https://brushhillchurch.org/event/loads-of-love-3/2027-02-02/
LOCATION:Brush Hill Cumberland Presbyterian Church\, 3705 Brush Hill Road\, Nashville\, TN\, 37216\, United States
CATEGORIES:Community Ministry
END:VEVENT
BEGIN:VEVENT
DTSTART;VALUE=DATE:20270203
DTEND;VALUE=DATE:20270204
DTSTAMP:20260419T112740
CREATED:20260416T222459Z
LAST-MODIFIED:20260416T222459Z
UID:10005653-1801612800-1801699199@brushhillchurch.org
SUMMARY:Loads of Love
DESCRIPTION:Sacred Sparks Ministry is a homeless ministry and outreach of Nashville Presbytery of the Cumberland. Loads of Love meets at Brush Hill Tuesday-Thursday to allow members of the ministry to wash clothes and share a meal together.
URL:https://brushhillchurch.org/event/loads-of-love-3/2027-02-03/
LOCATION:Brush Hill Cumberland Presbyterian Church\, 3705 Brush Hill Road\, Nashville\, TN\, 37216\, United States
CATEGORIES:Community Ministry
END:VEVENT
BEGIN:VEVENT
DTSTART;VALUE=DATE:20270204
DTEND;VALUE=DATE:20270205
DTSTAMP:20260419T112740
CREATED:20260416T222459Z
LAST-MODIFIED:20260416T222459Z
UID:10005654-1801699200-1801785599@brushhillchurch.org
SUMMARY:Loads of Love
DESCRIPTION:Sacred Sparks Ministry is a homeless ministry and outreach of Nashville Presbytery of the Cumberland. Loads of Love meets at Brush Hill Tuesday-Thursday to allow members of the ministry to wash clothes and share a meal together.
URL:https://brushhillchurch.org/event/loads-of-love-3/2027-02-04/
LOCATION:Brush Hill Cumberland Presbyterian Church\, 3705 Brush Hill Road\, Nashville\, TN\, 37216\, United States
CATEGORIES:Community Ministry
END:VEVENT
BEGIN:VEVENT
DTSTART;VALUE=DATE:20270209
DTEND;VALUE=DATE:20270210
DTSTAMP:20260419T112740
CREATED:20260416T222459Z
LAST-MODIFIED:20260416T222459Z
UID:10005655-1802131200-1802217599@brushhillchurch.org
SUMMARY:Loads of Love
DESCRIPTION:Sacred Sparks Ministry is a homeless ministry and outreach of Nashville Presbytery of the Cumberland. Loads of Love meets at Brush Hill Tuesday-Thursday to allow members of the ministry to wash clothes and share a meal together.
URL:https://brushhillchurch.org/event/loads-of-love-3/2027-02-09/
LOCATION:Brush Hill Cumberland Presbyterian Church\, 3705 Brush Hill Road\, Nashville\, TN\, 37216\, United States
CATEGORIES:Community Ministry
END:VEVENT
BEGIN:VEVENT
DTSTART;VALUE=DATE:20270210
DTEND;VALUE=DATE:20270211
DTSTAMP:20260419T112740
CREATED:20260416T222459Z
LAST-MODIFIED:20260416T222459Z
UID:10005656-1802217600-1802303999@brushhillchurch.org
SUMMARY:Loads of Love
DESCRIPTION:Sacred Sparks Ministry is a homeless ministry and outreach of Nashville Presbytery of the Cumberland. Loads of Love meets at Brush Hill Tuesday-Thursday to allow members of the ministry to wash clothes and share a meal together.
URL:https://brushhillchurch.org/event/loads-of-love-3/2027-02-10/
LOCATION:Brush Hill Cumberland Presbyterian Church\, 3705 Brush Hill Road\, Nashville\, TN\, 37216\, United States
CATEGORIES:Community Ministry
END:VEVENT
BEGIN:VEVENT
DTSTART;VALUE=DATE:20270211
DTEND;VALUE=DATE:20270212
DTSTAMP:20260419T112740
CREATED:20260416T222459Z
LAST-MODIFIED:20260416T222459Z
UID:10005657-1802304000-1802390399@brushhillchurch.org
SUMMARY:Loads of Love
DESCRIPTION:Sacred Sparks Ministry is a homeless ministry and outreach of Nashville Presbytery of the Cumberland. Loads of Love meets at Brush Hill Tuesday-Thursday to allow members of the ministry to wash clothes and share a meal together.
URL:https://brushhillchurch.org/event/loads-of-love-3/2027-02-11/
LOCATION:Brush Hill Cumberland Presbyterian Church\, 3705 Brush Hill Road\, Nashville\, TN\, 37216\, United States
CATEGORIES:Community Ministry
END:VEVENT
BEGIN:VEVENT
DTSTART;VALUE=DATE:20270216
DTEND;VALUE=DATE:20270217
DTSTAMP:20260419T112740
CREATED:20260416T222459Z
LAST-MODIFIED:20260416T222459Z
UID:10005658-1802736000-1802822399@brushhillchurch.org
SUMMARY:Loads of Love
DESCRIPTION:Sacred Sparks Ministry is a homeless ministry and outreach of Nashville Presbytery of the Cumberland. Loads of Love meets at Brush Hill Tuesday-Thursday to allow members of the ministry to wash clothes and share a meal together.
URL:https://brushhillchurch.org/event/loads-of-love-3/2027-02-16/
LOCATION:Brush Hill Cumberland Presbyterian Church\, 3705 Brush Hill Road\, Nashville\, TN\, 37216\, United States
CATEGORIES:Community Ministry
END:VEVENT
BEGIN:VEVENT
DTSTART;VALUE=DATE:20270217
DTEND;VALUE=DATE:20270218
DTSTAMP:20260419T112740
CREATED:20260416T222459Z
LAST-MODIFIED:20260416T222459Z
UID:10005659-1802822400-1802908799@brushhillchurch.org
SUMMARY:Loads of Love
DESCRIPTION:Sacred Sparks Ministry is a homeless ministry and outreach of Nashville Presbytery of the Cumberland. Loads of Love meets at Brush Hill Tuesday-Thursday to allow members of the ministry to wash clothes and share a meal together.
URL:https://brushhillchurch.org/event/loads-of-love-3/2027-02-17/
LOCATION:Brush Hill Cumberland Presbyterian Church\, 3705 Brush Hill Road\, Nashville\, TN\, 37216\, United States
CATEGORIES:Community Ministry
END:VEVENT
BEGIN:VEVENT
DTSTART;VALUE=DATE:20270218
DTEND;VALUE=DATE:20270219
DTSTAMP:20260419T112740
CREATED:20260416T222459Z
LAST-MODIFIED:20260416T222459Z
UID:10005660-1802908800-1802995199@brushhillchurch.org
SUMMARY:Loads of Love
DESCRIPTION:Sacred Sparks Ministry is a homeless ministry and outreach of Nashville Presbytery of the Cumberland. Loads of Love meets at Brush Hill Tuesday-Thursday to allow members of the ministry to wash clothes and share a meal together.
URL:https://brushhillchurch.org/event/loads-of-love-3/2027-02-18/
LOCATION:Brush Hill Cumberland Presbyterian Church\, 3705 Brush Hill Road\, Nashville\, TN\, 37216\, United States
CATEGORIES:Community Ministry
END:VEVENT
BEGIN:VEVENT
DTSTART;VALUE=DATE:20270223
DTEND;VALUE=DATE:20270224
DTSTAMP:20260419T112741
CREATED:20260416T222459Z
LAST-MODIFIED:20260416T222459Z
UID:10005661-1803340800-1803427199@brushhillchurch.org
SUMMARY:Loads of Love
DESCRIPTION:Sacred Sparks Ministry is a homeless ministry and outreach of Nashville Presbytery of the Cumberland. Loads of Love meets at Brush Hill Tuesday-Thursday to allow members of the ministry to wash clothes and share a meal together.
URL:https://brushhillchurch.org/event/loads-of-love-3/2027-02-23/
LOCATION:Brush Hill Cumberland Presbyterian Church\, 3705 Brush Hill Road\, Nashville\, TN\, 37216\, United States
CATEGORIES:Community Ministry
END:VEVENT
BEGIN:VEVENT
DTSTART;VALUE=DATE:20270224
DTEND;VALUE=DATE:20270225
DTSTAMP:20260419T112741
CREATED:20260416T222459Z
LAST-MODIFIED:20260416T222459Z
UID:10005662-1803427200-1803513599@brushhillchurch.org
SUMMARY:Loads of Love
DESCRIPTION:Sacred Sparks Ministry is a homeless ministry and outreach of Nashville Presbytery of the Cumberland. Loads of Love meets at Brush Hill Tuesday-Thursday to allow members of the ministry to wash clothes and share a meal together.
URL:https://brushhillchurch.org/event/loads-of-love-3/2027-02-24/
LOCATION:Brush Hill Cumberland Presbyterian Church\, 3705 Brush Hill Road\, Nashville\, TN\, 37216\, United States
CATEGORIES:Community Ministry
END:VEVENT
BEGIN:VEVENT
DTSTART;VALUE=DATE:20270225
DTEND;VALUE=DATE:20270226
DTSTAMP:20260419T112741
CREATED:20260416T222459Z
LAST-MODIFIED:20260416T222459Z
UID:10005663-1803513600-1803599999@brushhillchurch.org
SUMMARY:Loads of Love
DESCRIPTION:Sacred Sparks Ministry is a homeless ministry and outreach of Nashville Presbytery of the Cumberland. Loads of Love meets at Brush Hill Tuesday-Thursday to allow members of the ministry to wash clothes and share a meal together.
URL:https://brushhillchurch.org/event/loads-of-love-3/2027-02-25/
LOCATION:Brush Hill Cumberland Presbyterian Church\, 3705 Brush Hill Road\, Nashville\, TN\, 37216\, United States
CATEGORIES:Community Ministry
END:VEVENT
BEGIN:VEVENT
DTSTART;VALUE=DATE:20270302
DTEND;VALUE=DATE:20270303
DTSTAMP:20260419T112741
CREATED:20260416T222459Z
LAST-MODIFIED:20260416T222459Z
UID:10005664-1803945600-1804031999@brushhillchurch.org
SUMMARY:Loads of Love
DESCRIPTION:Sacred Sparks Ministry is a homeless ministry and outreach of Nashville Presbytery of the Cumberland. Loads of Love meets at Brush Hill Tuesday-Thursday to allow members of the ministry to wash clothes and share a meal together.
URL:https://brushhillchurch.org/event/loads-of-love-3/2027-03-02/
LOCATION:Brush Hill Cumberland Presbyterian Church\, 3705 Brush Hill Road\, Nashville\, TN\, 37216\, United States
CATEGORIES:Community Ministry
END:VEVENT
BEGIN:VEVENT
DTSTART;VALUE=DATE:20270303
DTEND;VALUE=DATE:20270304
DTSTAMP:20260419T112741
CREATED:20260416T222459Z
LAST-MODIFIED:20260416T222459Z
UID:10005665-1804032000-1804118399@brushhillchurch.org
SUMMARY:Loads of Love
DESCRIPTION:Sacred Sparks Ministry is a homeless ministry and outreach of Nashville Presbytery of the Cumberland. Loads of Love meets at Brush Hill Tuesday-Thursday to allow members of the ministry to wash clothes and share a meal together.
URL:https://brushhillchurch.org/event/loads-of-love-3/2027-03-03/
LOCATION:Brush Hill Cumberland Presbyterian Church\, 3705 Brush Hill Road\, Nashville\, TN\, 37216\, United States
CATEGORIES:Community Ministry
END:VEVENT
BEGIN:VEVENT
DTSTART;VALUE=DATE:20270304
DTEND;VALUE=DATE:20270305
DTSTAMP:20260419T112741
CREATED:20260416T222459Z
LAST-MODIFIED:20260416T222459Z
UID:10005666-1804118400-1804204799@brushhillchurch.org
SUMMARY:Loads of Love
DESCRIPTION:Sacred Sparks Ministry is a homeless ministry and outreach of Nashville Presbytery of the Cumberland. Loads of Love meets at Brush Hill Tuesday-Thursday to allow members of the ministry to wash clothes and share a meal together.
URL:https://brushhillchurch.org/event/loads-of-love-3/2027-03-04/
LOCATION:Brush Hill Cumberland Presbyterian Church\, 3705 Brush Hill Road\, Nashville\, TN\, 37216\, United States
CATEGORIES:Community Ministry
END:VEVENT
BEGIN:VEVENT
DTSTART;VALUE=DATE:20270309
DTEND;VALUE=DATE:20270310
DTSTAMP:20260419T112741
CREATED:20260416T222459Z
LAST-MODIFIED:20260416T222459Z
UID:10005667-1804550400-1804636799@brushhillchurch.org
SUMMARY:Loads of Love
DESCRIPTION:Sacred Sparks Ministry is a homeless ministry and outreach of Nashville Presbytery of the Cumberland. Loads of Love meets at Brush Hill Tuesday-Thursday to allow members of the ministry to wash clothes and share a meal together.
URL:https://brushhillchurch.org/event/loads-of-love-3/2027-03-09/
LOCATION:Brush Hill Cumberland Presbyterian Church\, 3705 Brush Hill Road\, Nashville\, TN\, 37216\, United States
CATEGORIES:Community Ministry
END:VEVENT
BEGIN:VEVENT
DTSTART;VALUE=DATE:20270310
DTEND;VALUE=DATE:20270311
DTSTAMP:20260419T112741
CREATED:20260416T222459Z
LAST-MODIFIED:20260416T222459Z
UID:10005668-1804636800-1804723199@brushhillchurch.org
SUMMARY:Loads of Love
DESCRIPTION:Sacred Sparks Ministry is a homeless ministry and outreach of Nashville Presbytery of the Cumberland. Loads of Love meets at Brush Hill Tuesday-Thursday to allow members of the ministry to wash clothes and share a meal together.
URL:https://brushhillchurch.org/event/loads-of-love-3/2027-03-10/
LOCATION:Brush Hill Cumberland Presbyterian Church\, 3705 Brush Hill Road\, Nashville\, TN\, 37216\, United States
CATEGORIES:Community Ministry
END:VEVENT
BEGIN:VEVENT
DTSTART;VALUE=DATE:20270311
DTEND;VALUE=DATE:20270312
DTSTAMP:20260419T112741
CREATED:20260416T222459Z
LAST-MODIFIED:20260416T222459Z
UID:10005669-1804723200-1804809599@brushhillchurch.org
SUMMARY:Loads of Love
DESCRIPTION:Sacred Sparks Ministry is a homeless ministry and outreach of Nashville Presbytery of the Cumberland. Loads of Love meets at Brush Hill Tuesday-Thursday to allow members of the ministry to wash clothes and share a meal together.
URL:https://brushhillchurch.org/event/loads-of-love-3/2027-03-11/
LOCATION:Brush Hill Cumberland Presbyterian Church\, 3705 Brush Hill Road\, Nashville\, TN\, 37216\, United States
CATEGORIES:Community Ministry
END:VEVENT
BEGIN:VEVENT
DTSTART;VALUE=DATE:20270316
DTEND;VALUE=DATE:20270317
DTSTAMP:20260419T112741
CREATED:20260416T222459Z
LAST-MODIFIED:20260416T222459Z
UID:10005670-1805155200-1805241599@brushhillchurch.org
SUMMARY:Loads of Love
DESCRIPTION:Sacred Sparks Ministry is a homeless ministry and outreach of Nashville Presbytery of the Cumberland. Loads of Love meets at Brush Hill Tuesday-Thursday to allow members of the ministry to wash clothes and share a meal together.
URL:https://brushhillchurch.org/event/loads-of-love-3/2027-03-16/
LOCATION:Brush Hill Cumberland Presbyterian Church\, 3705 Brush Hill Road\, Nashville\, TN\, 37216\, United States
CATEGORIES:Community Ministry
END:VEVENT
BEGIN:VEVENT
DTSTART;VALUE=DATE:20270317
DTEND;VALUE=DATE:20270318
DTSTAMP:20260419T112741
CREATED:20260416T222459Z
LAST-MODIFIED:20260416T222459Z
UID:10005671-1805241600-1805327999@brushhillchurch.org
SUMMARY:Loads of Love
DESCRIPTION:Sacred Sparks Ministry is a homeless ministry and outreach of Nashville Presbytery of the Cumberland. Loads of Love meets at Brush Hill Tuesday-Thursday to allow members of the ministry to wash clothes and share a meal together.
URL:https://brushhillchurch.org/event/loads-of-love-3/2027-03-17/
LOCATION:Brush Hill Cumberland Presbyterian Church\, 3705 Brush Hill Road\, Nashville\, TN\, 37216\, United States
CATEGORIES:Community Ministry
END:VEVENT
BEGIN:VEVENT
DTSTART;VALUE=DATE:20270318
DTEND;VALUE=DATE:20270319
DTSTAMP:20260419T112741
CREATED:20260416T222459Z
LAST-MODIFIED:20260416T222459Z
UID:10005672-1805328000-1805414399@brushhillchurch.org
SUMMARY:Loads of Love
DESCRIPTION:Sacred Sparks Ministry is a homeless ministry and outreach of Nashville Presbytery of the Cumberland. Loads of Love meets at Brush Hill Tuesday-Thursday to allow members of the ministry to wash clothes and share a meal together.
URL:https://brushhillchurch.org/event/loads-of-love-3/2027-03-18/
LOCATION:Brush Hill Cumberland Presbyterian Church\, 3705 Brush Hill Road\, Nashville\, TN\, 37216\, United States
CATEGORIES:Community Ministry
END:VEVENT
BEGIN:VEVENT
DTSTART;VALUE=DATE:20270323
DTEND;VALUE=DATE:20270324
DTSTAMP:20260419T112741
CREATED:20260416T222459Z
LAST-MODIFIED:20260416T222459Z
UID:10005673-1805760000-1805846399@brushhillchurch.org
SUMMARY:Loads of Love
DESCRIPTION:Sacred Sparks Ministry is a homeless ministry and outreach of Nashville Presbytery of the Cumberland. Loads of Love meets at Brush Hill Tuesday-Thursday to allow members of the ministry to wash clothes and share a meal together.
URL:https://brushhillchurch.org/event/loads-of-love-3/2027-03-23/
LOCATION:Brush Hill Cumberland Presbyterian Church\, 3705 Brush Hill Road\, Nashville\, TN\, 37216\, United States
CATEGORIES:Community Ministry
END:VEVENT
BEGIN:VEVENT
DTSTART;VALUE=DATE:20270324
DTEND;VALUE=DATE:20270325
DTSTAMP:20260419T112741
CREATED:20260416T222459Z
LAST-MODIFIED:20260416T222459Z
UID:10005674-1805846400-1805932799@brushhillchurch.org
SUMMARY:Loads of Love
DESCRIPTION:Sacred Sparks Ministry is a homeless ministry and outreach of Nashville Presbytery of the Cumberland. Loads of Love meets at Brush Hill Tuesday-Thursday to allow members of the ministry to wash clothes and share a meal together.
URL:https://brushhillchurch.org/event/loads-of-love-3/2027-03-24/
LOCATION:Brush Hill Cumberland Presbyterian Church\, 3705 Brush Hill Road\, Nashville\, TN\, 37216\, United States
CATEGORIES:Community Ministry
END:VEVENT
BEGIN:VEVENT
DTSTART;VALUE=DATE:20270325
DTEND;VALUE=DATE:20270326
DTSTAMP:20260419T112741
CREATED:20260416T222459Z
LAST-MODIFIED:20260416T222459Z
UID:10005675-1805932800-1806019199@brushhillchurch.org
SUMMARY:Loads of Love
DESCRIPTION:Sacred Sparks Ministry is a homeless ministry and outreach of Nashville Presbytery of the Cumberland. Loads of Love meets at Brush Hill Tuesday-Thursday to allow members of the ministry to wash clothes and share a meal together.
URL:https://brushhillchurch.org/event/loads-of-love-3/2027-03-25/
LOCATION:Brush Hill Cumberland Presbyterian Church\, 3705 Brush Hill Road\, Nashville\, TN\, 37216\, United States
CATEGORIES:Community Ministry
END:VEVENT
BEGIN:VEVENT
DTSTART;VALUE=DATE:20270330
DTEND;VALUE=DATE:20270331
DTSTAMP:20260419T112741
CREATED:20260416T222459Z
LAST-MODIFIED:20260416T222459Z
UID:10005676-1806364800-1806451199@brushhillchurch.org
SUMMARY:Loads of Love
DESCRIPTION:Sacred Sparks Ministry is a homeless ministry and outreach of Nashville Presbytery of the Cumberland. Loads of Love meets at Brush Hill Tuesday-Thursday to allow members of the ministry to wash clothes and share a meal together.
URL:https://brushhillchurch.org/event/loads-of-love-3/2027-03-30/
LOCATION:Brush Hill Cumberland Presbyterian Church\, 3705 Brush Hill Road\, Nashville\, TN\, 37216\, United States
CATEGORIES:Community Ministry
END:VEVENT
BEGIN:VEVENT
DTSTART;VALUE=DATE:20270331
DTEND;VALUE=DATE:20270401
DTSTAMP:20260419T112741
CREATED:20260416T222459Z
LAST-MODIFIED:20260416T222459Z
UID:10005677-1806451200-1806537599@brushhillchurch.org
SUMMARY:Loads of Love
DESCRIPTION:Sacred Sparks Ministry is a homeless ministry and outreach of Nashville Presbytery of the Cumberland. Loads of Love meets at Brush Hill Tuesday-Thursday to allow members of the ministry to wash clothes and share a meal together.
URL:https://brushhillchurch.org/event/loads-of-love-3/2027-03-31/
LOCATION:Brush Hill Cumberland Presbyterian Church\, 3705 Brush Hill Road\, Nashville\, TN\, 37216\, United States
CATEGORIES:Community Ministry
END:VEVENT
BEGIN:VEVENT
DTSTART;VALUE=DATE:20270401
DTEND;VALUE=DATE:20270402
DTSTAMP:20260419T112741
CREATED:20260416T222459Z
LAST-MODIFIED:20260416T222459Z
UID:10005678-1806537600-1806623999@brushhillchurch.org
SUMMARY:Loads of Love
DESCRIPTION:Sacred Sparks Ministry is a homeless ministry and outreach of Nashville Presbytery of the Cumberland. Loads of Love meets at Brush Hill Tuesday-Thursday to allow members of the ministry to wash clothes and share a meal together.
URL:https://brushhillchurch.org/event/loads-of-love-3/2027-04-01/
LOCATION:Brush Hill Cumberland Presbyterian Church\, 3705 Brush Hill Road\, Nashville\, TN\, 37216\, United States
CATEGORIES:Community Ministry
END:VEVENT
END:VCALENDAR