BEGIN:VCALENDAR
VERSION:2.0
PRODID:-//Brush Hill Cumberland Presbyterian Church - ECPv6.15.20//NONSGML v1.0//EN
CALSCALE:GREGORIAN
METHOD:PUBLISH
X-ORIGINAL-URL:https://brushhillchurch.org
X-WR-CALDESC:Events for Brush Hill Cumberland Presbyterian Church
REFRESH-INTERVAL;VALUE=DURATION:PT1H
X-Robots-Tag:noindex
X-PUBLISHED-TTL:PT1H
BEGIN:VTIMEZONE
TZID:America/Chicago
BEGIN:DAYLIGHT
TZOFFSETFROM:-0600
TZOFFSETTO:-0500
TZNAME:CDT
DTSTART:20260308T080000
END:DAYLIGHT
BEGIN:STANDARD
TZOFFSETFROM:-0500
TZOFFSETTO:-0600
TZNAME:CST
DTSTART:20261101T070000
END:STANDARD
BEGIN:DAYLIGHT
TZOFFSETFROM:-0600
TZOFFSETTO:-0500
TZNAME:CDT
DTSTART:20270314T080000
END:DAYLIGHT
BEGIN:STANDARD
TZOFFSETFROM:-0500
TZOFFSETTO:-0600
TZNAME:CST
DTSTART:20271107T070000
END:STANDARD
BEGIN:DAYLIGHT
TZOFFSETFROM:-0600
TZOFFSETTO:-0500
TZNAME:CDT
DTSTART:20280312T080000
END:DAYLIGHT
BEGIN:STANDARD
TZOFFSETFROM:-0500
TZOFFSETTO:-0600
TZNAME:CST
DTSTART:20281105T070000
END:STANDARD
END:VTIMEZONE
BEGIN:VEVENT
DTSTART;VALUE=DATE:20270406
DTEND;VALUE=DATE:20270407
DTSTAMP:20260419T152109
CREATED:20260416T222459Z
LAST-MODIFIED:20260416T222459Z
UID:10005679-1806969600-1807055999@brushhillchurch.org
SUMMARY:Loads of Love
DESCRIPTION:Sacred Sparks Ministry is a homeless ministry and outreach of Nashville Presbytery of the Cumberland. Loads of Love meets at Brush Hill Tuesday-Thursday to allow members of the ministry to wash clothes and share a meal together.
URL:https://brushhillchurch.org/event/loads-of-love-3/2027-04-06/
LOCATION:Brush Hill Cumberland Presbyterian Church\, 3705 Brush Hill Road\, Nashville\, TN\, 37216\, United States
CATEGORIES:Community Ministry
END:VEVENT
BEGIN:VEVENT
DTSTART;VALUE=DATE:20270407
DTEND;VALUE=DATE:20270408
DTSTAMP:20260419T152109
CREATED:20260416T222459Z
LAST-MODIFIED:20260416T222459Z
UID:10005680-1807056000-1807142399@brushhillchurch.org
SUMMARY:Loads of Love
DESCRIPTION:Sacred Sparks Ministry is a homeless ministry and outreach of Nashville Presbytery of the Cumberland. Loads of Love meets at Brush Hill Tuesday-Thursday to allow members of the ministry to wash clothes and share a meal together.
URL:https://brushhillchurch.org/event/loads-of-love-3/2027-04-07/
LOCATION:Brush Hill Cumberland Presbyterian Church\, 3705 Brush Hill Road\, Nashville\, TN\, 37216\, United States
CATEGORIES:Community Ministry
END:VEVENT
BEGIN:VEVENT
DTSTART;VALUE=DATE:20270408
DTEND;VALUE=DATE:20270409
DTSTAMP:20260419T152109
CREATED:20260416T222459Z
LAST-MODIFIED:20260416T222459Z
UID:10005681-1807142400-1807228799@brushhillchurch.org
SUMMARY:Loads of Love
DESCRIPTION:Sacred Sparks Ministry is a homeless ministry and outreach of Nashville Presbytery of the Cumberland. Loads of Love meets at Brush Hill Tuesday-Thursday to allow members of the ministry to wash clothes and share a meal together.
URL:https://brushhillchurch.org/event/loads-of-love-3/2027-04-08/
LOCATION:Brush Hill Cumberland Presbyterian Church\, 3705 Brush Hill Road\, Nashville\, TN\, 37216\, United States
CATEGORIES:Community Ministry
END:VEVENT
BEGIN:VEVENT
DTSTART;VALUE=DATE:20270413
DTEND;VALUE=DATE:20270414
DTSTAMP:20260419T152109
CREATED:20260416T222459Z
LAST-MODIFIED:20260416T222459Z
UID:10005682-1807574400-1807660799@brushhillchurch.org
SUMMARY:Loads of Love
DESCRIPTION:Sacred Sparks Ministry is a homeless ministry and outreach of Nashville Presbytery of the Cumberland. Loads of Love meets at Brush Hill Tuesday-Thursday to allow members of the ministry to wash clothes and share a meal together.
URL:https://brushhillchurch.org/event/loads-of-love-3/2027-04-13/
LOCATION:Brush Hill Cumberland Presbyterian Church\, 3705 Brush Hill Road\, Nashville\, TN\, 37216\, United States
CATEGORIES:Community Ministry
END:VEVENT
BEGIN:VEVENT
DTSTART;VALUE=DATE:20270414
DTEND;VALUE=DATE:20270415
DTSTAMP:20260419T152109
CREATED:20260416T222459Z
LAST-MODIFIED:20260416T222459Z
UID:10005683-1807660800-1807747199@brushhillchurch.org
SUMMARY:Loads of Love
DESCRIPTION:Sacred Sparks Ministry is a homeless ministry and outreach of Nashville Presbytery of the Cumberland. Loads of Love meets at Brush Hill Tuesday-Thursday to allow members of the ministry to wash clothes and share a meal together.
URL:https://brushhillchurch.org/event/loads-of-love-3/2027-04-14/
LOCATION:Brush Hill Cumberland Presbyterian Church\, 3705 Brush Hill Road\, Nashville\, TN\, 37216\, United States
CATEGORIES:Community Ministry
END:VEVENT
BEGIN:VEVENT
DTSTART;VALUE=DATE:20270415
DTEND;VALUE=DATE:20270416
DTSTAMP:20260419T152109
CREATED:20260416T222459Z
LAST-MODIFIED:20260416T222459Z
UID:10005684-1807747200-1807833599@brushhillchurch.org
SUMMARY:Loads of Love
DESCRIPTION:Sacred Sparks Ministry is a homeless ministry and outreach of Nashville Presbytery of the Cumberland. Loads of Love meets at Brush Hill Tuesday-Thursday to allow members of the ministry to wash clothes and share a meal together.
URL:https://brushhillchurch.org/event/loads-of-love-3/2027-04-15/
LOCATION:Brush Hill Cumberland Presbyterian Church\, 3705 Brush Hill Road\, Nashville\, TN\, 37216\, United States
CATEGORIES:Community Ministry
END:VEVENT
BEGIN:VEVENT
DTSTART;VALUE=DATE:20270420
DTEND;VALUE=DATE:20270421
DTSTAMP:20260419T152109
CREATED:20260416T222459Z
LAST-MODIFIED:20260416T222459Z
UID:10005685-1808179200-1808265599@brushhillchurch.org
SUMMARY:Loads of Love
DESCRIPTION:Sacred Sparks Ministry is a homeless ministry and outreach of Nashville Presbytery of the Cumberland. Loads of Love meets at Brush Hill Tuesday-Thursday to allow members of the ministry to wash clothes and share a meal together.
URL:https://brushhillchurch.org/event/loads-of-love-3/2027-04-20/
LOCATION:Brush Hill Cumberland Presbyterian Church\, 3705 Brush Hill Road\, Nashville\, TN\, 37216\, United States
CATEGORIES:Community Ministry
END:VEVENT
BEGIN:VEVENT
DTSTART;VALUE=DATE:20270421
DTEND;VALUE=DATE:20270422
DTSTAMP:20260419T152109
CREATED:20260416T222459Z
LAST-MODIFIED:20260416T222459Z
UID:10005686-1808265600-1808351999@brushhillchurch.org
SUMMARY:Loads of Love
DESCRIPTION:Sacred Sparks Ministry is a homeless ministry and outreach of Nashville Presbytery of the Cumberland. Loads of Love meets at Brush Hill Tuesday-Thursday to allow members of the ministry to wash clothes and share a meal together.
URL:https://brushhillchurch.org/event/loads-of-love-3/2027-04-21/
LOCATION:Brush Hill Cumberland Presbyterian Church\, 3705 Brush Hill Road\, Nashville\, TN\, 37216\, United States
CATEGORIES:Community Ministry
END:VEVENT
BEGIN:VEVENT
DTSTART;VALUE=DATE:20270422
DTEND;VALUE=DATE:20270423
DTSTAMP:20260419T152109
CREATED:20260416T222459Z
LAST-MODIFIED:20260416T222459Z
UID:10005687-1808352000-1808438399@brushhillchurch.org
SUMMARY:Loads of Love
DESCRIPTION:Sacred Sparks Ministry is a homeless ministry and outreach of Nashville Presbytery of the Cumberland. Loads of Love meets at Brush Hill Tuesday-Thursday to allow members of the ministry to wash clothes and share a meal together.
URL:https://brushhillchurch.org/event/loads-of-love-3/2027-04-22/
LOCATION:Brush Hill Cumberland Presbyterian Church\, 3705 Brush Hill Road\, Nashville\, TN\, 37216\, United States
CATEGORIES:Community Ministry
END:VEVENT
BEGIN:VEVENT
DTSTART;VALUE=DATE:20270427
DTEND;VALUE=DATE:20270428
DTSTAMP:20260419T152109
CREATED:20260416T222459Z
LAST-MODIFIED:20260416T222459Z
UID:10005688-1808784000-1808870399@brushhillchurch.org
SUMMARY:Loads of Love
DESCRIPTION:Sacred Sparks Ministry is a homeless ministry and outreach of Nashville Presbytery of the Cumberland. Loads of Love meets at Brush Hill Tuesday-Thursday to allow members of the ministry to wash clothes and share a meal together.
URL:https://brushhillchurch.org/event/loads-of-love-3/2027-04-27/
LOCATION:Brush Hill Cumberland Presbyterian Church\, 3705 Brush Hill Road\, Nashville\, TN\, 37216\, United States
CATEGORIES:Community Ministry
END:VEVENT
BEGIN:VEVENT
DTSTART;VALUE=DATE:20270428
DTEND;VALUE=DATE:20270429
DTSTAMP:20260419T152109
CREATED:20260416T222459Z
LAST-MODIFIED:20260416T222459Z
UID:10005689-1808870400-1808956799@brushhillchurch.org
SUMMARY:Loads of Love
DESCRIPTION:Sacred Sparks Ministry is a homeless ministry and outreach of Nashville Presbytery of the Cumberland. Loads of Love meets at Brush Hill Tuesday-Thursday to allow members of the ministry to wash clothes and share a meal together.
URL:https://brushhillchurch.org/event/loads-of-love-3/2027-04-28/
LOCATION:Brush Hill Cumberland Presbyterian Church\, 3705 Brush Hill Road\, Nashville\, TN\, 37216\, United States
CATEGORIES:Community Ministry
END:VEVENT
BEGIN:VEVENT
DTSTART;VALUE=DATE:20270429
DTEND;VALUE=DATE:20270430
DTSTAMP:20260419T152109
CREATED:20260416T222459Z
LAST-MODIFIED:20260416T222459Z
UID:10005690-1808956800-1809043199@brushhillchurch.org
SUMMARY:Loads of Love
DESCRIPTION:Sacred Sparks Ministry is a homeless ministry and outreach of Nashville Presbytery of the Cumberland. Loads of Love meets at Brush Hill Tuesday-Thursday to allow members of the ministry to wash clothes and share a meal together.
URL:https://brushhillchurch.org/event/loads-of-love-3/2027-04-29/
LOCATION:Brush Hill Cumberland Presbyterian Church\, 3705 Brush Hill Road\, Nashville\, TN\, 37216\, United States
CATEGORIES:Community Ministry
END:VEVENT
BEGIN:VEVENT
DTSTART;VALUE=DATE:20270504
DTEND;VALUE=DATE:20270505
DTSTAMP:20260419T152109
CREATED:20260416T222459Z
LAST-MODIFIED:20260416T222459Z
UID:10005691-1809388800-1809475199@brushhillchurch.org
SUMMARY:Loads of Love
DESCRIPTION:Sacred Sparks Ministry is a homeless ministry and outreach of Nashville Presbytery of the Cumberland. Loads of Love meets at Brush Hill Tuesday-Thursday to allow members of the ministry to wash clothes and share a meal together.
URL:https://brushhillchurch.org/event/loads-of-love-3/2027-05-04/
LOCATION:Brush Hill Cumberland Presbyterian Church\, 3705 Brush Hill Road\, Nashville\, TN\, 37216\, United States
CATEGORIES:Community Ministry
END:VEVENT
BEGIN:VEVENT
DTSTART;VALUE=DATE:20270505
DTEND;VALUE=DATE:20270506
DTSTAMP:20260419T152109
CREATED:20260416T222459Z
LAST-MODIFIED:20260416T222459Z
UID:10005692-1809475200-1809561599@brushhillchurch.org
SUMMARY:Loads of Love
DESCRIPTION:Sacred Sparks Ministry is a homeless ministry and outreach of Nashville Presbytery of the Cumberland. Loads of Love meets at Brush Hill Tuesday-Thursday to allow members of the ministry to wash clothes and share a meal together.
URL:https://brushhillchurch.org/event/loads-of-love-3/2027-05-05/
LOCATION:Brush Hill Cumberland Presbyterian Church\, 3705 Brush Hill Road\, Nashville\, TN\, 37216\, United States
CATEGORIES:Community Ministry
END:VEVENT
BEGIN:VEVENT
DTSTART;VALUE=DATE:20270506
DTEND;VALUE=DATE:20270507
DTSTAMP:20260419T152109
CREATED:20260416T222459Z
LAST-MODIFIED:20260416T222459Z
UID:10005693-1809561600-1809647999@brushhillchurch.org
SUMMARY:Loads of Love
DESCRIPTION:Sacred Sparks Ministry is a homeless ministry and outreach of Nashville Presbytery of the Cumberland. Loads of Love meets at Brush Hill Tuesday-Thursday to allow members of the ministry to wash clothes and share a meal together.
URL:https://brushhillchurch.org/event/loads-of-love-3/2027-05-06/
LOCATION:Brush Hill Cumberland Presbyterian Church\, 3705 Brush Hill Road\, Nashville\, TN\, 37216\, United States
CATEGORIES:Community Ministry
END:VEVENT
BEGIN:VEVENT
DTSTART;VALUE=DATE:20270511
DTEND;VALUE=DATE:20270512
DTSTAMP:20260419T152109
CREATED:20260416T222459Z
LAST-MODIFIED:20260416T222459Z
UID:10005694-1809993600-1810079999@brushhillchurch.org
SUMMARY:Loads of Love
DESCRIPTION:Sacred Sparks Ministry is a homeless ministry and outreach of Nashville Presbytery of the Cumberland. Loads of Love meets at Brush Hill Tuesday-Thursday to allow members of the ministry to wash clothes and share a meal together.
URL:https://brushhillchurch.org/event/loads-of-love-3/2027-05-11/
LOCATION:Brush Hill Cumberland Presbyterian Church\, 3705 Brush Hill Road\, Nashville\, TN\, 37216\, United States
CATEGORIES:Community Ministry
END:VEVENT
BEGIN:VEVENT
DTSTART;VALUE=DATE:20270512
DTEND;VALUE=DATE:20270513
DTSTAMP:20260419T152109
CREATED:20260416T222459Z
LAST-MODIFIED:20260416T222459Z
UID:10005695-1810080000-1810166399@brushhillchurch.org
SUMMARY:Loads of Love
DESCRIPTION:Sacred Sparks Ministry is a homeless ministry and outreach of Nashville Presbytery of the Cumberland. Loads of Love meets at Brush Hill Tuesday-Thursday to allow members of the ministry to wash clothes and share a meal together.
URL:https://brushhillchurch.org/event/loads-of-love-3/2027-05-12/
LOCATION:Brush Hill Cumberland Presbyterian Church\, 3705 Brush Hill Road\, Nashville\, TN\, 37216\, United States
CATEGORIES:Community Ministry
END:VEVENT
BEGIN:VEVENT
DTSTART;VALUE=DATE:20270513
DTEND;VALUE=DATE:20270514
DTSTAMP:20260419T152109
CREATED:20260416T222459Z
LAST-MODIFIED:20260416T222459Z
UID:10005696-1810166400-1810252799@brushhillchurch.org
SUMMARY:Loads of Love
DESCRIPTION:Sacred Sparks Ministry is a homeless ministry and outreach of Nashville Presbytery of the Cumberland. Loads of Love meets at Brush Hill Tuesday-Thursday to allow members of the ministry to wash clothes and share a meal together.
URL:https://brushhillchurch.org/event/loads-of-love-3/2027-05-13/
LOCATION:Brush Hill Cumberland Presbyterian Church\, 3705 Brush Hill Road\, Nashville\, TN\, 37216\, United States
CATEGORIES:Community Ministry
END:VEVENT
BEGIN:VEVENT
DTSTART;VALUE=DATE:20270518
DTEND;VALUE=DATE:20270519
DTSTAMP:20260419T152109
CREATED:20260416T222459Z
LAST-MODIFIED:20260416T222459Z
UID:10005697-1810598400-1810684799@brushhillchurch.org
SUMMARY:Loads of Love
DESCRIPTION:Sacred Sparks Ministry is a homeless ministry and outreach of Nashville Presbytery of the Cumberland. Loads of Love meets at Brush Hill Tuesday-Thursday to allow members of the ministry to wash clothes and share a meal together.
URL:https://brushhillchurch.org/event/loads-of-love-3/2027-05-18/
LOCATION:Brush Hill Cumberland Presbyterian Church\, 3705 Brush Hill Road\, Nashville\, TN\, 37216\, United States
CATEGORIES:Community Ministry
END:VEVENT
BEGIN:VEVENT
DTSTART;VALUE=DATE:20270519
DTEND;VALUE=DATE:20270520
DTSTAMP:20260419T152109
CREATED:20260416T222459Z
LAST-MODIFIED:20260416T222459Z
UID:10005698-1810684800-1810771199@brushhillchurch.org
SUMMARY:Loads of Love
DESCRIPTION:Sacred Sparks Ministry is a homeless ministry and outreach of Nashville Presbytery of the Cumberland. Loads of Love meets at Brush Hill Tuesday-Thursday to allow members of the ministry to wash clothes and share a meal together.
URL:https://brushhillchurch.org/event/loads-of-love-3/2027-05-19/
LOCATION:Brush Hill Cumberland Presbyterian Church\, 3705 Brush Hill Road\, Nashville\, TN\, 37216\, United States
CATEGORIES:Community Ministry
END:VEVENT
BEGIN:VEVENT
DTSTART;VALUE=DATE:20270520
DTEND;VALUE=DATE:20270521
DTSTAMP:20260419T152109
CREATED:20260416T222459Z
LAST-MODIFIED:20260416T222459Z
UID:10005699-1810771200-1810857599@brushhillchurch.org
SUMMARY:Loads of Love
DESCRIPTION:Sacred Sparks Ministry is a homeless ministry and outreach of Nashville Presbytery of the Cumberland. Loads of Love meets at Brush Hill Tuesday-Thursday to allow members of the ministry to wash clothes and share a meal together.
URL:https://brushhillchurch.org/event/loads-of-love-3/2027-05-20/
LOCATION:Brush Hill Cumberland Presbyterian Church\, 3705 Brush Hill Road\, Nashville\, TN\, 37216\, United States
CATEGORIES:Community Ministry
END:VEVENT
BEGIN:VEVENT
DTSTART;VALUE=DATE:20270525
DTEND;VALUE=DATE:20270526
DTSTAMP:20260419T152109
CREATED:20260416T222459Z
LAST-MODIFIED:20260416T222459Z
UID:10005700-1811203200-1811289599@brushhillchurch.org
SUMMARY:Loads of Love
DESCRIPTION:Sacred Sparks Ministry is a homeless ministry and outreach of Nashville Presbytery of the Cumberland. Loads of Love meets at Brush Hill Tuesday-Thursday to allow members of the ministry to wash clothes and share a meal together.
URL:https://brushhillchurch.org/event/loads-of-love-3/2027-05-25/
LOCATION:Brush Hill Cumberland Presbyterian Church\, 3705 Brush Hill Road\, Nashville\, TN\, 37216\, United States
CATEGORIES:Community Ministry
END:VEVENT
BEGIN:VEVENT
DTSTART;VALUE=DATE:20270526
DTEND;VALUE=DATE:20270527
DTSTAMP:20260419T152109
CREATED:20260416T222459Z
LAST-MODIFIED:20260416T222459Z
UID:10005701-1811289600-1811375999@brushhillchurch.org
SUMMARY:Loads of Love
DESCRIPTION:Sacred Sparks Ministry is a homeless ministry and outreach of Nashville Presbytery of the Cumberland. Loads of Love meets at Brush Hill Tuesday-Thursday to allow members of the ministry to wash clothes and share a meal together.
URL:https://brushhillchurch.org/event/loads-of-love-3/2027-05-26/
LOCATION:Brush Hill Cumberland Presbyterian Church\, 3705 Brush Hill Road\, Nashville\, TN\, 37216\, United States
CATEGORIES:Community Ministry
END:VEVENT
BEGIN:VEVENT
DTSTART;VALUE=DATE:20270527
DTEND;VALUE=DATE:20270528
DTSTAMP:20260419T152109
CREATED:20260416T222459Z
LAST-MODIFIED:20260416T222459Z
UID:10005702-1811376000-1811462399@brushhillchurch.org
SUMMARY:Loads of Love
DESCRIPTION:Sacred Sparks Ministry is a homeless ministry and outreach of Nashville Presbytery of the Cumberland. Loads of Love meets at Brush Hill Tuesday-Thursday to allow members of the ministry to wash clothes and share a meal together.
URL:https://brushhillchurch.org/event/loads-of-love-3/2027-05-27/
LOCATION:Brush Hill Cumberland Presbyterian Church\, 3705 Brush Hill Road\, Nashville\, TN\, 37216\, United States
CATEGORIES:Community Ministry
END:VEVENT
BEGIN:VEVENT
DTSTART;VALUE=DATE:20270601
DTEND;VALUE=DATE:20270602
DTSTAMP:20260419T152109
CREATED:20260416T222459Z
LAST-MODIFIED:20260416T222459Z
UID:10005703-1811808000-1811894399@brushhillchurch.org
SUMMARY:Loads of Love
DESCRIPTION:Sacred Sparks Ministry is a homeless ministry and outreach of Nashville Presbytery of the Cumberland. Loads of Love meets at Brush Hill Tuesday-Thursday to allow members of the ministry to wash clothes and share a meal together.
URL:https://brushhillchurch.org/event/loads-of-love-3/2027-06-01/
LOCATION:Brush Hill Cumberland Presbyterian Church\, 3705 Brush Hill Road\, Nashville\, TN\, 37216\, United States
CATEGORIES:Community Ministry
END:VEVENT
BEGIN:VEVENT
DTSTART;VALUE=DATE:20270602
DTEND;VALUE=DATE:20270603
DTSTAMP:20260419T152109
CREATED:20260416T222459Z
LAST-MODIFIED:20260416T222459Z
UID:10005704-1811894400-1811980799@brushhillchurch.org
SUMMARY:Loads of Love
DESCRIPTION:Sacred Sparks Ministry is a homeless ministry and outreach of Nashville Presbytery of the Cumberland. Loads of Love meets at Brush Hill Tuesday-Thursday to allow members of the ministry to wash clothes and share a meal together.
URL:https://brushhillchurch.org/event/loads-of-love-3/2027-06-02/
LOCATION:Brush Hill Cumberland Presbyterian Church\, 3705 Brush Hill Road\, Nashville\, TN\, 37216\, United States
CATEGORIES:Community Ministry
END:VEVENT
BEGIN:VEVENT
DTSTART;VALUE=DATE:20270603
DTEND;VALUE=DATE:20270604
DTSTAMP:20260419T152109
CREATED:20260416T222459Z
LAST-MODIFIED:20260416T222459Z
UID:10005705-1811980800-1812067199@brushhillchurch.org
SUMMARY:Loads of Love
DESCRIPTION:Sacred Sparks Ministry is a homeless ministry and outreach of Nashville Presbytery of the Cumberland. Loads of Love meets at Brush Hill Tuesday-Thursday to allow members of the ministry to wash clothes and share a meal together.
URL:https://brushhillchurch.org/event/loads-of-love-3/2027-06-03/
LOCATION:Brush Hill Cumberland Presbyterian Church\, 3705 Brush Hill Road\, Nashville\, TN\, 37216\, United States
CATEGORIES:Community Ministry
END:VEVENT
BEGIN:VEVENT
DTSTART;VALUE=DATE:20270608
DTEND;VALUE=DATE:20270609
DTSTAMP:20260419T152109
CREATED:20260416T222459Z
LAST-MODIFIED:20260416T222459Z
UID:10005706-1812412800-1812499199@brushhillchurch.org
SUMMARY:Loads of Love
DESCRIPTION:Sacred Sparks Ministry is a homeless ministry and outreach of Nashville Presbytery of the Cumberland. Loads of Love meets at Brush Hill Tuesday-Thursday to allow members of the ministry to wash clothes and share a meal together.
URL:https://brushhillchurch.org/event/loads-of-love-3/2027-06-08/
LOCATION:Brush Hill Cumberland Presbyterian Church\, 3705 Brush Hill Road\, Nashville\, TN\, 37216\, United States
CATEGORIES:Community Ministry
END:VEVENT
BEGIN:VEVENT
DTSTART;VALUE=DATE:20270609
DTEND;VALUE=DATE:20270610
DTSTAMP:20260419T152109
CREATED:20260416T222459Z
LAST-MODIFIED:20260416T222459Z
UID:10005707-1812499200-1812585599@brushhillchurch.org
SUMMARY:Loads of Love
DESCRIPTION:Sacred Sparks Ministry is a homeless ministry and outreach of Nashville Presbytery of the Cumberland. Loads of Love meets at Brush Hill Tuesday-Thursday to allow members of the ministry to wash clothes and share a meal together.
URL:https://brushhillchurch.org/event/loads-of-love-3/2027-06-09/
LOCATION:Brush Hill Cumberland Presbyterian Church\, 3705 Brush Hill Road\, Nashville\, TN\, 37216\, United States
CATEGORIES:Community Ministry
END:VEVENT
BEGIN:VEVENT
DTSTART;VALUE=DATE:20270610
DTEND;VALUE=DATE:20270611
DTSTAMP:20260419T152109
CREATED:20260416T222459Z
LAST-MODIFIED:20260416T222459Z
UID:10005708-1812585600-1812671999@brushhillchurch.org
SUMMARY:Loads of Love
DESCRIPTION:Sacred Sparks Ministry is a homeless ministry and outreach of Nashville Presbytery of the Cumberland. Loads of Love meets at Brush Hill Tuesday-Thursday to allow members of the ministry to wash clothes and share a meal together.
URL:https://brushhillchurch.org/event/loads-of-love-3/2027-06-10/
LOCATION:Brush Hill Cumberland Presbyterian Church\, 3705 Brush Hill Road\, Nashville\, TN\, 37216\, United States
CATEGORIES:Community Ministry
END:VEVENT
END:VCALENDAR