BEGIN:VCALENDAR
VERSION:2.0
PRODID:-//Brush Hill Cumberland Presbyterian Church - ECPv6.15.20//NONSGML v1.0//EN
CALSCALE:GREGORIAN
METHOD:PUBLISH
X-WR-CALNAME:Brush Hill Cumberland Presbyterian Church
X-ORIGINAL-URL:https://brushhillchurch.org
X-WR-CALDESC:Events for Brush Hill Cumberland Presbyterian Church
REFRESH-INTERVAL;VALUE=DURATION:PT1H
X-Robots-Tag:noindex
X-PUBLISHED-TTL:PT1H
BEGIN:VTIMEZONE
TZID:America/Chicago
BEGIN:DAYLIGHT
TZOFFSETFROM:-0600
TZOFFSETTO:-0500
TZNAME:CDT
DTSTART:20260308T080000
END:DAYLIGHT
BEGIN:STANDARD
TZOFFSETFROM:-0500
TZOFFSETTO:-0600
TZNAME:CST
DTSTART:20261101T070000
END:STANDARD
BEGIN:DAYLIGHT
TZOFFSETFROM:-0600
TZOFFSETTO:-0500
TZNAME:CDT
DTSTART:20270314T080000
END:DAYLIGHT
BEGIN:STANDARD
TZOFFSETFROM:-0500
TZOFFSETTO:-0600
TZNAME:CST
DTSTART:20271107T070000
END:STANDARD
BEGIN:DAYLIGHT
TZOFFSETFROM:-0600
TZOFFSETTO:-0500
TZNAME:CDT
DTSTART:20280312T080000
END:DAYLIGHT
BEGIN:STANDARD
TZOFFSETFROM:-0500
TZOFFSETTO:-0600
TZNAME:CST
DTSTART:20281105T070000
END:STANDARD
END:VTIMEZONE
BEGIN:VEVENT
DTSTART;VALUE=DATE:20270615
DTEND;VALUE=DATE:20270616
DTSTAMP:20260419T205314
CREATED:20260416T222459Z
LAST-MODIFIED:20260416T222459Z
UID:10005709-1813017600-1813103999@brushhillchurch.org
SUMMARY:Loads of Love
DESCRIPTION:Sacred Sparks Ministry is a homeless ministry and outreach of Nashville Presbytery of the Cumberland. Loads of Love meets at Brush Hill Tuesday-Thursday to allow members of the ministry to wash clothes and share a meal together.
URL:https://brushhillchurch.org/event/loads-of-love-3/2027-06-15/
LOCATION:Brush Hill Cumberland Presbyterian Church\, 3705 Brush Hill Road\, Nashville\, TN\, 37216\, United States
CATEGORIES:Community Ministry
END:VEVENT
BEGIN:VEVENT
DTSTART;VALUE=DATE:20270616
DTEND;VALUE=DATE:20270617
DTSTAMP:20260419T205314
CREATED:20260416T222459Z
LAST-MODIFIED:20260416T222459Z
UID:10005710-1813104000-1813190399@brushhillchurch.org
SUMMARY:Loads of Love
DESCRIPTION:Sacred Sparks Ministry is a homeless ministry and outreach of Nashville Presbytery of the Cumberland. Loads of Love meets at Brush Hill Tuesday-Thursday to allow members of the ministry to wash clothes and share a meal together.
URL:https://brushhillchurch.org/event/loads-of-love-3/2027-06-16/
LOCATION:Brush Hill Cumberland Presbyterian Church\, 3705 Brush Hill Road\, Nashville\, TN\, 37216\, United States
CATEGORIES:Community Ministry
END:VEVENT
BEGIN:VEVENT
DTSTART;VALUE=DATE:20270617
DTEND;VALUE=DATE:20270618
DTSTAMP:20260419T205314
CREATED:20260416T222459Z
LAST-MODIFIED:20260416T222459Z
UID:10005711-1813190400-1813276799@brushhillchurch.org
SUMMARY:Loads of Love
DESCRIPTION:Sacred Sparks Ministry is a homeless ministry and outreach of Nashville Presbytery of the Cumberland. Loads of Love meets at Brush Hill Tuesday-Thursday to allow members of the ministry to wash clothes and share a meal together.
URL:https://brushhillchurch.org/event/loads-of-love-3/2027-06-17/
LOCATION:Brush Hill Cumberland Presbyterian Church\, 3705 Brush Hill Road\, Nashville\, TN\, 37216\, United States
CATEGORIES:Community Ministry
END:VEVENT
BEGIN:VEVENT
DTSTART;VALUE=DATE:20270622
DTEND;VALUE=DATE:20270623
DTSTAMP:20260419T205314
CREATED:20260416T222459Z
LAST-MODIFIED:20260416T222459Z
UID:10005712-1813622400-1813708799@brushhillchurch.org
SUMMARY:Loads of Love
DESCRIPTION:Sacred Sparks Ministry is a homeless ministry and outreach of Nashville Presbytery of the Cumberland. Loads of Love meets at Brush Hill Tuesday-Thursday to allow members of the ministry to wash clothes and share a meal together.
URL:https://brushhillchurch.org/event/loads-of-love-3/2027-06-22/
LOCATION:Brush Hill Cumberland Presbyterian Church\, 3705 Brush Hill Road\, Nashville\, TN\, 37216\, United States
CATEGORIES:Community Ministry
END:VEVENT
BEGIN:VEVENT
DTSTART;VALUE=DATE:20270623
DTEND;VALUE=DATE:20270624
DTSTAMP:20260419T205314
CREATED:20260416T222459Z
LAST-MODIFIED:20260416T222459Z
UID:10005713-1813708800-1813795199@brushhillchurch.org
SUMMARY:Loads of Love
DESCRIPTION:Sacred Sparks Ministry is a homeless ministry and outreach of Nashville Presbytery of the Cumberland. Loads of Love meets at Brush Hill Tuesday-Thursday to allow members of the ministry to wash clothes and share a meal together.
URL:https://brushhillchurch.org/event/loads-of-love-3/2027-06-23/
LOCATION:Brush Hill Cumberland Presbyterian Church\, 3705 Brush Hill Road\, Nashville\, TN\, 37216\, United States
CATEGORIES:Community Ministry
END:VEVENT
BEGIN:VEVENT
DTSTART;VALUE=DATE:20270624
DTEND;VALUE=DATE:20270625
DTSTAMP:20260419T205314
CREATED:20260416T222459Z
LAST-MODIFIED:20260416T222459Z
UID:10005714-1813795200-1813881599@brushhillchurch.org
SUMMARY:Loads of Love
DESCRIPTION:Sacred Sparks Ministry is a homeless ministry and outreach of Nashville Presbytery of the Cumberland. Loads of Love meets at Brush Hill Tuesday-Thursday to allow members of the ministry to wash clothes and share a meal together.
URL:https://brushhillchurch.org/event/loads-of-love-3/2027-06-24/
LOCATION:Brush Hill Cumberland Presbyterian Church\, 3705 Brush Hill Road\, Nashville\, TN\, 37216\, United States
CATEGORIES:Community Ministry
END:VEVENT
BEGIN:VEVENT
DTSTART;VALUE=DATE:20270629
DTEND;VALUE=DATE:20270630
DTSTAMP:20260419T205314
CREATED:20260416T222459Z
LAST-MODIFIED:20260416T222459Z
UID:10005715-1814227200-1814313599@brushhillchurch.org
SUMMARY:Loads of Love
DESCRIPTION:Sacred Sparks Ministry is a homeless ministry and outreach of Nashville Presbytery of the Cumberland. Loads of Love meets at Brush Hill Tuesday-Thursday to allow members of the ministry to wash clothes and share a meal together.
URL:https://brushhillchurch.org/event/loads-of-love-3/2027-06-29/
LOCATION:Brush Hill Cumberland Presbyterian Church\, 3705 Brush Hill Road\, Nashville\, TN\, 37216\, United States
CATEGORIES:Community Ministry
END:VEVENT
BEGIN:VEVENT
DTSTART;VALUE=DATE:20270630
DTEND;VALUE=DATE:20270701
DTSTAMP:20260419T205314
CREATED:20260416T222459Z
LAST-MODIFIED:20260416T222459Z
UID:10005716-1814313600-1814399999@brushhillchurch.org
SUMMARY:Loads of Love
DESCRIPTION:Sacred Sparks Ministry is a homeless ministry and outreach of Nashville Presbytery of the Cumberland. Loads of Love meets at Brush Hill Tuesday-Thursday to allow members of the ministry to wash clothes and share a meal together.
URL:https://brushhillchurch.org/event/loads-of-love-3/2027-06-30/
LOCATION:Brush Hill Cumberland Presbyterian Church\, 3705 Brush Hill Road\, Nashville\, TN\, 37216\, United States
CATEGORIES:Community Ministry
END:VEVENT
BEGIN:VEVENT
DTSTART;VALUE=DATE:20270701
DTEND;VALUE=DATE:20270702
DTSTAMP:20260419T205314
CREATED:20260416T222459Z
LAST-MODIFIED:20260416T222459Z
UID:10005717-1814400000-1814486399@brushhillchurch.org
SUMMARY:Loads of Love
DESCRIPTION:Sacred Sparks Ministry is a homeless ministry and outreach of Nashville Presbytery of the Cumberland. Loads of Love meets at Brush Hill Tuesday-Thursday to allow members of the ministry to wash clothes and share a meal together.
URL:https://brushhillchurch.org/event/loads-of-love-3/2027-07-01/
LOCATION:Brush Hill Cumberland Presbyterian Church\, 3705 Brush Hill Road\, Nashville\, TN\, 37216\, United States
CATEGORIES:Community Ministry
END:VEVENT
BEGIN:VEVENT
DTSTART;VALUE=DATE:20270706
DTEND;VALUE=DATE:20270707
DTSTAMP:20260419T205314
CREATED:20260416T222459Z
LAST-MODIFIED:20260416T222459Z
UID:10005718-1814832000-1814918399@brushhillchurch.org
SUMMARY:Loads of Love
DESCRIPTION:Sacred Sparks Ministry is a homeless ministry and outreach of Nashville Presbytery of the Cumberland. Loads of Love meets at Brush Hill Tuesday-Thursday to allow members of the ministry to wash clothes and share a meal together.
URL:https://brushhillchurch.org/event/loads-of-love-3/2027-07-06/
LOCATION:Brush Hill Cumberland Presbyterian Church\, 3705 Brush Hill Road\, Nashville\, TN\, 37216\, United States
CATEGORIES:Community Ministry
END:VEVENT
BEGIN:VEVENT
DTSTART;VALUE=DATE:20270707
DTEND;VALUE=DATE:20270708
DTSTAMP:20260419T205314
CREATED:20260416T222459Z
LAST-MODIFIED:20260416T222459Z
UID:10005719-1814918400-1815004799@brushhillchurch.org
SUMMARY:Loads of Love
DESCRIPTION:Sacred Sparks Ministry is a homeless ministry and outreach of Nashville Presbytery of the Cumberland. Loads of Love meets at Brush Hill Tuesday-Thursday to allow members of the ministry to wash clothes and share a meal together.
URL:https://brushhillchurch.org/event/loads-of-love-3/2027-07-07/
LOCATION:Brush Hill Cumberland Presbyterian Church\, 3705 Brush Hill Road\, Nashville\, TN\, 37216\, United States
CATEGORIES:Community Ministry
END:VEVENT
BEGIN:VEVENT
DTSTART;VALUE=DATE:20270708
DTEND;VALUE=DATE:20270709
DTSTAMP:20260419T205314
CREATED:20260416T222459Z
LAST-MODIFIED:20260416T222459Z
UID:10005720-1815004800-1815091199@brushhillchurch.org
SUMMARY:Loads of Love
DESCRIPTION:Sacred Sparks Ministry is a homeless ministry and outreach of Nashville Presbytery of the Cumberland. Loads of Love meets at Brush Hill Tuesday-Thursday to allow members of the ministry to wash clothes and share a meal together.
URL:https://brushhillchurch.org/event/loads-of-love-3/2027-07-08/
LOCATION:Brush Hill Cumberland Presbyterian Church\, 3705 Brush Hill Road\, Nashville\, TN\, 37216\, United States
CATEGORIES:Community Ministry
END:VEVENT
BEGIN:VEVENT
DTSTART;VALUE=DATE:20270713
DTEND;VALUE=DATE:20270714
DTSTAMP:20260419T205314
CREATED:20260416T222459Z
LAST-MODIFIED:20260416T222459Z
UID:10005721-1815436800-1815523199@brushhillchurch.org
SUMMARY:Loads of Love
DESCRIPTION:Sacred Sparks Ministry is a homeless ministry and outreach of Nashville Presbytery of the Cumberland. Loads of Love meets at Brush Hill Tuesday-Thursday to allow members of the ministry to wash clothes and share a meal together.
URL:https://brushhillchurch.org/event/loads-of-love-3/2027-07-13/
LOCATION:Brush Hill Cumberland Presbyterian Church\, 3705 Brush Hill Road\, Nashville\, TN\, 37216\, United States
CATEGORIES:Community Ministry
END:VEVENT
BEGIN:VEVENT
DTSTART;VALUE=DATE:20270714
DTEND;VALUE=DATE:20270715
DTSTAMP:20260419T205314
CREATED:20260416T222459Z
LAST-MODIFIED:20260416T222459Z
UID:10005722-1815523200-1815609599@brushhillchurch.org
SUMMARY:Loads of Love
DESCRIPTION:Sacred Sparks Ministry is a homeless ministry and outreach of Nashville Presbytery of the Cumberland. Loads of Love meets at Brush Hill Tuesday-Thursday to allow members of the ministry to wash clothes and share a meal together.
URL:https://brushhillchurch.org/event/loads-of-love-3/2027-07-14/
LOCATION:Brush Hill Cumberland Presbyterian Church\, 3705 Brush Hill Road\, Nashville\, TN\, 37216\, United States
CATEGORIES:Community Ministry
END:VEVENT
BEGIN:VEVENT
DTSTART;VALUE=DATE:20270715
DTEND;VALUE=DATE:20270716
DTSTAMP:20260419T205314
CREATED:20260416T222459Z
LAST-MODIFIED:20260416T222459Z
UID:10005723-1815609600-1815695999@brushhillchurch.org
SUMMARY:Loads of Love
DESCRIPTION:Sacred Sparks Ministry is a homeless ministry and outreach of Nashville Presbytery of the Cumberland. Loads of Love meets at Brush Hill Tuesday-Thursday to allow members of the ministry to wash clothes and share a meal together.
URL:https://brushhillchurch.org/event/loads-of-love-3/2027-07-15/
LOCATION:Brush Hill Cumberland Presbyterian Church\, 3705 Brush Hill Road\, Nashville\, TN\, 37216\, United States
CATEGORIES:Community Ministry
END:VEVENT
BEGIN:VEVENT
DTSTART;VALUE=DATE:20270720
DTEND;VALUE=DATE:20270721
DTSTAMP:20260419T205314
CREATED:20260416T222459Z
LAST-MODIFIED:20260416T222459Z
UID:10005724-1816041600-1816127999@brushhillchurch.org
SUMMARY:Loads of Love
DESCRIPTION:Sacred Sparks Ministry is a homeless ministry and outreach of Nashville Presbytery of the Cumberland. Loads of Love meets at Brush Hill Tuesday-Thursday to allow members of the ministry to wash clothes and share a meal together.
URL:https://brushhillchurch.org/event/loads-of-love-3/2027-07-20/
LOCATION:Brush Hill Cumberland Presbyterian Church\, 3705 Brush Hill Road\, Nashville\, TN\, 37216\, United States
CATEGORIES:Community Ministry
END:VEVENT
BEGIN:VEVENT
DTSTART;VALUE=DATE:20270721
DTEND;VALUE=DATE:20270722
DTSTAMP:20260419T205314
CREATED:20260416T222459Z
LAST-MODIFIED:20260416T222459Z
UID:10005725-1816128000-1816214399@brushhillchurch.org
SUMMARY:Loads of Love
DESCRIPTION:Sacred Sparks Ministry is a homeless ministry and outreach of Nashville Presbytery of the Cumberland. Loads of Love meets at Brush Hill Tuesday-Thursday to allow members of the ministry to wash clothes and share a meal together.
URL:https://brushhillchurch.org/event/loads-of-love-3/2027-07-21/
LOCATION:Brush Hill Cumberland Presbyterian Church\, 3705 Brush Hill Road\, Nashville\, TN\, 37216\, United States
CATEGORIES:Community Ministry
END:VEVENT
BEGIN:VEVENT
DTSTART;VALUE=DATE:20270722
DTEND;VALUE=DATE:20270723
DTSTAMP:20260419T205314
CREATED:20260416T222459Z
LAST-MODIFIED:20260416T222459Z
UID:10005726-1816214400-1816300799@brushhillchurch.org
SUMMARY:Loads of Love
DESCRIPTION:Sacred Sparks Ministry is a homeless ministry and outreach of Nashville Presbytery of the Cumberland. Loads of Love meets at Brush Hill Tuesday-Thursday to allow members of the ministry to wash clothes and share a meal together.
URL:https://brushhillchurch.org/event/loads-of-love-3/2027-07-22/
LOCATION:Brush Hill Cumberland Presbyterian Church\, 3705 Brush Hill Road\, Nashville\, TN\, 37216\, United States
CATEGORIES:Community Ministry
END:VEVENT
BEGIN:VEVENT
DTSTART;VALUE=DATE:20270727
DTEND;VALUE=DATE:20270728
DTSTAMP:20260419T205314
CREATED:20260416T222459Z
LAST-MODIFIED:20260416T222459Z
UID:10005727-1816646400-1816732799@brushhillchurch.org
SUMMARY:Loads of Love
DESCRIPTION:Sacred Sparks Ministry is a homeless ministry and outreach of Nashville Presbytery of the Cumberland. Loads of Love meets at Brush Hill Tuesday-Thursday to allow members of the ministry to wash clothes and share a meal together.
URL:https://brushhillchurch.org/event/loads-of-love-3/2027-07-27/
LOCATION:Brush Hill Cumberland Presbyterian Church\, 3705 Brush Hill Road\, Nashville\, TN\, 37216\, United States
CATEGORIES:Community Ministry
END:VEVENT
BEGIN:VEVENT
DTSTART;VALUE=DATE:20270728
DTEND;VALUE=DATE:20270729
DTSTAMP:20260419T205314
CREATED:20260416T222459Z
LAST-MODIFIED:20260416T222459Z
UID:10005728-1816732800-1816819199@brushhillchurch.org
SUMMARY:Loads of Love
DESCRIPTION:Sacred Sparks Ministry is a homeless ministry and outreach of Nashville Presbytery of the Cumberland. Loads of Love meets at Brush Hill Tuesday-Thursday to allow members of the ministry to wash clothes and share a meal together.
URL:https://brushhillchurch.org/event/loads-of-love-3/2027-07-28/
LOCATION:Brush Hill Cumberland Presbyterian Church\, 3705 Brush Hill Road\, Nashville\, TN\, 37216\, United States
CATEGORIES:Community Ministry
END:VEVENT
BEGIN:VEVENT
DTSTART;VALUE=DATE:20270729
DTEND;VALUE=DATE:20270730
DTSTAMP:20260419T205314
CREATED:20260416T222459Z
LAST-MODIFIED:20260416T222459Z
UID:10005729-1816819200-1816905599@brushhillchurch.org
SUMMARY:Loads of Love
DESCRIPTION:Sacred Sparks Ministry is a homeless ministry and outreach of Nashville Presbytery of the Cumberland. Loads of Love meets at Brush Hill Tuesday-Thursday to allow members of the ministry to wash clothes and share a meal together.
URL:https://brushhillchurch.org/event/loads-of-love-3/2027-07-29/
LOCATION:Brush Hill Cumberland Presbyterian Church\, 3705 Brush Hill Road\, Nashville\, TN\, 37216\, United States
CATEGORIES:Community Ministry
END:VEVENT
BEGIN:VEVENT
DTSTART;VALUE=DATE:20270803
DTEND;VALUE=DATE:20270804
DTSTAMP:20260419T205314
CREATED:20260416T222459Z
LAST-MODIFIED:20260416T222459Z
UID:10005730-1817251200-1817337599@brushhillchurch.org
SUMMARY:Loads of Love
DESCRIPTION:Sacred Sparks Ministry is a homeless ministry and outreach of Nashville Presbytery of the Cumberland. Loads of Love meets at Brush Hill Tuesday-Thursday to allow members of the ministry to wash clothes and share a meal together.
URL:https://brushhillchurch.org/event/loads-of-love-3/2027-08-03/
LOCATION:Brush Hill Cumberland Presbyterian Church\, 3705 Brush Hill Road\, Nashville\, TN\, 37216\, United States
CATEGORIES:Community Ministry
END:VEVENT
BEGIN:VEVENT
DTSTART;VALUE=DATE:20270804
DTEND;VALUE=DATE:20270805
DTSTAMP:20260419T205314
CREATED:20260416T222459Z
LAST-MODIFIED:20260416T222459Z
UID:10005731-1817337600-1817423999@brushhillchurch.org
SUMMARY:Loads of Love
DESCRIPTION:Sacred Sparks Ministry is a homeless ministry and outreach of Nashville Presbytery of the Cumberland. Loads of Love meets at Brush Hill Tuesday-Thursday to allow members of the ministry to wash clothes and share a meal together.
URL:https://brushhillchurch.org/event/loads-of-love-3/2027-08-04/
LOCATION:Brush Hill Cumberland Presbyterian Church\, 3705 Brush Hill Road\, Nashville\, TN\, 37216\, United States
CATEGORIES:Community Ministry
END:VEVENT
BEGIN:VEVENT
DTSTART;VALUE=DATE:20270805
DTEND;VALUE=DATE:20270806
DTSTAMP:20260419T205314
CREATED:20260416T222459Z
LAST-MODIFIED:20260416T222459Z
UID:10005732-1817424000-1817510399@brushhillchurch.org
SUMMARY:Loads of Love
DESCRIPTION:Sacred Sparks Ministry is a homeless ministry and outreach of Nashville Presbytery of the Cumberland. Loads of Love meets at Brush Hill Tuesday-Thursday to allow members of the ministry to wash clothes and share a meal together.
URL:https://brushhillchurch.org/event/loads-of-love-3/2027-08-05/
LOCATION:Brush Hill Cumberland Presbyterian Church\, 3705 Brush Hill Road\, Nashville\, TN\, 37216\, United States
CATEGORIES:Community Ministry
END:VEVENT
BEGIN:VEVENT
DTSTART;VALUE=DATE:20270810
DTEND;VALUE=DATE:20270811
DTSTAMP:20260419T205314
CREATED:20260416T222459Z
LAST-MODIFIED:20260416T222459Z
UID:10005733-1817856000-1817942399@brushhillchurch.org
SUMMARY:Loads of Love
DESCRIPTION:Sacred Sparks Ministry is a homeless ministry and outreach of Nashville Presbytery of the Cumberland. Loads of Love meets at Brush Hill Tuesday-Thursday to allow members of the ministry to wash clothes and share a meal together.
URL:https://brushhillchurch.org/event/loads-of-love-3/2027-08-10/
LOCATION:Brush Hill Cumberland Presbyterian Church\, 3705 Brush Hill Road\, Nashville\, TN\, 37216\, United States
CATEGORIES:Community Ministry
END:VEVENT
BEGIN:VEVENT
DTSTART;VALUE=DATE:20270811
DTEND;VALUE=DATE:20270812
DTSTAMP:20260419T205314
CREATED:20260416T222459Z
LAST-MODIFIED:20260416T222459Z
UID:10005734-1817942400-1818028799@brushhillchurch.org
SUMMARY:Loads of Love
DESCRIPTION:Sacred Sparks Ministry is a homeless ministry and outreach of Nashville Presbytery of the Cumberland. Loads of Love meets at Brush Hill Tuesday-Thursday to allow members of the ministry to wash clothes and share a meal together.
URL:https://brushhillchurch.org/event/loads-of-love-3/2027-08-11/
LOCATION:Brush Hill Cumberland Presbyterian Church\, 3705 Brush Hill Road\, Nashville\, TN\, 37216\, United States
CATEGORIES:Community Ministry
END:VEVENT
BEGIN:VEVENT
DTSTART;VALUE=DATE:20270812
DTEND;VALUE=DATE:20270813
DTSTAMP:20260419T205314
CREATED:20260416T222459Z
LAST-MODIFIED:20260416T222459Z
UID:10005735-1818028800-1818115199@brushhillchurch.org
SUMMARY:Loads of Love
DESCRIPTION:Sacred Sparks Ministry is a homeless ministry and outreach of Nashville Presbytery of the Cumberland. Loads of Love meets at Brush Hill Tuesday-Thursday to allow members of the ministry to wash clothes and share a meal together.
URL:https://brushhillchurch.org/event/loads-of-love-3/2027-08-12/
LOCATION:Brush Hill Cumberland Presbyterian Church\, 3705 Brush Hill Road\, Nashville\, TN\, 37216\, United States
CATEGORIES:Community Ministry
END:VEVENT
BEGIN:VEVENT
DTSTART;VALUE=DATE:20270817
DTEND;VALUE=DATE:20270818
DTSTAMP:20260419T205315
CREATED:20260416T222459Z
LAST-MODIFIED:20260416T222459Z
UID:10005736-1818460800-1818547199@brushhillchurch.org
SUMMARY:Loads of Love
DESCRIPTION:Sacred Sparks Ministry is a homeless ministry and outreach of Nashville Presbytery of the Cumberland. Loads of Love meets at Brush Hill Tuesday-Thursday to allow members of the ministry to wash clothes and share a meal together.
URL:https://brushhillchurch.org/event/loads-of-love-3/2027-08-17/
LOCATION:Brush Hill Cumberland Presbyterian Church\, 3705 Brush Hill Road\, Nashville\, TN\, 37216\, United States
CATEGORIES:Community Ministry
END:VEVENT
BEGIN:VEVENT
DTSTART;VALUE=DATE:20270818
DTEND;VALUE=DATE:20270819
DTSTAMP:20260419T205315
CREATED:20260416T222459Z
LAST-MODIFIED:20260416T222459Z
UID:10005737-1818547200-1818633599@brushhillchurch.org
SUMMARY:Loads of Love
DESCRIPTION:Sacred Sparks Ministry is a homeless ministry and outreach of Nashville Presbytery of the Cumberland. Loads of Love meets at Brush Hill Tuesday-Thursday to allow members of the ministry to wash clothes and share a meal together.
URL:https://brushhillchurch.org/event/loads-of-love-3/2027-08-18/
LOCATION:Brush Hill Cumberland Presbyterian Church\, 3705 Brush Hill Road\, Nashville\, TN\, 37216\, United States
CATEGORIES:Community Ministry
END:VEVENT
BEGIN:VEVENT
DTSTART;VALUE=DATE:20270819
DTEND;VALUE=DATE:20270820
DTSTAMP:20260419T205315
CREATED:20260416T222459Z
LAST-MODIFIED:20260416T222459Z
UID:10005738-1818633600-1818719999@brushhillchurch.org
SUMMARY:Loads of Love
DESCRIPTION:Sacred Sparks Ministry is a homeless ministry and outreach of Nashville Presbytery of the Cumberland. Loads of Love meets at Brush Hill Tuesday-Thursday to allow members of the ministry to wash clothes and share a meal together.
URL:https://brushhillchurch.org/event/loads-of-love-3/2027-08-19/
LOCATION:Brush Hill Cumberland Presbyterian Church\, 3705 Brush Hill Road\, Nashville\, TN\, 37216\, United States
CATEGORIES:Community Ministry
END:VEVENT
END:VCALENDAR