BEGIN:VCALENDAR
VERSION:2.0
PRODID:-//Brush Hill Cumberland Presbyterian Church - ECPv6.15.20//NONSGML v1.0//EN
CALSCALE:GREGORIAN
METHOD:PUBLISH
X-ORIGINAL-URL:https://brushhillchurch.org
X-WR-CALDESC:Events for Brush Hill Cumberland Presbyterian Church
REFRESH-INTERVAL;VALUE=DURATION:PT1H
X-Robots-Tag:noindex
X-PUBLISHED-TTL:PT1H
BEGIN:VTIMEZONE
TZID:America/Chicago
BEGIN:DAYLIGHT
TZOFFSETFROM:-0600
TZOFFSETTO:-0500
TZNAME:CDT
DTSTART:20200308T080000
END:DAYLIGHT
BEGIN:STANDARD
TZOFFSETFROM:-0500
TZOFFSETTO:-0600
TZNAME:CST
DTSTART:20201101T070000
END:STANDARD
BEGIN:DAYLIGHT
TZOFFSETFROM:-0600
TZOFFSETTO:-0500
TZNAME:CDT
DTSTART:20210314T080000
END:DAYLIGHT
BEGIN:STANDARD
TZOFFSETFROM:-0500
TZOFFSETTO:-0600
TZNAME:CST
DTSTART:20211107T070000
END:STANDARD
BEGIN:DAYLIGHT
TZOFFSETFROM:-0600
TZOFFSETTO:-0500
TZNAME:CDT
DTSTART:20220313T080000
END:DAYLIGHT
BEGIN:STANDARD
TZOFFSETFROM:-0500
TZOFFSETTO:-0600
TZNAME:CST
DTSTART:20221106T070000
END:STANDARD
END:VTIMEZONE
BEGIN:VEVENT
DTSTART;TZID=America/Chicago:20210926T170000
DTEND;TZID=America/Chicago:20210926T183000
DTSTAMP:20260419T071247
CREATED:20210916T200927Z
LAST-MODIFIED:20210916T200927Z
UID:10002798-1632675600-1632681000@brushhillchurch.org
SUMMARY:Youth Group at St. Luke
DESCRIPTION:The youth group will meet at St. Luke CP Church in September.
URL:https://brushhillchurch.org/event/youth-group-at-st-luke/2021-09-26/
LOCATION:St. Luke Cumberland Presbyterian Church\, 901 West Old Hickory Boulevard\, Nashville\, TN\, 37207\, United States
CATEGORIES:Youth
END:VEVENT
BEGIN:VEVENT
DTSTART;TZID=America/Chicago:20210919T170000
DTEND;TZID=America/Chicago:20210919T183000
DTSTAMP:20260419T071247
CREATED:20210916T200927Z
LAST-MODIFIED:20210916T200927Z
UID:10002797-1632070800-1632076200@brushhillchurch.org
SUMMARY:Youth Group at St. Luke
DESCRIPTION:The youth group will meet at St. Luke CP Church in September.
URL:https://brushhillchurch.org/event/youth-group-at-st-luke/2021-09-19/
LOCATION:St. Luke Cumberland Presbyterian Church\, 901 West Old Hickory Boulevard\, Nashville\, TN\, 37207\, United States
CATEGORIES:Youth
END:VEVENT
END:VCALENDAR